BEGIN:VCALENDAR
VERSION:2.0
PRODID:-//Duncan Supply - ECPv6.15.15//NONSGML v1.0//EN
CALSCALE:GREGORIAN
METHOD:PUBLISH
X-ORIGINAL-URL:https://duncansupply.com
X-WR-CALDESC:Events for Duncan Supply
REFRESH-INTERVAL;VALUE=DURATION:PT1H
X-Robots-Tag:noindex
X-PUBLISHED-TTL:PT1H
BEGIN:VTIMEZONE
TZID:UTC
BEGIN:STANDARD
TZOFFSETFROM:+0000
TZOFFSETTO:+0000
TZNAME:UTC
DTSTART:20230101T000000
END:STANDARD
END:VTIMEZONE
BEGIN:VEVENT
DTSTART;TZID=UTC:20240306T110000
DTEND;TZID=UTC:20240306T140000
DTSTAMP:20260421T141843
CREATED:20240207T140608Z
LAST-MODIFIED:20240207T140608Z
UID:6892-1709722800-1709733600@duncansupply.com
SUMMARY:iO HVAC Controls Counter Day – Indianapolis
DESCRIPTION:
URL:https://duncansupply.com/event/io-hvac-controls-counter-day-indianapolis-2/
LOCATION:Indianapolis Home Office\, 910 N Illinois St\, Indianapolis\, IN\, 46204\, United States
CATEGORIES:Counter Days
ORGANIZER;CN="Duncan Supply Company":MAILTO:training@duncansupply.com
END:VEVENT
BEGIN:VEVENT
DTSTART;TZID=UTC:20240306T163000
DTEND;TZID=UTC:20240306T193000
DTSTAMP:20260421T141843
CREATED:20240118T142107Z
LAST-MODIFIED:20240118T142107Z
UID:6797-1709742600-1709753400@duncansupply.com
SUMMARY:Scotsman Service School Course – Fort Wayne
DESCRIPTION:*** Scotsman Service School Course ***\nWednesday\, March 6th\, 2024 – Fort Wayne\nTime: 4:30 PM – 7:30 PM  \n  $50.00 per attendee  \nCLICK HERE to download flyer OR \n   CLICK HERE to register online
URL:https://duncansupply.com/event/scotsman-service-school-course-fort-wayne/
LOCATION:Fort Wayne Distribution Center\, 3310 Congressional Pkwy\, Fort Wayne\, IN\, 46808\, United States
CATEGORIES:Refrigeration Training
ORGANIZER;CN="Duncan Supply Company":MAILTO:training@duncansupply.com
END:VEVENT
END:VCALENDAR