BEGIN:VCALENDAR
VERSION:2.0
PRODID:-//Duncan Supply - ECPv6.15.20//NONSGML v1.0//EN
CALSCALE:GREGORIAN
METHOD:PUBLISH
X-WR-CALNAME:Duncan Supply
X-ORIGINAL-URL:https://duncansupply.com
X-WR-CALDESC:Events for Duncan Supply
REFRESH-INTERVAL;VALUE=DURATION:PT1H
X-Robots-Tag:noindex
X-PUBLISHED-TTL:PT1H
BEGIN:VTIMEZONE
TZID:UTC
BEGIN:STANDARD
TZOFFSETFROM:+0000
TZOFFSETTO:+0000
TZNAME:UTC
DTSTART:20210101T000000
END:STANDARD
END:VTIMEZONE
BEGIN:VEVENT
DTSTART;TZID=UTC:20221114T110000
DTEND;TZID=UTC:20221114T140000
DTSTAMP:20260424T170759
CREATED:20221020T152357Z
LAST-MODIFIED:20221020T152357Z
UID:5797-1668423600-1668434400@duncansupply.com
SUMMARY:Modine Counter Day - Muncie
DESCRIPTION:
URL:https://duncansupply.com/event/modine-counter-day-muncie/
LOCATION:Muncie Branch\, 601 East 15th St\, Muncie\, IN\, 47302\, United States
CATEGORIES:Counter Days
END:VEVENT
BEGIN:VEVENT
DTSTART;TZID=UTC:20221115T110000
DTEND;TZID=UTC:20221115T140000
DTSTAMP:20260424T170759
CREATED:20221020T151952Z
LAST-MODIFIED:20221020T151952Z
UID:5792-1668510000-1668520800@duncansupply.com
SUMMARY:Modine Counter Day - Greensburg
DESCRIPTION:
URL:https://duncansupply.com/event/modine-counter-day-greensburg/
LOCATION:Greensburg Branch\, 1575 N Commerce East Dr\, Greensburg\, 47240\, United States
CATEGORIES:Counter Days
END:VEVENT
BEGIN:VEVENT
DTSTART;TZID=UTC:20221116T110000
DTEND;TZID=UTC:20221116T140000
DTSTAMP:20260424T170759
CREATED:20221020T151714Z
LAST-MODIFIED:20221020T151714Z
UID:5789-1668596400-1668607200@duncansupply.com
SUMMARY:Modine Counter Day - Plainfield
DESCRIPTION:
URL:https://duncansupply.com/event/modine-counter-day-plainfield/
LOCATION:Plainfield Distribution Center\, 2191 Airwest Blvd\, Plainfield\, IN\, 46168\, United States
CATEGORIES:Counter Days
END:VEVENT
BEGIN:VEVENT
DTSTART;TZID=UTC:20221117T110000
DTEND;TZID=UTC:20221117T140000
DTSTAMP:20260424T170759
CREATED:20221020T151559Z
LAST-MODIFIED:20221020T151559Z
UID:5786-1668682800-1668693600@duncansupply.com
SUMMARY:Modine Counter Day - Champaign
DESCRIPTION:
URL:https://duncansupply.com/event/modine-counter-day-champaign/
LOCATION:Champaign Branch\, 44 East Logan St\, Champaign\, IL\, 61820\, United States
CATEGORIES:Counter Days
END:VEVENT
BEGIN:VEVENT
DTSTART;TZID=UTC:20221122T110000
DTEND;TZID=UTC:20221122T140000
DTSTAMP:20260424T170759
CREATED:20221020T151220Z
LAST-MODIFIED:20221020T151220Z
UID:5783-1669114800-1669125600@duncansupply.com
SUMMARY:Modine Counter Day - Mishawaka
DESCRIPTION:
URL:https://duncansupply.com/event/modine-counter-day-mishawaka/
LOCATION:Mishawaka Branch\, 56540 Twin Branch Dr\, Mishawaka\, IN\, 46545\, United States
CATEGORIES:Counter Days
END:VEVENT
END:VCALENDAR