BEGIN:VCALENDAR
VERSION:2.0
PRODID:-//Duncan Supply - ECPv6.15.15//NONSGML v1.0//EN
CALSCALE:GREGORIAN
METHOD:PUBLISH
X-WR-CALNAME:Duncan Supply
X-ORIGINAL-URL:https://duncansupply.com
X-WR-CALDESC:Events for Duncan Supply
REFRESH-INTERVAL;VALUE=DURATION:PT1H
X-Robots-Tag:noindex
X-PUBLISHED-TTL:PT1H
BEGIN:VTIMEZONE
TZID:UTC
BEGIN:STANDARD
TZOFFSETFROM:+0000
TZOFFSETTO:+0000
TZNAME:UTC
DTSTART:20220101T000000
END:STANDARD
END:VTIMEZONE
BEGIN:VEVENT
DTSTART;TZID=UTC:20230502T100000
DTEND;TZID=UTC:20230502T140000
DTSTAMP:20260423T230359
CREATED:20230222T153938Z
LAST-MODIFIED:20230222T153938Z
UID:6264-1683021600-1683036000@duncansupply.com
SUMMARY:JB Vacuum Pump Clinic – Muncie
DESCRIPTION:
URL:https://duncansupply.com/event/jb-vacuum-pump-clinic-muncie-2/
LOCATION:Muncie Branch\, 601 East 15th St\, Muncie\, IN\, 47302\, United States
CATEGORIES:Counter Days
ORGANIZER;CN="Duncan Supply Company":MAILTO:training@duncansupply.com
END:VEVENT
BEGIN:VEVENT
DTSTART;TZID=UTC:20230503T090000
DTEND;TZID=UTC:20230503T120000
DTSTAMP:20260423T230359
CREATED:20230222T154232Z
LAST-MODIFIED:20230222T154232Z
UID:6271-1683104400-1683115200@duncansupply.com
SUMMARY:JB Vacuum Pump Clinic – Champaign
DESCRIPTION:
URL:https://duncansupply.com/event/jb-vacuum-pump-clinic-champaign-2/
LOCATION:Champaign Branch\, 44 East Logan St\, Champaign\, IL\, 61820\, United States
CATEGORIES:Counter Days
ORGANIZER;CN="Duncan Supply Company":MAILTO:training@duncansupply.com
END:VEVENT
BEGIN:VEVENT
DTSTART;TZID=UTC:20230504T110000
DTEND;TZID=UTC:20230504T140000
DTSTAMP:20260423T230359
CREATED:20230227T171343Z
LAST-MODIFIED:20230227T171343Z
UID:6296-1683198000-1683208800@duncansupply.com
SUMMARY:HBB Pro Sales Counter Day – Greensburg
DESCRIPTION:
URL:https://duncansupply.com/event/hbb-pro-sales-counter-day-greensburg/
LOCATION:Greensburg Branch\, 1575 N Commerce East Dr\, Greensburg\, 47240\, United States
CATEGORIES:Counter Days
ORGANIZER;CN="Duncan Supply Company":MAILTO:training@duncansupply.com
END:VEVENT
BEGIN:VEVENT
DTSTART;TZID=UTC:20230512T100000
DTEND;TZID=UTC:20230512T140000
DTSTAMP:20260423T230359
CREATED:20230222T153412Z
LAST-MODIFIED:20230222T153412Z
UID:6255-1683885600-1683900000@duncansupply.com
SUMMARY:JB Vacuum Pump Clinic – Indianapolis
DESCRIPTION:
URL:https://duncansupply.com/event/jb-vacuum-pump-clinic-indianapolis-3/
LOCATION:Indianapolis Home Office\, 910 N Illinois St\, Indianapolis\, IN\, 46204\, United States
CATEGORIES:Counter Days
ORGANIZER;CN="Duncan Supply Company":MAILTO:training@duncansupply.com
END:VEVENT
BEGIN:VEVENT
DTSTART;TZID=UTC:20230512T100000
DTEND;TZID=UTC:20230512T150000
DTSTAMP:20260423T230359
CREATED:20230324T141555Z
LAST-MODIFIED:20230324T142224Z
UID:6391-1683885600-1683903600@duncansupply.com
SUMMARY:Customer Appreciation Day - Kokomo
DESCRIPTION:
URL:https://duncansupply.com/event/customer-appreciation-day-kokomo-2/
LOCATION:Kokomo Branch\, 1100 S. Ohio St\, Kokomo\, IN\, 46902\, United States
CATEGORIES:Counter Days
ORGANIZER;CN="Duncan Supply Company":MAILTO:training@duncansupply.com
END:VEVENT
BEGIN:VEVENT
DTSTART;TZID=UTC:20230517T090000
DTEND;TZID=UTC:20230517T110000
DTSTAMP:20260423T230359
CREATED:20230317T155445Z
LAST-MODIFIED:20230317T155445Z
UID:6357-1684314000-1684321200@duncansupply.com
SUMMARY:INFICON Test & Tune Day – Indianapolis
DESCRIPTION:
URL:https://duncansupply.com/event/inficon-test-tune-day-indianapolis/
LOCATION:Indianapolis Home Office\, 910 N Illinois St\, Indianapolis\, IN\, 46204\, United States
CATEGORIES:Counter Days
ORGANIZER;CN="Duncan Supply Company":MAILTO:training@duncansupply.com
END:VEVENT
BEGIN:VEVENT
DTSTART;TZID=UTC:20230518T090000
DTEND;TZID=UTC:20230518T110000
DTSTAMP:20260423T230359
CREATED:20230317T155219Z
LAST-MODIFIED:20230317T155219Z
UID:6353-1684400400-1684407600@duncansupply.com
SUMMARY:INFICON Test & Tune Day – Bloomington
DESCRIPTION:
URL:https://duncansupply.com/event/inficon-test-tune-day-bloomington/
LOCATION:Bloomington Branch\, 1204 N Loesch Rd\, Bloomington\, IN\, 47404\, United States
CATEGORIES:Counter Days
ORGANIZER;CN="Duncan Supply Company":MAILTO:training@duncansupply.com
END:VEVENT
BEGIN:VEVENT
DTSTART;TZID=UTC:20230519T100000
DTEND;TZID=UTC:20230519T140000
DTSTAMP:20260423T230359
CREATED:20230222T154153Z
LAST-MODIFIED:20230222T154153Z
UID:6269-1684490400-1684504800@duncansupply.com
SUMMARY:JB Vacuum Pump Clinic – Terre Haute
DESCRIPTION:
URL:https://duncansupply.com/event/jb-vacuum-pump-clinic-terre-haute-3/
LOCATION:Terre Haute Branch\, 1000 E. Ohio St\, Terre Haute\, IN\, 47808\, United States
CATEGORIES:Counter Days
ORGANIZER;CN="Duncan Supply Company":MAILTO:training@duncansupply.com
END:VEVENT
BEGIN:VEVENT
DTSTART;TZID=UTC:20230523T090000
DTEND;TZID=UTC:20230523T110000
DTSTAMP:20260423T230359
CREATED:20230317T155338Z
LAST-MODIFIED:20230317T155338Z
UID:6355-1684832400-1684839600@duncansupply.com
SUMMARY:INFICON Test & Tune Day – Fort Wayne
DESCRIPTION:
URL:https://duncansupply.com/event/inficon-test-tune-day-fort-wayne/
LOCATION:Fort Wayne Distribution Center\, 3310 Congressional Pkwy\, Fort Wayne\, IN\, 46808\, United States
CATEGORIES:Counter Days
ORGANIZER;CN="Duncan Supply Company":MAILTO:training@duncansupply.com
END:VEVENT
BEGIN:VEVENT
DTSTART;TZID=UTC:20230524T090000
DTEND;TZID=UTC:20230524T110000
DTSTAMP:20260423T230359
CREATED:20230317T155536Z
LAST-MODIFIED:20230317T155536Z
UID:6359-1684918800-1684926000@duncansupply.com
SUMMARY:INFICON Test & Tune Day – Mishawaka
DESCRIPTION:
URL:https://duncansupply.com/event/inficon-test-tune-day-mishawaka/
LOCATION:Mishawaka Branch\, 56540 Twin Branch Dr\, Mishawaka\, IN\, 46545\, United States
CATEGORIES:Counter Days
ORGANIZER;CN="Duncan Supply Company":MAILTO:training@duncansupply.com
END:VEVENT
BEGIN:VEVENT
DTSTART;TZID=UTC:20230524T100000
DTEND;TZID=UTC:20230524T140000
DTSTAMP:20260423T230359
CREATED:20230222T153201Z
LAST-MODIFIED:20230222T153201Z
UID:6252-1684922400-1684936800@duncansupply.com
SUMMARY:JB Vacuum Pump Clinic – Greensburg
DESCRIPTION:
URL:https://duncansupply.com/event/jb-vacuum-pump-clinic-greensburg/
LOCATION:Greensburg Branch\, 1575 N Commerce East Dr\, Greensburg\, 47240\, United States
CATEGORIES:Counter Days
ORGANIZER;CN="Duncan Supply Company":MAILTO:training@duncansupply.com
END:VEVENT
BEGIN:VEVENT
DTSTART;TZID=UTC:20230524T110000
DTEND;TZID=UTC:20230524T140000
DTSTAMP:20260423T230359
CREATED:20230515T153214Z
LAST-MODIFIED:20230515T153214Z
UID:6453-1684926000-1684936800@duncansupply.com
SUMMARY:Veto Pro Pac & Mars Counter Day - Muncie
DESCRIPTION:
URL:https://duncansupply.com/event/veto-pro-pac-mars-counter-day-muncie/
LOCATION:Muncie Branch\, 601 East 15th St\, Muncie\, IN\, 47302\, United States
CATEGORIES:Counter Days
ORGANIZER;CN="Duncan Supply Company":MAILTO:training@duncansupply.com
END:VEVENT
BEGIN:VEVENT
DTSTART;TZID=UTC:20230525T090000
DTEND;TZID=UTC:20230525T110000
DTSTAMP:20260423T230359
CREATED:20230317T155620Z
LAST-MODIFIED:20230317T155620Z
UID:6361-1685005200-1685012400@duncansupply.com
SUMMARY:INFICON Test & Tune Day – Muncie
DESCRIPTION:
URL:https://duncansupply.com/event/inficon-test-tune-day-muncie/
LOCATION:Muncie Branch\, 601 East 15th St\, Muncie\, IN\, 47302\, United States
CATEGORIES:Counter Days
ORGANIZER;CN="Duncan Supply Company":MAILTO:training@duncansupply.com
END:VEVENT
BEGIN:VEVENT
DTSTART;TZID=UTC:20230525T100000
DTEND;TZID=UTC:20230525T140000
DTSTAMP:20260423T230359
CREATED:20230222T153503Z
LAST-MODIFIED:20230222T153503Z
UID:6257-1685008800-1685023200@duncansupply.com
SUMMARY:JB Vacuum Pump Clinic – Kokomo
DESCRIPTION:
URL:https://duncansupply.com/event/jb-vacuum-pump-clinic-kokomo-2/
LOCATION:Kokomo Branch\, 1100 S. Ohio St\, Kokomo\, IN\, 46902\, United States
CATEGORIES:Counter Days
ORGANIZER;CN="Duncan Supply Company":MAILTO:training@duncansupply.com
END:VEVENT
END:VCALENDAR