BEGIN:VCALENDAR
VERSION:2.0
PRODID:-//Duncan Supply - ECPv6.15.15//NONSGML v1.0//EN
CALSCALE:GREGORIAN
METHOD:PUBLISH
X-WR-CALNAME:Duncan Supply
X-ORIGINAL-URL:https://duncansupply.com
X-WR-CALDESC:Events for Duncan Supply
REFRESH-INTERVAL;VALUE=DURATION:PT1H
X-Robots-Tag:noindex
X-PUBLISHED-TTL:PT1H
BEGIN:VTIMEZONE
TZID:UTC
BEGIN:STANDARD
TZOFFSETFROM:+0000
TZOFFSETTO:+0000
TZNAME:UTC
DTSTART:20230101T000000
END:STANDARD
END:VTIMEZONE
BEGIN:VEVENT
DTSTART;TZID=UTC:20240402T100000
DTEND;TZID=UTC:20240402T140000
DTSTAMP:20260422T181747
CREATED:20240116T153830Z
LAST-MODIFIED:20240116T153830Z
UID:6775-1712052000-1712066400@duncansupply.com
SUMMARY:JB Vacuum Pump Clinic – Lafayette
DESCRIPTION:
URL:https://duncansupply.com/event/jb-vacuum-pump-clinic-lafayette-3/
LOCATION:Lafayette Branch\, 510 Morland Dr\, Lafayette\, IN\, 47905\, United States
CATEGORIES:Counter Days
ORGANIZER;CN="Duncan Supply Company":MAILTO:training@duncansupply.com
END:VEVENT
BEGIN:VEVENT
DTSTART;TZID=UTC:20240403T100000
DTEND;TZID=UTC:20240403T140000
DTSTAMP:20260422T181747
CREATED:20240116T154621Z
LAST-MODIFIED:20240116T154621Z
UID:6780-1712138400-1712152800@duncansupply.com
SUMMARY:JB Vacuum Pump Clinic – Mishawaka
DESCRIPTION:
URL:https://duncansupply.com/event/jb-vacuum-pump-clinic-mishawaka-2/
LOCATION:Mishawaka Branch\, 56540 Twin Branch Dr\, Mishawaka\, IN\, 46545\, United States
CATEGORIES:Counter Days
ORGANIZER;CN="Duncan Supply Company":MAILTO:training@duncansupply.com
END:VEVENT
BEGIN:VEVENT
DTSTART;TZID=UTC:20240403T110000
DTEND;TZID=UTC:20240403T140000
DTSTAMP:20260422T181747
CREATED:20240202T151631Z
LAST-MODIFIED:20240202T151631Z
UID:6889-1712142000-1712152800@duncansupply.com
SUMMARY:Nu-Calgon Counter Day – Plainfield
DESCRIPTION:
URL:https://duncansupply.com/event/nu-calgon-counter-day-plainfield-4/
LOCATION:Plainfield Distribution Center\, 2191 Airwest Blvd\, Plainfield\, IN\, 46168\, United States
CATEGORIES:Counter Days
ORGANIZER;CN="Duncan Supply Company":MAILTO:training@duncansupply.com
END:VEVENT
BEGIN:VEVENT
DTSTART;TZID=UTC:20240404T100000
DTEND;TZID=UTC:20240404T140000
DTSTAMP:20260422T181747
CREATED:20240116T153409Z
LAST-MODIFIED:20240116T153409Z
UID:6767-1712224800-1712239200@duncansupply.com
SUMMARY:JB Vacuum Pump Clinic – Fort Wayne
DESCRIPTION:
URL:https://duncansupply.com/event/jb-vacuum-pump-clinic-fort-wayne-3/
LOCATION:Fort Wayne Distribution Center\, 3310 Congressional Pkwy\, Fort Wayne\, IN\, 46808\, United States
CATEGORIES:Counter Days
ORGANIZER;CN="Duncan Supply Company":MAILTO:training@duncansupply.com
END:VEVENT
BEGIN:VEVENT
DTSTART;TZID=UTC:20240416T100000
DTEND;TZID=UTC:20240416T140000
DTSTAMP:20260422T181747
CREATED:20240116T153711Z
LAST-MODIFIED:20240116T153741Z
UID:6773-1713261600-1713276000@duncansupply.com
SUMMARY:JB Vacuum Pump Clinic – Kokomo
DESCRIPTION:
URL:https://duncansupply.com/event/jb-vacuum-pump-clinic-kokomo-3/
LOCATION:Kokomo Branch\, 1100 S. Ohio St\, Kokomo\, IN\, 46902\, United States
CATEGORIES:Counter Days
ORGANIZER;CN="Duncan Supply Company":MAILTO:training@duncansupply.com
END:VEVENT
BEGIN:VEVENT
DTSTART;TZID=UTC:20240416T110000
DTEND;TZID=UTC:20240416T140000
DTSTAMP:20260422T181747
CREATED:20240220T161133Z
LAST-MODIFIED:20240220T161133Z
UID:6910-1713265200-1713276000@duncansupply.com
SUMMARY:Inficon Counter Day – Indianapolis
DESCRIPTION:
URL:https://duncansupply.com/event/inficon-counter-day-indianapolis/
LOCATION:Indianapolis Home Office\, 910 N Illinois St\, Indianapolis\, IN\, 46204\, United States
CATEGORIES:Counter Days
ORGANIZER;CN="Duncan Supply Company":MAILTO:training@duncansupply.com
END:VEVENT
BEGIN:VEVENT
DTSTART;TZID=UTC:20240417T100000
DTEND;TZID=UTC:20240417T140000
DTSTAMP:20260422T181747
CREATED:20240116T154721Z
LAST-MODIFIED:20240116T154721Z
UID:6782-1713348000-1713362400@duncansupply.com
SUMMARY:JB Vacuum Pump Clinic – Muncie
DESCRIPTION:
URL:https://duncansupply.com/event/jb-vacuum-pump-clinic-muncie-3/
LOCATION:Muncie Branch\, 601 East 15th St\, Muncie\, IN\, 47302\, United States
CATEGORIES:Counter Days
ORGANIZER;CN="Duncan Supply Company":MAILTO:training@duncansupply.com
END:VEVENT
BEGIN:VEVENT
DTSTART;TZID=UTC:20240424T110000
DTEND;TZID=UTC:20240424T140000
DTSTAMP:20260422T181747
CREATED:20240223T141733Z
LAST-MODIFIED:20240226T144636Z
UID:6916-1713956400-1713967200@duncansupply.com
SUMMARY:Air Scrubber Counter Day – Plainfield
DESCRIPTION:
URL:https://duncansupply.com/event/air-scrubber-counter-day-plainfield/
LOCATION:Plainfield Distribution Center\, 2191 Airwest Blvd\, Plainfield\, IN\, 46168\, United States
CATEGORIES:Counter Days
ORGANIZER;CN="Duncan Supply Company":MAILTO:training@duncansupply.com
END:VEVENT
BEGIN:VEVENT
DTSTART;TZID=UTC:20240425T110000
DTEND;TZID=UTC:20240425T140000
DTSTAMP:20260422T181747
CREATED:20240209T145332Z
LAST-MODIFIED:20240209T152506Z
UID:6895-1714042800-1714053600@duncansupply.com
SUMMARY:Nu-Calgon Counter Day – Fort Wayne
DESCRIPTION:
URL:https://duncansupply.com/event/nu-calgon-counter-day-fort-wayne-3/
LOCATION:Fort Wayne Distribution Center\, 3310 Congressional Pkwy\, Fort Wayne\, IN\, 46808\, United States
CATEGORIES:Counter Days
ORGANIZER;CN="Duncan Supply Company":MAILTO:training@duncansupply.com
END:VEVENT
BEGIN:VEVENT
DTSTART;TZID=UTC:20240430T100000
DTEND;TZID=UTC:20240430T140000
DTSTAMP:20260422T181747
CREATED:20240116T153625Z
LAST-MODIFIED:20240116T153625Z
UID:6771-1714471200-1714485600@duncansupply.com
SUMMARY:JB Vacuum Pump Clinic – Indianapolis
DESCRIPTION:
URL:https://duncansupply.com/event/jb-vacuum-pump-clinic-indianapolis-4/
LOCATION:Indianapolis Home Office\, 910 N Illinois St\, Indianapolis\, IN\, 46204\, United States
CATEGORIES:Counter Days
ORGANIZER;CN="Duncan Supply Company":MAILTO:training@duncansupply.com
END:VEVENT
END:VCALENDAR