BEGIN:VCALENDAR
VERSION:2.0
PRODID:-//Duncan Supply - ECPv6.15.15//NONSGML v1.0//EN
CALSCALE:GREGORIAN
METHOD:PUBLISH
X-WR-CALNAME:Duncan Supply
X-ORIGINAL-URL:https://duncansupply.com
X-WR-CALDESC:Events for Duncan Supply
REFRESH-INTERVAL;VALUE=DURATION:PT1H
X-Robots-Tag:noindex
X-PUBLISHED-TTL:PT1H
BEGIN:VTIMEZONE
TZID:UTC
BEGIN:STANDARD
TZOFFSETFROM:+0000
TZOFFSETTO:+0000
TZNAME:UTC
DTSTART:20230101T000000
END:STANDARD
END:VTIMEZONE
BEGIN:VEVENT
DTSTART;TZID=UTC:20240501T100000
DTEND;TZID=UTC:20240501T140000
DTSTAMP:20260422T164441
CREATED:20240116T153533Z
LAST-MODIFIED:20240116T153533Z
UID:6769-1714557600-1714572000@duncansupply.com
SUMMARY:JB Vacuum Pump Clinic – Greensburg
DESCRIPTION:
URL:https://duncansupply.com/event/jb-vacuum-pump-clinic-greensburg-2/
LOCATION:Greensburg Branch\, 1575 N Commerce East Dr\, Greensburg\, 47240\, United States
CATEGORIES:Counter Days
ORGANIZER;CN="Duncan Supply Company":MAILTO:training@duncansupply.com
END:VEVENT
BEGIN:VEVENT
DTSTART;TZID=UTC:20240502T100000
DTEND;TZID=UTC:20240502T140000
DTSTAMP:20260422T164441
CREATED:20240116T153221Z
LAST-MODIFIED:20240116T153221Z
UID:6762-1714644000-1714658400@duncansupply.com
SUMMARY:JB Vacuum Pump Clinic – Cincinnati
DESCRIPTION:
URL:https://duncansupply.com/event/jb-vacuum-pump-clinic-cincinnati/
LOCATION:Cincinnati Distribution Center\, 7753 Union Centre Blvd\, Ste 100 West Chester\, OH 45011
CATEGORIES:Counter Days
ORGANIZER;CN="Duncan Supply Company":MAILTO:training@duncansupply.com
END:VEVENT
BEGIN:VEVENT
DTSTART;TZID=UTC:20240510T100000
DTEND;TZID=UTC:20240510T140000
DTSTAMP:20260422T164441
CREATED:20240116T154913Z
LAST-MODIFIED:20240116T154913Z
UID:6786-1715335200-1715349600@duncansupply.com
SUMMARY:JB Vacuum Pump Clinic – Terre Haute
DESCRIPTION:
URL:https://duncansupply.com/event/jb-vacuum-pump-clinic-terre-haute-4/
LOCATION:Terre Haute Branch\, 1000 E. Ohio St\, Terre Haute\, IN\, 47808\, United States
CATEGORIES:Counter Days
ORGANIZER;CN="Duncan Supply Company":MAILTO:training@duncansupply.com
END:VEVENT
BEGIN:VEVENT
DTSTART;TZID=UTC:20240510T110000
DTEND;TZID=UTC:20240510T140000
DTSTAMP:20260422T164441
CREATED:20240401T143354Z
LAST-MODIFIED:20240401T143354Z
UID:7049-1715338800-1715349600@duncansupply.com
SUMMARY:Aerus Airscrubber Counter Day – Muncie
DESCRIPTION:
URL:https://duncansupply.com/event/aerus-airscrubber-counter-day-muncie/
LOCATION:Muncie Branch\, 601 East 15th St\, Muncie\, IN\, 47302\, United States
CATEGORIES:Counter Days
ORGANIZER;CN="Duncan Supply Company":MAILTO:training@duncansupply.com
END:VEVENT
BEGIN:VEVENT
DTSTART;TZID=UTC:20240516T080000
DTEND;TZID=UTC:20240516T100000
DTSTAMP:20260422T164441
CREATED:20240325T135443Z
LAST-MODIFIED:20240424T161532Z
UID:7042-1715846400-1715853600@duncansupply.com
SUMMARY:Sporlan Counter Day – Indianapolis
DESCRIPTION:
URL:https://duncansupply.com/event/sporlan-counter-day-indianapolis/
LOCATION:Indianapolis Home Office\, 910 N Illinois St\, Indianapolis\, IN\, 46204\, United States
CATEGORIES:Counter Days
ORGANIZER;CN="Duncan Supply Company":MAILTO:training@duncansupply.com
END:VEVENT
BEGIN:VEVENT
DTSTART;TZID=UTC:20240522T100000
DTEND;TZID=UTC:20240522T140000
DTSTAMP:20260422T164441
CREATED:20240116T154820Z
LAST-MODIFIED:20240116T154820Z
UID:6784-1716372000-1716386400@duncansupply.com
SUMMARY:JB Vacuum Pump Clinic – Plainfield
DESCRIPTION:
URL:https://duncansupply.com/event/jb-vacuum-pump-clinic-plainfield-4/
LOCATION:Plainfield Distribution Center\, 2191 Airwest Blvd\, Plainfield\, IN\, 46168\, United States
CATEGORIES:Counter Days
ORGANIZER;CN="Duncan Supply Company":MAILTO:training@duncansupply.com
END:VEVENT
BEGIN:VEVENT
DTSTART;TZID=UTC:20240523T100000
DTEND;TZID=UTC:20240523T140000
DTSTAMP:20260422T164441
CREATED:20240116T152111Z
LAST-MODIFIED:20240116T152111Z
UID:6758-1716458400-1716472800@duncansupply.com
SUMMARY:JB Vacuum Pump Clinic – Bloomington
DESCRIPTION:
URL:https://duncansupply.com/event/jb-vacuum-pump-clinic-bloomington-3/
LOCATION:Bloomington Branch\, 1204 N Loesch Rd\, Bloomington\, IN\, 47404\, United States
CATEGORIES:Counter Days
ORGANIZER;CN="Duncan Supply Company":MAILTO:training@duncansupply.com
END:VEVENT
BEGIN:VEVENT
DTSTART;TZID=UTC:20240523T110000
DTEND;TZID=UTC:20240523T140000
DTSTAMP:20260422T164441
CREATED:20240220T155845Z
LAST-MODIFIED:20240222T141355Z
UID:6907-1716462000-1716472800@duncansupply.com
SUMMARY:Rectorseal Counter Day – Fort Wayne
DESCRIPTION:
URL:https://duncansupply.com/event/rectorseal-counter-day-fort-wayne/
LOCATION:Fort Wayne Distribution Center\, 3310 Congressional Pkwy\, Fort Wayne\, IN\, 46808\, United States
CATEGORIES:Counter Days
ORGANIZER;CN="Duncan Supply Company":MAILTO:training@duncansupply.com
END:VEVENT
END:VCALENDAR