BEGIN:VCALENDAR
VERSION:2.0
PRODID:-//Duncan Supply - ECPv6.15.15//NONSGML v1.0//EN
CALSCALE:GREGORIAN
METHOD:PUBLISH
X-ORIGINAL-URL:https://duncansupply.com
X-WR-CALDESC:Events for Duncan Supply
REFRESH-INTERVAL;VALUE=DURATION:PT1H
X-Robots-Tag:noindex
X-PUBLISHED-TTL:PT1H
BEGIN:VTIMEZONE
TZID:UTC
BEGIN:STANDARD
TZOFFSETFROM:+0000
TZOFFSETTO:+0000
TZNAME:UTC
DTSTART:20160101T000000
END:STANDARD
END:VTIMEZONE
BEGIN:VEVENT
DTSTART;TZID=UTC:20180524T080000
DTEND;TZID=UTC:20180524T170000
DTSTAMP:20260422T062725
CREATED:20180227T210617Z
LAST-MODIFIED:20180227T210617Z
UID:1281-1527148800-1527181200@duncansupply.com
SUMMARY:Copeland Counter Day - Bloomington
DESCRIPTION:Copeland  Counter Day \nJoin us for a hot dog counter day with Copeland.
URL:https://duncansupply.com/event/copeland-counter-day-bloomington/
LOCATION:Bloomington Branch\, 1204 N Loesch Rd\, Bloomington\, IN\, 47404\, United States
CATEGORIES:Counter Days
ATTACH;FMTTYPE=:
END:VEVENT
BEGIN:VEVENT
DTSTART;TZID=UTC:20180523T110000
DTEND;TZID=UTC:20180523T140000
DTSTAMP:20260422T062725
CREATED:20180227T210440Z
LAST-MODIFIED:20180227T210440Z
UID:1279-1527073200-1527084000@duncansupply.com
SUMMARY:Copeland Burgers in the ally - Indianapolis
DESCRIPTION:Copeland Burgers in the ally – Counter Day \nJoin us for burgers in the ally – counter day with Copeland.
URL:https://duncansupply.com/event/copeland-burgers-in-the-ally-indianapolis/
LOCATION:Bloom
CATEGORIES:Counter Days
ATTACH;FMTTYPE=:
END:VEVENT
BEGIN:VEVENT
DTSTART;TZID=UTC:20180516T110000
DTEND;TZID=UTC:20180516T140000
DTSTAMP:20260422T062725
CREATED:20180508T202941Z
LAST-MODIFIED:20180508T202941Z
UID:1379-1526468400-1526479200@duncansupply.com
SUMMARY:Appion & Diversitech Counter Day - Lafayette Branch
DESCRIPTION:Appion & Diversitech Counter Day \nJoin us for a hot dog counter day with Eric Kaiser from Appion.
URL:https://duncansupply.com/event/1379/
LOCATION:Lafayette Branch\, 510 Morland Dr\, Lafayette\, IN\, 47905\, United States
CATEGORIES:Counter Days
END:VEVENT
BEGIN:VEVENT
DTSTART;TZID=UTC:20180509T110000
DTEND;TZID=UTC:20180509T140000
DTSTAMP:20260422T062725
CREATED:20180508T202512Z
LAST-MODIFIED:20180508T202512Z
UID:1377-1525863600-1525874400@duncansupply.com
SUMMARY:Sporlan Counter Day - Indianapolis
DESCRIPTION:Sporlan Counter Day \nJoin us for a hot dog counter day with Mackenzie Vick from Sporlan. \n 
URL:https://duncansupply.com/event/sporlan-counter-day-indianapolis-2/
LOCATION:Bloom
CATEGORIES:Counter Days
END:VEVENT
BEGIN:VEVENT
DTSTART;TZID=UTC:20180509T090000
DTEND;TZID=UTC:20180509T130000
DTSTAMP:20260422T062725
CREATED:20180115T203751Z
LAST-MODIFIED:20180115T203751Z
UID:1091-1525856400-1525870800@duncansupply.com
SUMMARY:JB Vacuum Pump Clinic - Fort Wayne
DESCRIPTION:
URL:https://duncansupply.com/event/jb-vacuum-pump-clinic-fort-wayne/
LOCATION:Branch Locations
CATEGORIES:Counter Days
ATTACH;FMTTYPE=:
END:VEVENT
BEGIN:VEVENT
DTSTART;TZID=UTC:20180508T090000
DTEND;TZID=UTC:20180508T130000
DTSTAMP:20260422T062725
CREATED:20180115T203620Z
LAST-MODIFIED:20180115T203620Z
UID:1085-1525770000-1525784400@duncansupply.com
SUMMARY:JB Vacuum Pump Clinic - Elkhart
DESCRIPTION:
URL:https://duncansupply.com/event/jb-vacuum-pump-clinic-elkhart/
LOCATION:IN
CATEGORIES:Counter Days
ATTACH;FMTTYPE=:
END:VEVENT
BEGIN:VEVENT
DTSTART;TZID=UTC:20180502T110000
DTEND;TZID=UTC:20180502T130000
DTSTAMP:20260422T062725
CREATED:20171113T203723Z
LAST-MODIFIED:20171113T203723Z
UID:4932-1525258800-1525266000@duncansupply.com
SUMMARY:Nu-Calgon Counter Day - Champaign
DESCRIPTION:Nu-Calgon Counter Day \nJoin us for a hot dog counter day with Kevin Guinane from Nu-Calgon.
URL:https://duncansupply.com/event/nu-calgon-counter-day-kokomo/
LOCATION:Champaign Branch\, 44 East Logan St\, Champaign\, IL\, 61820\, United States
CATEGORIES:Counter Days
END:VEVENT
BEGIN:VEVENT
DTSTART;TZID=UTC:20180501T110000
DTEND;TZID=UTC:20180501T130000
DTSTAMP:20260422T062725
CREATED:20171113T205713Z
LAST-MODIFIED:20171113T205713Z
UID:4937-1525172400-1525179600@duncansupply.com
SUMMARY:Nu-Calgon Counter Day - Elkhart
DESCRIPTION:Nu-Calgon Counter Day \nJoin us for a hot dog counter day with Nate Decker from Nu-Calgon.
URL:https://duncansupply.com/event/nu-calgon-counter-day-elkhart/
LOCATION:IN
CATEGORIES:Counter Days
END:VEVENT
BEGIN:VEVENT
DTSTART;TZID=UTC:20180426T110000
DTEND;TZID=UTC:20180426T130000
DTSTAMP:20260422T062725
CREATED:20171113T205619Z
LAST-MODIFIED:20171113T205619Z
UID:4936-1524740400-1524747600@duncansupply.com
SUMMARY:Nu-Calgon Counter Day - Plainfield
DESCRIPTION:Nu-Calgon Counter Day \nJoin us for a hot dog counter day with Nate Decker from Nu-Calgon.
URL:https://duncansupply.com/event/nu-calgon-counter-day-plainfield/
LOCATION:Plainfield Distribution Center\, 2191 Airwest Blvd\, Plainfield\, IN\, 46168\, United States
CATEGORIES:Counter Days
END:VEVENT
BEGIN:VEVENT
DTSTART;TZID=UTC:20180425T110000
DTEND;TZID=UTC:20180425T140000
DTSTAMP:20260422T062725
CREATED:20171113T205524Z
LAST-MODIFIED:20171113T205524Z
UID:590-1524654000-1524664800@duncansupply.com
SUMMARY:Nu-Calgon Counter Day - Indianapolis
DESCRIPTION:Nu-Calgon Counter Day \nJoin us for a hot dog counter day with Nate Decker from Nu-Calgon.
URL:https://duncansupply.com/event/nu-calgon-counter-day-indianapolis/
LOCATION:Bloom
CATEGORIES:Counter Days
END:VEVENT
BEGIN:VEVENT
DTSTART;TZID=UTC:20180419T110000
DTEND;TZID=UTC:20180419T130000
DTSTAMP:20260422T062725
CREATED:20171113T205423Z
LAST-MODIFIED:20171113T205423Z
UID:4935-1524135600-1524142800@duncansupply.com
SUMMARY:Nu-Calgon Counter Day - Fort Wayne
DESCRIPTION:Nu-Calgon Counter Day \nJoin us for a counter day with Nate Decker from Nu-Calgon.
URL:https://duncansupply.com/event/nu-calgon-counter-day-fort-wayne/
LOCATION:Branch Locations
CATEGORIES:Counter Days
END:VEVENT
BEGIN:VEVENT
DTSTART;TZID=UTC:20180418T090000
DTEND;TZID=UTC:20180418T130000
DTSTAMP:20260422T062725
CREATED:20180115T200350Z
LAST-MODIFIED:20180115T200350Z
UID:1063-1524042000-1524056400@duncansupply.com
SUMMARY:JB Vacuum Pump Clinic - Indianapolis
DESCRIPTION:
URL:https://duncansupply.com/event/jb-vacuum-pump-clinic-indianapolis/
LOCATION:Bloom
CATEGORIES:Counter Days
ATTACH;FMTTYPE=:
END:VEVENT
BEGIN:VEVENT
DTSTART;TZID=UTC:20180418T080000
DTEND;TZID=UTC:20180418T103000
DTSTAMP:20260422T062725
CREATED:20171113T205300Z
LAST-MODIFIED:20171113T205300Z
UID:4934-1524038400-1524047400@duncansupply.com
SUMMARY:Nu-Calgon Counter Day - Muncie
DESCRIPTION:Nu-Calgon Counter Day \nJoin us for breakfast with Nate Decker from Nu-Calgon.
URL:https://duncansupply.com/event/nu-calgon-counter-day-muncie/
LOCATION:Muncie Branch\, 601 East 15th St\, Muncie\, IN\, 47302\, United States
CATEGORIES:Counter Days
END:VEVENT
BEGIN:VEVENT
DTSTART;TZID=UTC:20180417T080000
DTEND;TZID=UTC:20180417T103000
DTSTAMP:20260422T062725
CREATED:20171113T205201Z
LAST-MODIFIED:20171113T205201Z
UID:4933-1523952000-1523961000@duncansupply.com
SUMMARY:Nu-Calgon Counter Day - Terre Haute
DESCRIPTION:Nu-Calgon Counter Day \nJoin us for breakfast with Nate Decker from Nu-Calgon.
URL:https://duncansupply.com/event/nu-calgon-counter-day-terre-haute-copy/
LOCATION:Terre Haute Branch\, 1000 E. Ohio St\, Terre Haute\, IN\, 47808\, United States
CATEGORIES:Counter Days
ATTACH;FMTTYPE=:
END:VEVENT
BEGIN:VEVENT
DTSTART;TZID=UTC:20180416T090000
DTEND;TZID=UTC:20180416T130000
DTSTAMP:20260422T062725
CREATED:20180115T202216Z
LAST-MODIFIED:20180115T202216Z
UID:1083-1523869200-1523883600@duncansupply.com
SUMMARY:JB Vacuum Pump Clinic - Lafayette
DESCRIPTION:
URL:https://duncansupply.com/event/jb-vacuum-pump-clinic-lafayette/
LOCATION:Lafayette Branch\, 510 Morland Dr\, Lafayette\, IN\, 47905\, United States
CATEGORIES:Counter Days
ATTACH;FMTTYPE=:
END:VEVENT
BEGIN:VEVENT
DTSTART;TZID=UTC:20180327T090000
DTEND;TZID=UTC:20180327T130000
DTSTAMP:20260422T062725
CREATED:20180115T202051Z
LAST-MODIFIED:20180115T202051Z
UID:1081-1522141200-1522155600@duncansupply.com
SUMMARY:JB Vacuum Pump Clinic - Champaign
DESCRIPTION:
URL:https://duncansupply.com/event/jb-vacuum-pump-clinic-champaign/
LOCATION:Champaign Branch\, 44 East Logan St\, Champaign\, IL\, 61820\, United States
CATEGORIES:Counter Days
ATTACH;FMTTYPE=:
END:VEVENT
BEGIN:VEVENT
DTSTART;TZID=UTC:20180322T090000
DTEND;TZID=UTC:20180322T130000
DTSTAMP:20260422T062725
CREATED:20180115T201921Z
LAST-MODIFIED:20180115T201921Z
UID:1079-1521709200-1521723600@duncansupply.com
SUMMARY:JB Vacuum Pump Clinic - Plainfield
DESCRIPTION:
URL:https://duncansupply.com/event/jb-vacuum-pump-clinic-plainfield/
LOCATION:Plainfield Distribution Center\, 2191 Airwest Blvd\, Plainfield\, IN\, 46168\, United States
CATEGORIES:Counter Days
ATTACH;FMTTYPE=:
END:VEVENT
BEGIN:VEVENT
DTSTART;TZID=UTC:20180321T090000
DTEND;TZID=UTC:20180321T130000
DTSTAMP:20260422T062725
CREATED:20180115T201747Z
LAST-MODIFIED:20180115T201747Z
UID:1077-1521622800-1521637200@duncansupply.com
SUMMARY:JB Vacuum Pump Clinic - Bloomington
DESCRIPTION:
URL:https://duncansupply.com/event/jb-vacuum-pump-clinic-bloomington/
LOCATION:Bloomington Branch\, 1204 N Loesch Rd\, Bloomington\, IN\, 47404\, United States
CATEGORIES:Counter Days
ATTACH;FMTTYPE=:
END:VEVENT
BEGIN:VEVENT
DTSTART;TZID=UTC:20180320T090000
DTEND;TZID=UTC:20180320T130000
DTSTAMP:20260422T062725
CREATED:20180115T201608Z
LAST-MODIFIED:20180115T201608Z
UID:1067-1521536400-1521550800@duncansupply.com
SUMMARY:JB Vacuum Pump Clinic - Terre Haute
DESCRIPTION:
URL:https://duncansupply.com/event/jb-vacuum-pump-clinic-terre-haute/
LOCATION:Terre Haute Branch\, 1000 E. Ohio St\, Terre Haute\, IN\, 47808\, United States
CATEGORIES:Counter Days
ATTACH;FMTTYPE=:
END:VEVENT
BEGIN:VEVENT
DTSTART;TZID=UTC:20180228T110000
DTEND;TZID=UTC:20180228T140000
DTSTAMP:20260422T062725
CREATED:20180212T150550Z
LAST-MODIFIED:20180212T150550Z
UID:1224-1519815600-1519826400@duncansupply.com
SUMMARY:Century Counter Day - Indianapolis
DESCRIPTION:Century Counter Day \nJoin us for a hot dog counter day with Brad Steenport from Century.
URL:https://duncansupply.com/event/century-counter-day-indianapolis/
LOCATION:Bloom
CATEGORIES:Counter Days
ATTACH;FMTTYPE=image/png:https://duncansupply.com/wp-content/uploads/2022/08/Featured-Vendor_MasonIndustries_360x139.png
END:VEVENT
BEGIN:VEVENT
DTSTART;TZID=UTC:20180216T110000
DTEND;TZID=UTC:20180216T140000
DTSTAMP:20260422T062725
CREATED:20180115T174916Z
LAST-MODIFIED:20180115T174916Z
UID:1055-1518778800-1518789600@duncansupply.com
SUMMARY:Appion & Diversitech Counter Day - Muncie
DESCRIPTION:Appion & Diversitech Counter Day \nJoin us for a counter day with Kale Ericson from Diversitech & Appion.
URL:https://duncansupply.com/event/appion-diversitech-counter-day-muncie/
LOCATION:Muncie Branch\, 601 East 15th St\, Muncie\, IN\, 47302\, United States
CATEGORIES:Counter Days
END:VEVENT
BEGIN:VEVENT
DTSTART;TZID=UTC:20171213T073000
DTEND;TZID=UTC:20171213T103000
DTSTAMP:20260422T062725
CREATED:20171121T153658Z
LAST-MODIFIED:20171121T153658Z
UID:4941-1513150200-1513161000@duncansupply.com
SUMMARY:Mason Waffle Counter Day - Indianapolis
DESCRIPTION:Mason Counter Day \nJoin us for a Waffle Breakfast Counter Day with Dan Heiskell from Mason.
URL:https://duncansupply.com/event/679/
LOCATION:Bloom
CATEGORIES:Counter Days
ATTACH;FMTTYPE=:
END:VEVENT
BEGIN:VEVENT
DTSTART;TZID=UTC:20171130T110000
DTEND;TZID=UTC:20171130T130000
DTSTAMP:20260422T062725
CREATED:20171113T202435Z
LAST-MODIFIED:20171113T202435Z
UID:4929-1512039600-1512046800@duncansupply.com
SUMMARY:Mars & Veto Pro Pac Counter Day - Muncie
DESCRIPTION:Mars & Veto Pro Pac Counter Day – Muncie \nJoin us for a Hot Dog Counter Day with Phil Buehler from Mars. \n     
URL:https://duncansupply.com/event/mars-veto-pro-pac-counter-day-indianapolis/
LOCATION:Muncie Branch\, 601 East 15th St\, Muncie\, IN\, 47302\, United States
CATEGORIES:Counter Days
ATTACH;FMTTYPE=:
END:VEVENT
BEGIN:VEVENT
DTSTART;TZID=UTC:20171129T110000
DTEND;TZID=UTC:20171129T140000
DTSTAMP:20260422T062725
CREATED:20171113T201339Z
LAST-MODIFIED:20171113T201339Z
UID:4928-1511953200-1511964000@duncansupply.com
SUMMARY:Klein Tools Counter Day - Indianapolis
DESCRIPTION:Klein Tools Counter Day \nJoin us for a Hot Dog Counter Day with Anthony Parenti from Klein Tools. \n** Free MAG2 Magnetizer with all $50.00 Klein purchases ** \nOffer good from 11:00 am – 2:00 pm on November 29\, 2017 only.  \n  \n 
URL:https://duncansupply.com/event/klein-tools-counter-day/
LOCATION:Bloom
CATEGORIES:Counter Days
ATTACH;FMTTYPE=:
END:VEVENT
BEGIN:VEVENT
DTSTART;TZID=UTC:20171129T110000
DTEND;TZID=UTC:20171129T130000
DTSTAMP:20260422T062725
CREATED:20171113T213303Z
LAST-MODIFIED:20171113T213303Z
UID:4939-1511953200-1511960400@duncansupply.com
SUMMARY:Sporlan ZoomLock Counter Day - Champaign
DESCRIPTION:Sporlan ZoomLock Counter Day \nJoin us for a counter day with Mackenzie Vick from Sporlan.
URL:https://duncansupply.com/event/sporlan-zoomlock-counter-day-champaign/
LOCATION:Champaign Branch\, 44 East Logan St\, Champaign\, IL\, 61820\, United States
CATEGORIES:Counter Days
ATTACH;FMTTYPE=:
END:VEVENT
BEGIN:VEVENT
DTSTART;TZID=UTC:20171026T150000
DTEND;TZID=UTC:20171026T190000
DTSTAMP:20260422T062725
CREATED:20171010T131902Z
LAST-MODIFIED:20171010T131902Z
UID:4927-1509030000-1509044400@duncansupply.com
SUMMARY:American Standard Fall Technical Training - Indianapolis
DESCRIPTION:Registration Required\nPlease fill out this Registration Form (PDF) and return per the instructions below. \n\nOPEN TO AMERICAN STANDARD DEALERS ONLY! \nDinner will be served at 5:00 pm\n\nTraining with Ken Fulk\, Duncan Supply FSR\nCost: $95 First Attendee\, $65.00 each Additional Technician\n\nTRAINING WILL COVER\nS9V2 Two Stage 96% Eff. Var-ECM 34″ Tall Gas Furnaces\nNew S9X2 Two Stage 95% Eff-CTM 34″ Tall Gas Furnaces\nNew 3-5 Ton Foundation RTU’s 14 SEER Gas and Electric\nNew 1 1/2-5 Ton Side Discharge 16 SEER AC Condensers\nNew 2-3 Ton TMM5 Wall-Mount CTM Air Handlers\nMiscellaneous \nEach Tech session will allow 3.5 hours toward NATE re-certification. \n\nPlease respond NO later than Tuesday\, September 26th\nFax: (317) 264-6689\nEmail: training@duncansupply.com
URL:https://duncansupply.com/event/american-standard-fall-technical-training-indianapolis/
LOCATION:Intermatic-logo_HP
CATEGORIES:Counter Days,Food Service,HVAC Training,Miscellaneous Training,NATE Testing,Refrigeration Training
END:VEVENT
BEGIN:VEVENT
DTSTART;TZID=UTC:20171024T150000
DTEND;TZID=UTC:20171024T190000
DTSTAMP:20260422T062725
CREATED:20171010T131523Z
LAST-MODIFIED:20171010T131523Z
UID:4926-1508857200-1508871600@duncansupply.com
SUMMARY:American Standard Fall Technical Training - Elkhart
DESCRIPTION:Registration Required\nPlease fill out this Registration Form (PDF) and return per the instructions below. \n\nOPEN TO AMERICAN STANDARD DEALERS ONLY! \nDinner will be served at 5:00 pm\n\nTraining with Ken Fulk\, Duncan Supply FSR\nCost: $95 First Attendee\, $65.00 each Additional Technician\n\nTRAINING WILL COVER\nS9V2 Two Stage 96% Eff. Var-ECM 34″ Tall Gas Furnaces\nNew S9X2 Two Stage 95% Eff-CTM 34″ Tall Gas Furnaces\nNew 3-5 Ton Foundation RTU’s 14 SEER Gas and Electric\nNew 1 1/2-5 Ton Side Discharge 16 SEER AC Condensers\nNew 2-3 Ton TMM5 Wall-Mount CTM Air Handlers\nMiscellaneous \nEach Tech session will allow 3.5 hours toward NATE re-certification. \n\nPlease respond NO later than Tuesday\, September 26th\nFax: (317) 264-6689\nEmail: training@duncansupply.com
URL:https://duncansupply.com/event/american-standard-fall-technical-training-elkhart/
LOCATION:CPS-logo_HP
CATEGORIES:Counter Days,Food Service,HVAC Training,Miscellaneous Training,NATE Testing,Refrigeration Training
END:VEVENT
BEGIN:VEVENT
DTSTART;TZID=UTC:20171019T150000
DTEND;TZID=UTC:20171019T190000
DTSTAMP:20260422T062725
CREATED:20171010T131356Z
LAST-MODIFIED:20171010T131356Z
UID:4925-1508425200-1508439600@duncansupply.com
SUMMARY:American Standard Fall Technical Training - Fort Wayne
DESCRIPTION:Registration Required\nPlease fill out this Registration Form (PDF) and return per the instructions below. \n\nOPEN TO AMERICAN STANDARD DEALERS ONLY! \nDinner will be served at 5:00 pm\n\nTraining with Ken Fulk\, Duncan Supply FSR\nCost: $95 First Attendee\, $65.00 each Additional Technician\n\nTRAINING WILL COVER\nS9V2 Two Stage 96% Eff. Var-ECM 34″ Tall Gas Furnaces\nNew S9X2 Two Stage 95% Eff-CTM 34″ Tall Gas Furnaces\nNew 3-5 Ton Foundation RTU’s 14 SEER Gas and Electric\nNew 1 1/2-5 Ton Side Discharge 16 SEER AC Condensers\nNew 2-3 Ton TMM5 Wall-Mount CTM Air Handlers\nMiscellaneous \nEach Tech session will allow 3.5 hours toward NATE re-certification. \n\nPlease respond NO later than Tuesday\, September 26th\nFax: (317) 264-6689\nEmail: training@duncansupply.com
URL:https://duncansupply.com/event/american-standard-fall-technical-training-fort-wayne/
LOCATION:Branch Locations
CATEGORIES:Counter Days,Food Service,HVAC Training,Miscellaneous Training,NATE Testing,Refrigeration Training
END:VEVENT
BEGIN:VEVENT
DTSTART;TZID=UTC:20171017T150000
DTEND;TZID=UTC:20171017T190000
DTSTAMP:20260422T062725
CREATED:20171010T131225Z
LAST-MODIFIED:20171010T131225Z
UID:4924-1508252400-1508266800@duncansupply.com
SUMMARY:American Standard Fall Technical Training - Lafayette
DESCRIPTION:Registration Required\nPlease fill out this Registration Form (PDF) and return per the instructions below. \n\nOPEN TO AMERICAN STANDARD DEALERS ONLY! \nDinner will be served at 5:00 pm\n\nTraining with Ken Fulk\, Duncan Supply FSR\nCost: $95 First Attendee\, $65.00 each Additional Technician\n\nTRAINING WILL COVER\nS9V2 Two Stage 96% Eff. Var-ECM 34″ Tall Gas Furnaces\nNew S9X2 Two Stage 95% Eff-CTM 34″ Tall Gas Furnaces\nNew 3-5 Ton Foundation RTU’s 14 SEER Gas and Electric\nNew 1 1/2-5 Ton Side Discharge 16 SEER AC Condensers\nNew 2-3 Ton TMM5 Wall-Mount CTM Air Handlers\nMiscellaneous \nEach Tech session will allow 3.5 hours toward NATE re-certification. \n\nPlease respond NO later than Tuesday\, September 26th\nFax: (317) 264-6689\nEmail: training@duncansupply.com
URL:https://duncansupply.com/event/american-standard-fall-technical-training-lafayette/
LOCATION:Chemours-logo_new_HP
CATEGORIES:Counter Days,Food Service,HVAC Training,Miscellaneous Training,NATE Testing,Refrigeration Training
END:VEVENT
BEGIN:VEVENT
DTSTART;TZID=UTC:20171012T150000
DTEND;TZID=UTC:20171012T190000
DTSTAMP:20260422T062725
CREATED:20171010T130935Z
LAST-MODIFIED:20171010T130935Z
UID:409-1507820400-1507834800@duncansupply.com
SUMMARY:American Standard Fall Technical Training - Bloomington
DESCRIPTION:Registration Required\nPlease fill out this Registration Form (PDF) and return per the instructions below. \n\nOPEN TO AMERICAN STANDARD DEALERS ONLY! \nDinner will be served at 5:00 pm\n\nTraining with Ken Fulk\, Duncan Supply FSR\nCost: $95 First Attendee\, $65.00 each Additional Technician\n\nTRAINING WILL COVER\nS9V2 Two Stage 96% Eff. Var-ECM 34″ Tall Gas Furnaces\nNew S9X2 Two Stage 95% Eff-CTM 34″ Tall Gas Furnaces\nNew 3-5 Ton Foundation RTU’s 14 SEER Gas and Electric\nNew 1 1/2-5 Ton Side Discharge 16 SEER AC Condensers\nNew 2-3 Ton TMM5 Wall-Mount CTM Air Handlers\nMiscellaneous \nEach Tech session will allow 3.5 hours toward NATE re-certification. \n\nPlease respond NO later than Tuesday\, September 26th\nFax: (317) 264-6689\nEmail: training@duncansupply.com
URL:https://duncansupply.com/event/american-standard-fall-technical-training-bloomington/
LOCATION:CalgonFV
CATEGORIES:Counter Days,Food Service,HVAC Training,Miscellaneous Training,NATE Testing,Refrigeration Training
END:VEVENT
END:VCALENDAR