BEGIN:VCALENDAR
VERSION:2.0
PRODID:-//Duncan Supply - ECPv6.15.15//NONSGML v1.0//EN
CALSCALE:GREGORIAN
METHOD:PUBLISH
X-WR-CALNAME:Duncan Supply
X-ORIGINAL-URL:https://duncansupply.com
X-WR-CALDESC:Events for Duncan Supply
REFRESH-INTERVAL;VALUE=DURATION:PT1H
X-Robots-Tag:noindex
X-PUBLISHED-TTL:PT1H
BEGIN:VTIMEZONE
TZID:UTC
BEGIN:STANDARD
TZOFFSETFROM:+0000
TZOFFSETTO:+0000
TZNAME:UTC
DTSTART:20230101T000000
END:STANDARD
END:VTIMEZONE
BEGIN:VEVENT
DTSTART;TZID=UTC:20240325T083000
DTEND;TZID=UTC:20240328T160000
DTSTAMP:20260421T202509
CREATED:20240228T150029Z
LAST-MODIFIED:20240228T151749Z
UID:6932-1711355400-1711641600@duncansupply.com
SUMMARY:ASSET Sales Training - Indianapolis\, IN
DESCRIPTION:* OPEN TO AMERICAN STANDARD DEALERS ONLY *\nASSET Sales Training\n\nMonday\, March 25th – Thursday\, March 28th\n  \nDuncan Supply – Bldg 5 \n101 W 9th Street \n Indianapolis\, IN 46204 \n  \nTIME \n8:30 AM – 4:00 PM \n  \nCLICK HERE to download the training packet  \nCLICK HERE to download the registration form
URL:https://duncansupply.com/event/asset-sales-training-indianapolis-in/
LOCATION:Indianapolis Home Office (Bldg 5)\, 101 W 9th St\, Indianapolis\, IN\, 46204\, United States
CATEGORIES:HVAC Training
ATTACH;FMTTYPE=image/png:https://duncansupply.com/wp-content/uploads/2023/08/ASLogowTag_onwhite_100719132445_Hires-e1693342940606.png
ORGANIZER;CN="Duncan Supply Company":MAILTO:training@duncansupply.com
END:VEVENT
BEGIN:VEVENT
DTSTART;TZID=UTC:20240328T153000
DTEND;TZID=UTC:20240328T173000
DTSTAMP:20260421T202509
CREATED:20240319T140315Z
LAST-MODIFIED:20240319T142731Z
UID:7024-1711639800-1711647000@duncansupply.com
SUMMARY:LG Residential / Light Commercial LGMV Service Tool Training - Bloomington
DESCRIPTION:LG Residential / Light Commercial LGMV Service Tool Training\nThursday\, March 28th\nDuncan Supply \n1204 N Loesch Rd \nBloomington\, IN 47404 \nTIME \n3:30 – 5:30 PM   \nREGISTER ONLINE NOW \nCLICK HERE to download the registration form
URL:https://duncansupply.com/event/lg-residential-light-commercial-lgmv-service-tool-training-bloomington/
LOCATION:Bloomington Branch\, 1204 N Loesch Rd\, Bloomington\, IN\, 47404\, United States
CATEGORIES:HVAC Training
ATTACH;FMTTYPE=image/jpeg:https://duncansupply.com/wp-content/uploads/2022/08/LG-logo_HP.jpeg
ORGANIZER;CN="Duncan Supply Company":MAILTO:training@duncansupply.com
END:VEVENT
END:VCALENDAR