BEGIN:VCALENDAR
VERSION:2.0
PRODID:-//Duncan Supply - ECPv6.15.15//NONSGML v1.0//EN
CALSCALE:GREGORIAN
METHOD:PUBLISH
X-WR-CALNAME:Duncan Supply
X-ORIGINAL-URL:https://duncansupply.com
X-WR-CALDESC:Events for Duncan Supply
REFRESH-INTERVAL;VALUE=DURATION:PT1H
X-Robots-Tag:noindex
X-PUBLISHED-TTL:PT1H
BEGIN:VTIMEZONE
TZID:UTC
BEGIN:STANDARD
TZOFFSETFROM:+0000
TZOFFSETTO:+0000
TZNAME:UTC
DTSTART:20220101T000000
END:STANDARD
END:VTIMEZONE
BEGIN:VTIMEZONE
TZID:America/Indiana/Indianapolis
BEGIN:DAYLIGHT
TZOFFSETFROM:-0500
TZOFFSETTO:-0400
TZNAME:EDT
DTSTART:20210314T070000
END:DAYLIGHT
BEGIN:STANDARD
TZOFFSETFROM:-0400
TZOFFSETTO:-0500
TZNAME:EST
DTSTART:20211107T060000
END:STANDARD
BEGIN:DAYLIGHT
TZOFFSETFROM:-0500
TZOFFSETTO:-0400
TZNAME:EDT
DTSTART:20220313T070000
END:DAYLIGHT
BEGIN:STANDARD
TZOFFSETFROM:-0400
TZOFFSETTO:-0500
TZNAME:EST
DTSTART:20221106T060000
END:STANDARD
BEGIN:DAYLIGHT
TZOFFSETFROM:-0500
TZOFFSETTO:-0400
TZNAME:EDT
DTSTART:20230312T070000
END:DAYLIGHT
BEGIN:STANDARD
TZOFFSETFROM:-0400
TZOFFSETTO:-0500
TZNAME:EST
DTSTART:20231105T060000
END:STANDARD
BEGIN:DAYLIGHT
TZOFFSETFROM:-0500
TZOFFSETTO:-0400
TZNAME:EDT
DTSTART:20240310T070000
END:DAYLIGHT
BEGIN:STANDARD
TZOFFSETFROM:-0400
TZOFFSETTO:-0500
TZNAME:EST
DTSTART:20241103T060000
END:STANDARD
END:VTIMEZONE
BEGIN:VEVENT
DTSTART;TZID=UTC:20230404T153000
DTEND;TZID=UTC:20230404T193000
DTSTAMP:20260419T210724
CREATED:20230317T153229Z
LAST-MODIFIED:20230317T153303Z
UID:6330-1680622200-1680636600@duncansupply.com
SUMMARY:American Standard Technical Training - Terre Haute
DESCRIPTION:*** American Standard Technical Training ***\nOPEN TO AMERICAN STANDARD DEALERS ONLY\nTuesday\, April 4th\, 2023\nHoliday Inn\, 3300 S US Hwy 41\, Terre Haute\, IN 47802 \nTime: 3:00 PM – 7:30 PM  \n  $95.00 per attendee \n$65.00 each additional attendee \n(Dinner included) \nCLICK HERE to download flyer
URL:https://duncansupply.com/event/american-standard-technical-training-terre-haute/
LOCATION:Holiday Inn Terre Haute\, 3300 US Hwy 41 South\, Terre Haute\, IN\, 47802\, United States
CATEGORIES:HVAC Training,Refrigeration Training
ORGANIZER;CN="Duncan Supply Company":MAILTO:training@duncansupply.com
END:VEVENT
BEGIN:VEVENT
DTSTART;TZID=UTC:20230328T083000
DTEND;TZID=UTC:20230329T163000
DTSTAMP:20260419T210724
CREATED:20230123T142238Z
LAST-MODIFIED:20230123T150932Z
UID:6096-1679992200-1680107400@duncansupply.com
SUMMARY:Geothermal Advanced Troubleshooting - Indianapolis
DESCRIPTION:Tuesday\, March 28th – Wednesday\, March 29th\, 2023\n8:30am – 4:30 pm (EST) \n$225.00 Per Attendee\nREGISTER ONLINE NOW or\nCLICK HERE to download the flyer
URL:https://duncansupply.com/event/geothermal-advanced-troubleshooting-indianapolis-3/
LOCATION:Indianapolis Home Office (Bldg 5)\, 101 W 9th St\, Indianapolis\, IN\, 46204\, United States
CATEGORIES:HVAC Training
ATTACH;FMTTYPE=image/png:https://duncansupply.com/wp-content/uploads/2023/01/Tetco-by-Enertech-logo-1-e1674484887375.png
ORGANIZER;CN="Duncan Supply Company":MAILTO:training@duncansupply.com
END:VEVENT
BEGIN:VEVENT
DTSTART;TZID=UTC:20230324T110000
DTEND;TZID=UTC:20230324T120000
DTSTAMP:20260419T210724
CREATED:20230118T172802Z
LAST-MODIFIED:20230123T143915Z
UID:6088-1679655600-1679659200@duncansupply.com
SUMMARY:Tetco & Thermopride Lunch & Learn – Greensburg
DESCRIPTION:
URL:https://duncansupply.com/event/tetco-thermopride-lunch-learn-greensburg/
LOCATION:Greensburg Branch\, 1575 N Commerce East Dr\, Greensburg\, 47240\, United States
CATEGORIES:Counter Days,HVAC Training
ATTACH;FMTTYPE=image/png:https://duncansupply.com/wp-content/uploads/2023/01/Tetco-by-Enertech-logo-1-e1674484887375.png
ORGANIZER;CN="Duncan Supply Company":MAILTO:training@duncansupply.com
END:VEVENT
BEGIN:VEVENT
DTSTART;TZID=UTC:20230321T170000
DTEND;TZID=UTC:20230321T180000
DTSTAMP:20260419T210724
CREATED:20230305T015146Z
LAST-MODIFIED:20230305T015146Z
UID:6305-1679418000-1679421600@duncansupply.com
SUMMARY:Air Scrubber Dine & Learn - Fort Wayne
DESCRIPTION:
URL:https://duncansupply.com/event/air-scrubber-dine-learn-fort-wayne/
LOCATION:Fort Wayne Distribution Center\, 3310 Congressional Pkwy\, Fort Wayne\, IN\, 46808\, United States
CATEGORIES:HVAC Training,Miscellaneous Training,Refrigeration Training
ORGANIZER;CN="Duncan Supply Company":MAILTO:training@duncansupply.com
END:VEVENT
BEGIN:VEVENT
DTSTART;TZID=UTC:20230321T110000
DTEND;TZID=UTC:20230321T120000
DTSTAMP:20260419T210724
CREATED:20230202T145339Z
LAST-MODIFIED:20230202T145339Z
UID:6213-1679396400-1679400000@duncansupply.com
SUMMARY:Tetco & Thermopride Lunch & Learn – Indianapolis
DESCRIPTION:
URL:https://duncansupply.com/event/tetco-thermopride-lunch-learn-indianapolis/
LOCATION:Indianapolis Home Office (Bldg 5)\, 101 W 9th St\, Indianapolis\, IN\, 46204\, United States
CATEGORIES:HVAC Training,Miscellaneous Training
ORGANIZER;CN="Duncan Supply Company":MAILTO:training@duncansupply.com
END:VEVENT
BEGIN:VEVENT
DTSTART;TZID=UTC:20230317T110000
DTEND;TZID=UTC:20230317T120000
DTSTAMP:20260419T210724
CREATED:20230118T172313Z
LAST-MODIFIED:20230118T172435Z
UID:6082-1679050800-1679054400@duncansupply.com
SUMMARY:Tetco & Thermopride Lunch & Learn – Kokomo
DESCRIPTION:
URL:https://duncansupply.com/event/tetco-thermopride-lunch-learn-kokomo/
LOCATION:Kokomo Branch\, 1100 S. Ohio St\, Kokomo\, IN\, 46902\, United States
CATEGORIES:Counter Days,HVAC Training
ORGANIZER;CN="Duncan Supply Company":MAILTO:training@duncansupply.com
END:VEVENT
BEGIN:VEVENT
DTSTART;TZID=UTC:20230315T110000
DTEND;TZID=UTC:20230315T120000
DTSTAMP:20260419T210724
CREATED:20230130T165107Z
LAST-MODIFIED:20230130T165107Z
UID:6157-1678878000-1678881600@duncansupply.com
SUMMARY:Tetco & Thermopride Lunch & Learn – Champaign
DESCRIPTION:
URL:https://duncansupply.com/event/tetco-thermopride-lunch-learn-champaign/
LOCATION:Champaign Branch\, 44 East Logan St\, Champaign\, IL\, 61820\, United States
CATEGORIES:HVAC Training,Miscellaneous Training
ORGANIZER;CN="Duncan Supply Company":MAILTO:training@duncansupply.com
END:VEVENT
BEGIN:VEVENT
DTSTART;TZID=UTC:20230314T173000
DTEND;TZID=UTC:20230314T190000
DTSTAMP:20260419T210724
CREATED:20230123T143436Z
LAST-MODIFIED:20230127T142032Z
UID:6102-1678815000-1678820400@duncansupply.com
SUMMARY:Virtual Refrigerant Recovery & System Evacuation Training
DESCRIPTION:Tuesday\, March 14th\, 2023\n5:30pm – 7:00pm (EST) \n$50.00 Per Attendee\nZOOM Meeting Link will be provided \nREGISTER ONLINE NOW or\nCLICK HERE to download the flyer
URL:https://duncansupply.com/event/virtual-refrigerant-recovery-system-evacuation-training/
LOCATION:ZOOM
CATEGORIES:HVAC Training,Refrigeration Training
ATTACH;FMTTYPE=image/png:https://duncansupply.com/wp-content/uploads/2022/12/Appion-1.png
ORGANIZER;CN="Duncan Supply Company":MAILTO:training@duncansupply.com
END:VEVENT
BEGIN:VEVENT
DTSTART;TZID=UTC:20230314T170000
DTEND;TZID=UTC:20230314T190000
DTSTAMP:20260419T210725
CREATED:20230123T143057Z
LAST-MODIFIED:20230123T144954Z
UID:6100-1678813200-1678820400@duncansupply.com
SUMMARY:Refrigerant Recovery & System Evacuation Training - Indianapolis
DESCRIPTION:Tuesday\, March 14th\, 2023\n5:00pm – 7:00pm (EST) \n$50.00 Per Attendee\nREGISTER ONLINE NOW or\nCLICK HERE to download the flyer
URL:https://duncansupply.com/event/refrigerant-recovery-system-evacuation-training-indianapolis-2/
LOCATION:Indianapolis Home Office (Bldg 5)\, 101 W 9th St\, Indianapolis\, IN\, 46204\, United States
CATEGORIES:HVAC Training,Refrigeration Training
ATTACH;FMTTYPE=image/png:https://duncansupply.com/wp-content/uploads/2022/12/Appion-1.png
ORGANIZER;CN="Duncan Supply Company":MAILTO:training@duncansupply.com
END:VEVENT
BEGIN:VEVENT
DTSTART;TZID=UTC:20230309T153000
DTEND;TZID=UTC:20230309T180000
DTSTAMP:20260419T210725
CREATED:20230109T145901Z
LAST-MODIFIED:20230109T150238Z
UID:6029-1678375800-1678384800@duncansupply.com
SUMMARY:Heatcraft intelliGen Refrigeration Controller Course - Mahomet
DESCRIPTION:*** Heatcraft intelliGen Refrigeration Controller Course***\nThursday\, March 9th\, 2023 – Cornbelt Fire Protection District\nTime: 3:30 PM – 6:00 PM  \n  $35.00 per attendee  \nCLICK HERE to download flyer OR \n   CLICK HERE to register online
URL:https://duncansupply.com/event/heatcraft-intelligen-refrigeration-controller-course-mahomet/
LOCATION:Cornbelt Fire Protection District\, 506 E Main St\, Mahomet\, IL\, 61853\, United States
CATEGORIES:HVAC Training,Refrigeration Training
END:VEVENT
BEGIN:VEVENT
DTSTART;TZID=UTC:20230308T153000
DTEND;TZID=UTC:20230308T180000
DTSTAMP:20260419T210725
CREATED:20230109T145722Z
LAST-MODIFIED:20230109T150118Z
UID:6026-1678289400-1678298400@duncansupply.com
SUMMARY:Heatcraft intelliGen Refrigeration Controller Course - Terre Haute
DESCRIPTION:*** Heatcraft intelliGen Refrigeration Controller Course***\nWednesday\, March 8th\, 2023 – Terre Haute\nTime: 3:30 PM – 6:00 PM  \n  $35.00 per attendee  \nCLICK HERE to download flyer OR \n   CLICK HERE to register online
URL:https://duncansupply.com/event/heatcraft-intelligen-refrigeration-controller-course-terre-haute/
LOCATION:Terre Haute Branch\, 1000 E. Ohio St\, Terre Haute\, IN\, 47808\, United States
CATEGORIES:HVAC Training,Refrigeration Training
END:VEVENT
BEGIN:VEVENT
DTSTART;TZID=UTC:20230307T153000
DTEND;TZID=UTC:20230307T180000
DTSTAMP:20260419T210725
CREATED:20230109T143452Z
LAST-MODIFIED:20230109T145505Z
UID:6021-1678203000-1678212000@duncansupply.com
SUMMARY:Heatcraft intelliGen Refrigeration Controller Course - Indy
DESCRIPTION:*** Heatcraft intelliGen Refrigeration Controller Course***\nTuesday\, March 7th\, 2023 – Indianapolis\, Building #5\nTime: 3:30 PM – 6:00 PM  \n  $35.00 per attendee  \nCLICK HERE to download flyer OR \n   CLICK HERE to register online
URL:https://duncansupply.com/event/heatcraft-intelligen-refrigeration-controller-course-2/
LOCATION:Indianapolis Home Office (Bldg 5)\, 101 W 9th St\, Indianapolis\, IN\, 46204\, United States
CATEGORIES:HVAC Training,Refrigeration Training
END:VEVENT
BEGIN:VEVENT
DTSTART;TZID=UTC:20230306T160000
DTEND;TZID=UTC:20230306T183000
DTSTAMP:20260419T210725
CREATED:20230109T142032Z
LAST-MODIFIED:20230109T145525Z
UID:6017-1678118400-1678127400@duncansupply.com
SUMMARY:Heatcraft intelliGen Refrigeration Controller Course - Muncie
DESCRIPTION:*** Heatcraft intelliGen Refrigeration Controller Course***\nMonday\, March 6th\, 2023 – Muncie\nTime: 4:00 PM – 6:30 PM  \n  $35.00 per attendee  \nCLICK HERE to download flyer OR \n   CLICK HERE to register online
URL:https://duncansupply.com/event/heatcraft-intelligen-refrigeration-controller-course/
LOCATION:Muncie Branch\, 601 East 15th St\, Muncie\, IN\, 47302\, United States
CATEGORIES:HVAC Training,Refrigeration Training
END:VEVENT
BEGIN:VEVENT
DTSTART;TZID=UTC:20230301T110000
DTEND;TZID=UTC:20230301T120000
DTSTAMP:20260419T210725
CREATED:20230202T145549Z
LAST-MODIFIED:20230202T145549Z
UID:6215-1677668400-1677672000@duncansupply.com
SUMMARY:Tetco & Thermopride Lunch & Learn – Mishawaka
DESCRIPTION:
URL:https://duncansupply.com/event/tetco-thermopride-lunch-learn-mishawaka/
LOCATION:Mishawaka Branch\, 56540 Twin Branch Dr\, Mishawaka\, IN\, 46545\, United States
CATEGORIES:HVAC Training,Miscellaneous Training
ORGANIZER;CN="Duncan Supply Company":MAILTO:training@duncansupply.com
END:VEVENT
BEGIN:VEVENT
DTSTART;TZID=America/Indiana/Indianapolis:20230228T080000
DTEND;TZID=America/Indiana/Indianapolis:20230303T170000
DTSTAMP:20260419T210725
CREATED:20220711T115805Z
LAST-MODIFIED:20230103T185957Z
UID:4827-1677571200-1677862800@duncansupply.com
SUMMARY:ASSET Training - Indianapolis
DESCRIPTION:*** OPEN TO AMERICAN STANDARD DEALERS ONLY ***\nTuesday\, February 28th – Friday\, March 3rd\, 2023\n8:30am – 4:00 pm \n$1\,995.00 Per Attendee\nREGISTER ONLINE NOW or\nCLICK HERE to download the flyer
URL:https://duncansupply.com/event/asset-training-indianapolis-2/
LOCATION:Indianapolis Home Office (Bldg 5)\, 101 W 9th St\, Indianapolis\, IN\, 46204\, United States
CATEGORIES:HVAC Training
ATTACH;FMTTYPE=image/jpeg:https://duncansupply.com/wp-content/uploads/2022/07/Featured-Vendor_American-Standard_360x139.jpeg
END:VEVENT
BEGIN:VEVENT
DTSTART;TZID=UTC:20230222T110000
DTEND;TZID=UTC:20230222T120000
DTSTAMP:20260419T210725
CREATED:20230113T143911Z
LAST-MODIFIED:20230113T143911Z
UID:6072-1677063600-1677067200@duncansupply.com
SUMMARY:Tetco & Thermopride Lunch & Learn - Bloomington
DESCRIPTION:
URL:https://duncansupply.com/event/tetco-thermopride-lunch-learn-bloomington/
LOCATION:Bloomington Branch\, 1204 N Loesch Rd\, Bloomington\, IN\, 47404\, United States
CATEGORIES:Counter Days,HVAC Training
ORGANIZER;CN="Duncan Supply Company":MAILTO:training@duncansupply.com
END:VEVENT
BEGIN:VEVENT
DTSTART;TZID=UTC:20230216T110000
DTEND;TZID=UTC:20230216T120000
DTSTAMP:20260419T210725
CREATED:20230111T165002Z
LAST-MODIFIED:20230217T135752Z
UID:6063-1676545200-1676548800@duncansupply.com
SUMMARY:Tetco & Thermo Pride Lunch & Learn - Fort Wayne
DESCRIPTION:
URL:https://duncansupply.com/event/tetco-thermo-pricde-lunch-learn-fort-wayne/
LOCATION:Fort Wayne Distribution Center\, 3310 Congressional Pkwy\, Fort Wayne\, IN\, 46808\, United States
CATEGORIES:Counter Days,HVAC Training
ORGANIZER;CN="Duncan Supply Company":MAILTO:training@duncansupply.com
END:VEVENT
BEGIN:VEVENT
DTSTART;TZID=UTC:20230127T110000
DTEND;TZID=UTC:20230127T120000
DTSTAMP:20260419T210725
CREATED:20230113T144057Z
LAST-MODIFIED:20230113T144057Z
UID:6074-1674817200-1674820800@duncansupply.com
SUMMARY:Tetco & Thermopride Lunch & Learn - Muncie
DESCRIPTION:
URL:https://duncansupply.com/event/tetco-thermopride-lunch-learn-muncie/
LOCATION:Muncie Branch\, 601 East 15th St\, Muncie\, IN\, 47302\, United States
CATEGORIES:Counter Days,HVAC Training
ORGANIZER;CN="Duncan Supply Company":MAILTO:training@duncansupply.com
END:VEVENT
BEGIN:VEVENT
DTSTART;TZID=UTC:20230117T110000
DTEND;TZID=UTC:20230117T120000
DTSTAMP:20260419T210725
CREATED:20230104T161310Z
LAST-MODIFIED:20230104T161310Z
UID:6002-1673953200-1673956800@duncansupply.com
SUMMARY:Tetco & Thermopride Lunch & Learn - Lafayette
DESCRIPTION:
URL:https://duncansupply.com/event/tetco-thermopride-lunch-learn-lafayette/
LOCATION:Lafayette Branch\, 510 Morland Dr\, Lafayette\, IN\, 47905\, United States
CATEGORIES:Counter Days,HVAC Training
ORGANIZER;CN="Duncan Supply Company":MAILTO:training@duncansupply.com
END:VEVENT
BEGIN:VEVENT
DTSTART;TZID=UTC:20230110T110000
DTEND;TZID=UTC:20230110T120000
DTSTAMP:20260419T210725
CREATED:20230104T161356Z
LAST-MODIFIED:20230104T161356Z
UID:6004-1673348400-1673352000@duncansupply.com
SUMMARY:Tetco & Thermopride Lunch & Learn - Terre Haute
DESCRIPTION:
URL:https://duncansupply.com/event/tetco-thermopride-lunch-learn-terre-haute/
LOCATION:Terre Haute Branch\, 1000 E. Ohio St\, Terre Haute\, IN\, 47808\, United States
CATEGORIES:Counter Days,HVAC Training
ORGANIZER;CN="Duncan Supply Company":MAILTO:training@duncansupply.com
END:VEVENT
BEGIN:VEVENT
DTSTART;TZID=UTC:20230103T083000
DTEND;TZID=UTC:20230103T163000
DTSTAMP:20260419T210725
CREATED:20230103T190602Z
LAST-MODIFIED:20230103T191138Z
UID:5897-1672734600-1672763400@duncansupply.com
SUMMARY:Duct Design for Profit & Efficiency - Indianapolis
DESCRIPTION:*** OPEN TO AMERICAN STANDARD DEALERS ONLY ***\nWednesday\, March 22nd – Thursday\, March 23rd\, 2023\nDay 1: 8:30am – 4:30 pm (EST) \nDay 2: 7:30 AM – 3:00 PM (EST) \n$650.00 Per Attendee\nREGISTER ONLINE NOW or\nCLICK HERE to download the flyer
URL:https://duncansupply.com/event/duct-design-for-profit-efficiency-indianapolis/
LOCATION:Double Tree by Hilton Lafayette\, 155 Progress Dr\, Lafayette\, IN\, 47905\, United States
CATEGORIES:HVAC Training
ATTACH;FMTTYPE=image/jpeg:https://duncansupply.com/wp-content/uploads/2022/07/Featured-Vendor_American-Standard_360x139.jpeg
ORGANIZER;CN="Duncan Supply Company":MAILTO:training@duncansupply.com
END:VEVENT
BEGIN:VEVENT
DTSTART;TZID=America/Indiana/Indianapolis:20221012T170000
DTEND;TZID=America/Indiana/Indianapolis:20221012T200000
DTSTAMP:20260419T210725
CREATED:20220520T125136Z
LAST-MODIFIED:20220921T200153Z
UID:4647-1665594000-1665604800@duncansupply.com
SUMMARY:Brazing Fundamentals Training - Indianapolis 5-8pm
DESCRIPTION:*** Brazing Fundamentals Training***\nWednesday\, October 12th\, 2022 – Indianapolis\nClass: 5:00 PM – 8:00 PM  \n  $110.00 per attendee  \nCLICK HERE to download flyer OR \n   CLICK HERE to register online
URL:https://duncansupply.com/event/brazing-fundamentals-training-indianapolis-copy-2/
LOCATION:Indianapolis Home Office (Bldg 5)\, 101 W 9th St\, Indianapolis\, IN\, 46204\, United States
CATEGORIES:Food Service,HVAC Training,NATE Testing,Refrigeration Training
END:VEVENT
BEGIN:VEVENT
DTSTART;TZID=America/Indiana/Indianapolis:20221012T130000
DTEND;TZID=America/Indiana/Indianapolis:20221012T160000
DTSTAMP:20260419T210725
CREATED:20220520T125146Z
LAST-MODIFIED:20220921T200259Z
UID:4650-1665579600-1665590400@duncansupply.com
SUMMARY:Brazing Fundamentals Training - Indianapolis 1-4pm
DESCRIPTION:*** Brazing Fundamentals Training***\nWednesday\, October 12th\, 2022 – Indianapolis\nClass: 1:00 PM – 4:00 PM  \n  $110.00 per attendee  \nCLICK HERE to download flyer OR \n     CLICK HERE to register online
URL:https://duncansupply.com/event/brazing-fundamentals-training-indianapolis-copy-copy-2/
LOCATION:Indianapolis Home Office (Bldg 5)\, 101 W 9th St\, Indianapolis\, IN\, 46204\, United States
CATEGORIES:Food Service,HVAC Training,Refrigeration Training
END:VEVENT
BEGIN:VEVENT
DTSTART;TZID=America/Indiana/Indianapolis:20220915T080000
DTEND;TZID=America/Indiana/Indianapolis:20220915T170000
DTSTAMP:20260419T210725
CREATED:20220711T114015Z
LAST-MODIFIED:20220711T114015Z
UID:4809-1663228800-1663261200@duncansupply.com
SUMMARY:Become a Heat Exchanger Expert - Fort Wayne
DESCRIPTION:Thursday\, September 15th\n8:00 am – 5:00 pm \n$850.00 Per Attendee\nREGISTER ONLINE NOW or\nCLICK HERE to download the flyer
URL:https://duncansupply.com/event/become-a-heat-exchanger-expert-fort-wayne-2/
LOCATION:Ceruti’s Catering\, 6601 Innovation Blvd\, Fort Wayne\, IN\, 46818\, United States
CATEGORIES:HVAC Training
END:VEVENT
BEGIN:VEVENT
DTSTART;TZID=America/Indiana/Indianapolis:20220825T083000
DTEND;TZID=America/Indiana/Indianapolis:20220826T160000
DTSTAMP:20260419T210725
CREATED:20220310T121827Z
LAST-MODIFIED:20220830T193254Z
UID:4540-1661416200-1661529600@duncansupply.com
SUMMARY:GROW Training - Indianapolis
DESCRIPTION:*** OPEN TO AMERICAN STANDARD DEALERS ONLY ***\nThursday\, August 25th- Friday\, August 26th\,  2022\n8:30am – 4:00 pm \n$750.00 Per Attendee\nREGISTER ONLINE NOW or\nCLICK HERE to download the flyer
URL:https://duncansupply.com/event/grow-training-indianapolis-3/
LOCATION:Indianapolis Home Office (Bldg 5)\, 101 W 9th St\, Indianapolis\, IN\, 46204\, United States
CATEGORIES:HVAC Training
ATTACH;FMTTYPE=image/jpeg:https://duncansupply.com/wp-content/uploads/2022/07/Featured-Vendor_American-Standard_360x139.jpeg
END:VEVENT
BEGIN:VEVENT
DTSTART;TZID=America/Indiana/Indianapolis:20220818T090000
DTEND;TZID=America/Indiana/Indianapolis:20220818T160000
DTSTAMP:20260419T210725
CREATED:20220711T114917Z
LAST-MODIFIED:20220830T193349Z
UID:4824-1660813200-1660838400@duncansupply.com
SUMMARY:American Standard Fall Marketing Meeting - Auburn
DESCRIPTION:*** OPEN TO AMERICAN STANDARD DEALERS ONLY ***\nThursday\, August 18th\n9:00 am – 4:00 pm \nREGISTER ONLINE NOW or\nCLICK HERE to download the flyer
URL:https://duncansupply.com/event/american-standard-fall-marketing-meeting-auburn/
LOCATION:Kruse Plaza\, 5634 Opportunity Blvd\, Auburn\, IN\, 46706\, United States
CATEGORIES:HVAC Training
ATTACH;FMTTYPE=image/jpeg:https://duncansupply.com/wp-content/uploads/2022/07/Featured-Vendor_American-Standard_360x139.jpeg
END:VEVENT
BEGIN:VEVENT
DTSTART;TZID=America/Indiana/Indianapolis:20220817T090000
DTEND;TZID=America/Indiana/Indianapolis:20220817T160000
DTSTAMP:20260419T210725
CREATED:20220711T114808Z
LAST-MODIFIED:20220830T192538Z
UID:4821-1660726800-1660752000@duncansupply.com
SUMMARY:American Standard Fall Marketing Meeting - Indianapolis
DESCRIPTION:*** OPEN TO AMERICAN STANDARD DEALERS ONLY ***\nWednesday\, August 17th\n9:00 am – 4:00 pm \nREGISTER ONLINE NOW or\nCLICK HERE to download the flyer
URL:https://duncansupply.com/event/american-standard-fall-marketing-meeting-indianapolis/
LOCATION:Intermatic-logo_HP
CATEGORIES:HVAC Training
ATTACH;FMTTYPE=image/jpeg:https://duncansupply.com/wp-content/uploads/2022/07/Featured-Vendor_American-Standard_360x139.jpeg
END:VEVENT
BEGIN:VEVENT
DTSTART;TZID=America/Indiana/Indianapolis:20220517T170000
DTEND;TZID=America/Indiana/Indianapolis:20220517T200000
DTSTAMP:20260419T210725
CREATED:20220303T100832Z
LAST-MODIFIED:20220303T100832Z
UID:4456-1652806800-1652817600@duncansupply.com
SUMMARY:Brazing Fundamentals Training - Indianapolis 5-8pm
DESCRIPTION:*** Brazing Fundamentals Training***\nTuesday\, May 17th\, 2022 – Indianapolis\nClass: 5:00 PM – 8:00 PM  \n  $110.00 per attendee  \nCLICK HERE to download flyer OR \n     CLICK HERE to register online
URL:https://duncansupply.com/event/brazing-fundamentals-training-indianapolis/
LOCATION:Indianapolis Home Office (Bldg 5)\, 101 W 9th St\, Indianapolis\, IN\, 46204\, United States
CATEGORIES:Food Service,HVAC Training,Refrigeration Training
END:VEVENT
BEGIN:VEVENT
DTSTART;TZID=America/Indiana/Indianapolis:20220517T130000
DTEND;TZID=America/Indiana/Indianapolis:20220517T160000
DTSTAMP:20260419T210725
CREATED:20220520T125143Z
LAST-MODIFIED:20220520T125143Z
UID:4649-1652792400-1652803200@duncansupply.com
SUMMARY:Brazing Fundamentals Training - Indianapolis 1-4pm Copy
DESCRIPTION:*** Brazing Fundamentals Training***\nTuesday\, May 17th\, 2022 – Indianapolis\nClass: 1:00 PM – 4:00 PM  \n  $110.00 per attendee  \nCLICK HERE to download flyer OR \n     CLICK HERE to register online
URL:https://duncansupply.com/event/brazing-fundamentals-training-indianapolis-copy-copy/
LOCATION:Indianapolis Home Office (Bldg 5)\, 101 W 9th St\, Indianapolis\, IN\, 46204\, United States
CATEGORIES:Food Service,HVAC Training,Refrigeration Training
END:VEVENT
BEGIN:VEVENT
DTSTART;TZID=America/Indiana/Indianapolis:20220517T130000
DTEND;TZID=America/Indiana/Indianapolis:20220517T160000
DTSTAMP:20260419T210725
CREATED:20220404T113732Z
LAST-MODIFIED:20220404T113732Z
UID:4590-1652792400-1652803200@duncansupply.com
SUMMARY:Brazing Fundamentals Training - Indianapolis 1-4pm
DESCRIPTION:*** Brazing Fundamentals Training***\nTuesday\, May 17th\, 2022 – Indianapolis\nClass: 1:00 PM – 4:00 PM  \n  $110.00 per attendee  \nCLICK HERE to download flyer OR \n     CLICK HERE to register online
URL:https://duncansupply.com/event/brazing-fundamentals-training-indianapolis-copy/
LOCATION:Indianapolis Home Office (Bldg 5)\, 101 W 9th St\, Indianapolis\, IN\, 46204\, United States
CATEGORIES:Food Service,HVAC Training,Refrigeration Training
END:VEVENT
END:VCALENDAR