BEGIN:VCALENDAR
VERSION:2.0
PRODID:-//Duncan Supply - ECPv6.15.15//NONSGML v1.0//EN
CALSCALE:GREGORIAN
METHOD:PUBLISH
X-ORIGINAL-URL:https://duncansupply.com
X-WR-CALDESC:Events for Duncan Supply
REFRESH-INTERVAL;VALUE=DURATION:PT1H
X-Robots-Tag:noindex
X-PUBLISHED-TTL:PT1H
BEGIN:VTIMEZONE
TZID:America/Indiana/Indianapolis
BEGIN:DAYLIGHT
TZOFFSETFROM:-0500
TZOFFSETTO:-0400
TZNAME:EDT
DTSTART:20190310T070000
END:DAYLIGHT
BEGIN:STANDARD
TZOFFSETFROM:-0400
TZOFFSETTO:-0500
TZNAME:EST
DTSTART:20191103T060000
END:STANDARD
BEGIN:DAYLIGHT
TZOFFSETFROM:-0500
TZOFFSETTO:-0400
TZNAME:EDT
DTSTART:20200308T070000
END:DAYLIGHT
BEGIN:STANDARD
TZOFFSETFROM:-0400
TZOFFSETTO:-0500
TZNAME:EST
DTSTART:20201101T060000
END:STANDARD
BEGIN:DAYLIGHT
TZOFFSETFROM:-0500
TZOFFSETTO:-0400
TZNAME:EDT
DTSTART:20210314T070000
END:DAYLIGHT
BEGIN:STANDARD
TZOFFSETFROM:-0400
TZOFFSETTO:-0500
TZNAME:EST
DTSTART:20211107T060000
END:STANDARD
BEGIN:DAYLIGHT
TZOFFSETFROM:-0500
TZOFFSETTO:-0400
TZNAME:EDT
DTSTART:20220313T070000
END:DAYLIGHT
BEGIN:STANDARD
TZOFFSETFROM:-0400
TZOFFSETTO:-0500
TZNAME:EST
DTSTART:20221106T060000
END:STANDARD
BEGIN:DAYLIGHT
TZOFFSETFROM:-0500
TZOFFSETTO:-0400
TZNAME:EDT
DTSTART:20230312T070000
END:DAYLIGHT
BEGIN:STANDARD
TZOFFSETFROM:-0400
TZOFFSETTO:-0500
TZNAME:EST
DTSTART:20231105T060000
END:STANDARD
END:VTIMEZONE
BEGIN:VTIMEZONE
TZID:America/Chicago
BEGIN:DAYLIGHT
TZOFFSETFROM:-0600
TZOFFSETTO:-0500
TZNAME:CDT
DTSTART:20200308T080000
END:DAYLIGHT
BEGIN:STANDARD
TZOFFSETFROM:-0500
TZOFFSETTO:-0600
TZNAME:CST
DTSTART:20201101T070000
END:STANDARD
BEGIN:DAYLIGHT
TZOFFSETFROM:-0600
TZOFFSETTO:-0500
TZNAME:CDT
DTSTART:20210314T080000
END:DAYLIGHT
BEGIN:STANDARD
TZOFFSETFROM:-0500
TZOFFSETTO:-0600
TZNAME:CST
DTSTART:20211107T070000
END:STANDARD
BEGIN:DAYLIGHT
TZOFFSETFROM:-0600
TZOFFSETTO:-0500
TZNAME:CDT
DTSTART:20220313T080000
END:DAYLIGHT
BEGIN:STANDARD
TZOFFSETFROM:-0500
TZOFFSETTO:-0600
TZNAME:CST
DTSTART:20221106T070000
END:STANDARD
END:VTIMEZONE
BEGIN:VEVENT
DTSTART;TZID=America/Indiana/Indianapolis:20220825T083000
DTEND;TZID=America/Indiana/Indianapolis:20220826T160000
DTSTAMP:20260420T032848
CREATED:20220310T121827Z
LAST-MODIFIED:20220830T193254Z
UID:4540-1661416200-1661529600@duncansupply.com
SUMMARY:GROW Training - Indianapolis
DESCRIPTION:*** OPEN TO AMERICAN STANDARD DEALERS ONLY ***\nThursday\, August 25th- Friday\, August 26th\,  2022\n8:30am – 4:00 pm \n$750.00 Per Attendee\nREGISTER ONLINE NOW or\nCLICK HERE to download the flyer
URL:https://duncansupply.com/event/grow-training-indianapolis-3/
LOCATION:Indianapolis Home Office (Bldg 5)\, 101 W 9th St\, Indianapolis\, IN\, 46204\, United States
CATEGORIES:HVAC Training
ATTACH;FMTTYPE=image/jpeg:https://duncansupply.com/wp-content/uploads/2022/07/Featured-Vendor_American-Standard_360x139.jpeg
END:VEVENT
BEGIN:VEVENT
DTSTART;TZID=America/Indiana/Indianapolis:20220818T090000
DTEND;TZID=America/Indiana/Indianapolis:20220818T160000
DTSTAMP:20260420T032848
CREATED:20220711T114917Z
LAST-MODIFIED:20220830T193349Z
UID:4824-1660813200-1660838400@duncansupply.com
SUMMARY:American Standard Fall Marketing Meeting - Auburn
DESCRIPTION:*** OPEN TO AMERICAN STANDARD DEALERS ONLY ***\nThursday\, August 18th\n9:00 am – 4:00 pm \nREGISTER ONLINE NOW or\nCLICK HERE to download the flyer
URL:https://duncansupply.com/event/american-standard-fall-marketing-meeting-auburn/
LOCATION:Kruse Plaza\, 5634 Opportunity Blvd\, Auburn\, IN\, 46706\, United States
CATEGORIES:HVAC Training
ATTACH;FMTTYPE=image/jpeg:https://duncansupply.com/wp-content/uploads/2022/07/Featured-Vendor_American-Standard_360x139.jpeg
END:VEVENT
BEGIN:VEVENT
DTSTART;TZID=America/Indiana/Indianapolis:20220817T090000
DTEND;TZID=America/Indiana/Indianapolis:20220817T160000
DTSTAMP:20260420T032848
CREATED:20220711T114808Z
LAST-MODIFIED:20220830T192538Z
UID:4821-1660726800-1660752000@duncansupply.com
SUMMARY:American Standard Fall Marketing Meeting - Indianapolis
DESCRIPTION:*** OPEN TO AMERICAN STANDARD DEALERS ONLY ***\nWednesday\, August 17th\n9:00 am – 4:00 pm \nREGISTER ONLINE NOW or\nCLICK HERE to download the flyer
URL:https://duncansupply.com/event/american-standard-fall-marketing-meeting-indianapolis/
LOCATION:Intermatic-logo_HP
CATEGORIES:HVAC Training
ATTACH;FMTTYPE=image/jpeg:https://duncansupply.com/wp-content/uploads/2022/07/Featured-Vendor_American-Standard_360x139.jpeg
END:VEVENT
BEGIN:VEVENT
DTSTART;TZID=America/Indiana/Indianapolis:20220517T170000
DTEND;TZID=America/Indiana/Indianapolis:20220517T200000
DTSTAMP:20260420T032848
CREATED:20220303T100832Z
LAST-MODIFIED:20220303T100832Z
UID:4456-1652806800-1652817600@duncansupply.com
SUMMARY:Brazing Fundamentals Training - Indianapolis 5-8pm
DESCRIPTION:*** Brazing Fundamentals Training***\nTuesday\, May 17th\, 2022 – Indianapolis\nClass: 5:00 PM – 8:00 PM  \n  $110.00 per attendee  \nCLICK HERE to download flyer OR \n     CLICK HERE to register online
URL:https://duncansupply.com/event/brazing-fundamentals-training-indianapolis/
LOCATION:Indianapolis Home Office (Bldg 5)\, 101 W 9th St\, Indianapolis\, IN\, 46204\, United States
CATEGORIES:Food Service,HVAC Training,Refrigeration Training
END:VEVENT
BEGIN:VEVENT
DTSTART;TZID=America/Indiana/Indianapolis:20220517T130000
DTEND;TZID=America/Indiana/Indianapolis:20220517T160000
DTSTAMP:20260420T032848
CREATED:20220520T125143Z
LAST-MODIFIED:20220520T125143Z
UID:4649-1652792400-1652803200@duncansupply.com
SUMMARY:Brazing Fundamentals Training - Indianapolis 1-4pm Copy
DESCRIPTION:*** Brazing Fundamentals Training***\nTuesday\, May 17th\, 2022 – Indianapolis\nClass: 1:00 PM – 4:00 PM  \n  $110.00 per attendee  \nCLICK HERE to download flyer OR \n     CLICK HERE to register online
URL:https://duncansupply.com/event/brazing-fundamentals-training-indianapolis-copy-copy/
LOCATION:Indianapolis Home Office (Bldg 5)\, 101 W 9th St\, Indianapolis\, IN\, 46204\, United States
CATEGORIES:Food Service,HVAC Training,Refrigeration Training
END:VEVENT
BEGIN:VEVENT
DTSTART;TZID=America/Indiana/Indianapolis:20220517T130000
DTEND;TZID=America/Indiana/Indianapolis:20220517T160000
DTSTAMP:20260420T032848
CREATED:20220404T113732Z
LAST-MODIFIED:20220404T113732Z
UID:4590-1652792400-1652803200@duncansupply.com
SUMMARY:Brazing Fundamentals Training - Indianapolis 1-4pm
DESCRIPTION:*** Brazing Fundamentals Training***\nTuesday\, May 17th\, 2022 – Indianapolis\nClass: 1:00 PM – 4:00 PM  \n  $110.00 per attendee  \nCLICK HERE to download flyer OR \n     CLICK HERE to register online
URL:https://duncansupply.com/event/brazing-fundamentals-training-indianapolis-copy/
LOCATION:Indianapolis Home Office (Bldg 5)\, 101 W 9th St\, Indianapolis\, IN\, 46204\, United States
CATEGORIES:Food Service,HVAC Training,Refrigeration Training
END:VEVENT
BEGIN:VEVENT
DTSTART;TZID=America/Indiana/Indianapolis:20220503T083000
DTEND;TZID=America/Indiana/Indianapolis:20220506T160000
DTSTAMP:20260420T032848
CREATED:20220310T121337Z
LAST-MODIFIED:20220310T121337Z
UID:4538-1651566600-1651852800@duncansupply.com
SUMMARY:ASSET Training - Fort Wayne
DESCRIPTION:*** OPEN TO AMERICAN STANDARD DEALERS ONLY ***\nTuesday\, May 3rd- Friday\, May 6th\,  2022\n8:30am – 4:00 pm \n$1995.00 Per Attendee\nREGISTER ONLINE NOW or\nCLICK HERE to download the flyer
URL:https://duncansupply.com/event/asset-training-fort-wayne/
LOCATION:Branch Locations
CATEGORIES:HVAC Training
ATTACH;FMTTYPE=image/png:https://duncansupply.com/wp-content/uploads/2022/08/Nu-Calgon_InsidePage_Jan2022.png
END:VEVENT
BEGIN:VEVENT
DTSTART;TZID=America/Indiana/Indianapolis:20220428T150000
DTEND;TZID=America/Indiana/Indianapolis:20220428T193000
DTSTAMP:20260420T032848
CREATED:20220310T120304Z
LAST-MODIFIED:20220310T120304Z
UID:4533-1651158000-1651174200@duncansupply.com
SUMMARY:American Standard Fall Technical Services Training - Indianapolis
DESCRIPTION:*** OPEN TO AMERICAN STANDARD DEALERS ONLY ***\nThursday\, April 28\, 2022\n3:00 – 7:30 pm (Dinner at 5:00pm)\n$95 First Attendee\, $65 for Additional\nREGISTER ONLINE NOW or\nCLICK HERE to download the flyer
URL:https://duncansupply.com/event/american-standard-fall-technical-services-training-indianapolis-4/
LOCATION:Intermatic-logo_HP
CATEGORIES:HVAC Training
ATTACH;FMTTYPE=image/png:https://duncansupply.com/wp-content/uploads/2022/08/Nu-Calgon_InsidePage_Jan2022.png
END:VEVENT
BEGIN:VEVENT
DTSTART;TZID=America/Indiana/Indianapolis:20220426T150000
DTEND;TZID=America/Indiana/Indianapolis:20220426T193000
DTSTAMP:20260420T032848
CREATED:20220310T120121Z
LAST-MODIFIED:20220310T120121Z
UID:4531-1650985200-1651001400@duncansupply.com
SUMMARY:American Standard Fall Technical Services Training - Champaign
DESCRIPTION:*** OPEN TO AMERICAN STANDARD DEALERS ONLY ***\nTuesday\, April 26\, 2022\n3:00 – 7:30 pm (Dinner at 5:00pm)\n$95 First Attendee\, $65 for Additional\nREGISTER ONLINE NOW or\nCLICK HERE to download the flyer
URL:https://duncansupply.com/event/american-standard-fall-technical-services-training-champaign-2/
LOCATION:Holiday Inn Champaign Suites\, 101 Trade Center Drive\, Champaign\, IL\, 61820\, United States
CATEGORIES:HVAC Training
ATTACH;FMTTYPE=image/png:https://duncansupply.com/wp-content/uploads/2022/08/Nu-Calgon_InsidePage_Jan2022.png
END:VEVENT
BEGIN:VEVENT
DTSTART;TZID=America/Indiana/Indianapolis:20220421T150000
DTEND;TZID=America/Indiana/Indianapolis:20220421T193000
DTSTAMP:20260420T032848
CREATED:20220310T120625Z
LAST-MODIFIED:20220310T120625Z
UID:4536-1650553200-1650569400@duncansupply.com
SUMMARY:American Standard Fall Technical Services Training - Bloomington
DESCRIPTION:*** OPEN TO AMERICAN STANDARD DEALERS ONLY ***\nThursday\, April 21\, 2022\n3:00 – 7:30 pm (Dinner at 5:00pm)\n$95 First Attendee\, $65 for Additional\nREGISTER ONLINE NOW or\nCLICK HERE to download the flyer
URL:https://duncansupply.com/event/american-standard-fall-technical-services-training-bloomington-2/
LOCATION:Bloomington Branch\, 1204 N Loesch Rd\, Bloomington\, IN\, 47404\, United States
CATEGORIES:HVAC Training
ATTACH;FMTTYPE=image/png:https://duncansupply.com/wp-content/uploads/2022/08/Nu-Calgon_InsidePage_Jan2022.png
END:VEVENT
BEGIN:VEVENT
DTSTART;TZID=America/Indiana/Indianapolis:20220419T150000
DTEND;TZID=America/Indiana/Indianapolis:20220419T193000
DTSTAMP:20260420T032848
CREATED:20220310T115909Z
LAST-MODIFIED:20220310T115909Z
UID:4529-1650380400-1650396600@duncansupply.com
SUMMARY:American Standard Fall Technical Services Training - Fort Wayne
DESCRIPTION:*** OPEN TO AMERICAN STANDARD DEALERS ONLY ***\nTuesday\, April 19\, 2022\n3:00 – 7:30 pm (Dinner at 5:00pm)\n$95 First Attendee\, $65 for Additional\nREGISTER ONLINE NOW or\nCLICK HERE to download the flyer
URL:https://duncansupply.com/event/american-standard-fall-technical-services-training-fort-wayne-2/
LOCATION:Branch Locations
CATEGORIES:HVAC Training
ATTACH;FMTTYPE=image/png:https://duncansupply.com/wp-content/uploads/2022/08/Nu-Calgon_InsidePage_Jan2022.png
END:VEVENT
BEGIN:VEVENT
DTSTART;TZID=America/Indiana/Indianapolis:20220414T150000
DTEND;TZID=America/Indiana/Indianapolis:20220414T193000
DTSTAMP:20260420T032848
CREATED:20220310T115714Z
LAST-MODIFIED:20220310T115714Z
UID:4527-1649948400-1649964600@duncansupply.com
SUMMARY:American Standard Fall Technical Services Training - Terre Haute
DESCRIPTION:*** OPEN TO AMERICAN STANDARD DEALERS ONLY ***\nThursday\, April 14\, 2022\n3:00 – 7:30 pm (Dinner at 5:00pm)\n$95 First Attendee\, $65 for Additional\nREGISTER ONLINE NOW or\nCLICK HERE to download the flyer
URL:https://duncansupply.com/event/american-standard-fall-technical-services-training-terre-haute/
LOCATION:Holiday Inn Terre Haute\, 3300 US Hwy 41 South\, Terre Haute\, IN\, 47802\, United States
CATEGORIES:HVAC Training
ATTACH;FMTTYPE=image/png:https://duncansupply.com/wp-content/uploads/2022/08/Nu-Calgon_InsidePage_Jan2022.png
END:VEVENT
BEGIN:VEVENT
DTSTART;TZID=America/Indiana/Indianapolis:20220412T150000
DTEND;TZID=America/Indiana/Indianapolis:20220412T193000
DTSTAMP:20260420T032848
CREATED:20220310T115403Z
LAST-MODIFIED:20220310T115403Z
UID:4524-1649775600-1649791800@duncansupply.com
SUMMARY:American Standard Fall Technical Services Training - Mishawaka
DESCRIPTION:*** OPEN TO AMERICAN STANDARD DEALERS ONLY ***\nTuesday\, April 12\, 2022\n3:00 – 7:30 pm (Dinner at 5:00pm)\n$95 First Attendee\, $65 for Additional\nREGISTER ONLINE NOW or\nCLICK HERE to download the flyer
URL:https://duncansupply.com/event/american-standard-fall-technical-services-training-mishawaka-2/
LOCATION:Mishawaka Branch\, 56540 Twin Branch Dr\, Mishawaka\, IN\, 46545\, United States
CATEGORIES:HVAC Training
ATTACH;FMTTYPE=image/png:https://duncansupply.com/wp-content/uploads/2022/08/Nu-Calgon_InsidePage_Jan2022.png
END:VEVENT
BEGIN:VEVENT
DTSTART;TZID=America/Indiana/Indianapolis:20220407T150000
DTEND;TZID=America/Indiana/Indianapolis:20220407T193000
DTSTAMP:20260420T032848
CREATED:20220310T114332Z
LAST-MODIFIED:20220310T114332Z
UID:4522-1649343600-1649359800@duncansupply.com
SUMMARY:American Standard Fall Technical Services Training - Indianapolis
DESCRIPTION:*** OPEN TO AMERICAN STANDARD DEALERS ONLY ***\nThursday\, April 7\, 2022\n3:00 – 7:30 pm (Dinner at 5:00pm)\n$95 First Attendee\, $65 for Additional\nREGISTER ONLINE NOW or\nCLICK HERE to download the flyer
URL:https://duncansupply.com/event/american-standard-fall-technical-services-training-indianapolis-3/
LOCATION:Intermatic-logo_HP
CATEGORIES:HVAC Training
ATTACH;FMTTYPE=image/png:https://duncansupply.com/wp-content/uploads/2022/08/Nu-Calgon_InsidePage_Jan2022.png
END:VEVENT
BEGIN:VEVENT
DTSTART;TZID=America/Indiana/Indianapolis:20220405T150000
DTEND;TZID=America/Indiana/Indianapolis:20220405T193000
DTSTAMP:20260420T032848
CREATED:20220310T112500Z
LAST-MODIFIED:20220310T112500Z
UID:4519-1649170800-1649187000@duncansupply.com
SUMMARY:American Standard Spring Technical Services Training - Lafayette
DESCRIPTION:*** OPEN TO AMERICAN STANDARD DEALERS ONLY ***\nTuesday\, April 5\, 2022\n3:00 – 7:30 pm (Dinner at 5:00pm)\n$95 First Attendee\, $65 for Additional\nREGISTER ONLINE NOW or\nCLICK HERE to download the flyer
URL:https://duncansupply.com/event/american-standard-spring-technical-services-training-lafayette/
LOCATION:Double Tree by Hilton Lafayette\, 155 Progress Dr\, Lafayette\, IN\, 47905\, United States
CATEGORIES:HVAC Training
ATTACH;FMTTYPE=image/png:https://duncansupply.com/wp-content/uploads/2022/08/Nu-Calgon_InsidePage_Jan2022.png
END:VEVENT
BEGIN:VEVENT
DTSTART;TZID=America/Indiana/Indianapolis:20211206T173000
DTEND;TZID=America/Indiana/Indianapolis:20211206T190000
DTSTAMP:20260420T032848
CREATED:20211118T101847Z
LAST-MODIFIED:20211118T101847Z
UID:4264-1638811800-1638817200@duncansupply.com
SUMMARY:KE2 Thermsolutions Technical Training - Indianapolis
DESCRIPTION:*** KE2 Thermsolutions Technical Training***\nDecember 6th\, 2021 – Indianapolis\nClass: 5:30 PM – 7:00 PM  \n  $25.00 per attendee  \nCLICK HERE to download flyer OR \n     CLICK HERE  to register online \n 
URL:https://duncansupply.com/event/ke2-thermsolutions-technical-training-indianapolis/
LOCATION:Indianapolis Home Office (Bldg 5)\, 101 W 9th St\, Indianapolis\, IN\, 46204\, United States
CATEGORIES:Food Service,HVAC Training,Miscellaneous Training,Refrigeration Training
END:VEVENT
BEGIN:VEVENT
DTSTART;TZID=America/Indiana/Indianapolis:20211104T083000
DTEND;TZID=America/Indiana/Indianapolis:20211104T163000
DTSTAMP:20260420T032848
CREATED:20210921T153740Z
LAST-MODIFIED:20210921T153740Z
UID:4182-1636014600-1636043400@duncansupply.com
SUMMARY:Geothermal Hydronic Applications
DESCRIPTION:Thursday\, November 4th\, 2021\n8:30 am – 4:30 pm (Includes breakfast and lunch)\n$225.00 per Attendee\n8 hours towards NATE re-certification \nREGISTER ONLINE NOW or\nCLICK HERE to download the flyer
URL:https://duncansupply.com/event/geothermal-hydronic-applications/
LOCATION:Indianapolis Home Office (Bldg 5)\, 101 W 9th St\, Indianapolis\, IN\, 46204\, United States
CATEGORIES:HVAC Training
ATTACH;FMTTYPE=:
END:VEVENT
BEGIN:VEVENT
DTSTART;TZID=America/Indiana/Indianapolis:20211102T083000
DTEND;TZID=America/Indiana/Indianapolis:20211103T163000
DTSTAMP:20260420T032848
CREATED:20211102T083038Z
LAST-MODIFIED:20211102T083038Z
UID:4177-1635841800-1635957000@duncansupply.com
SUMMARY:Geothermal Advanced Troubleshooting - Indianapolis
DESCRIPTION:Tuesday\, November 2nd – Wednesday\, November 3rd\, 2021\n8:30 am – 4:30 pm (Includes breakfast and lunch)\n$225.00 per Attendee\n16 hours towards NATE re-certification \nREGISTER ONLINE NOW or\nCLICK HERE to download the flyer
URL:https://duncansupply.com/event/geothermal-advanced-troubleshooting-indianapolis-2/
LOCATION:Indianapolis Home Office (Bldg 5)\, 101 W 9th St\, Indianapolis\, IN\, 46204\, United States
CATEGORIES:HVAC Training
ATTACH;FMTTYPE=:
END:VEVENT
BEGIN:VEVENT
DTSTART;TZID=America/Indiana/Indianapolis:20211028T150000
DTEND;TZID=America/Indiana/Indianapolis:20211028T193000
DTSTAMP:20260420T032848
CREATED:20210902T115011Z
LAST-MODIFIED:20210902T115011Z
UID:4135-1635433200-1635449400@duncansupply.com
SUMMARY:American Standard Fall Technical Services Training - Indianapolis
DESCRIPTION:*** OPEN TO AMERICAN STANDARD DEALERS ONLY ***\nThursday\, October 28th\, 2021\n3:00 – 7:30 pm (Dinner at 5:00pm)\n$95 First Attendee\, $65 for Additional\nREGISTER ONLINE NOW or\nCLICK HERE to download the flyer
URL:https://duncansupply.com/event/american-standard-fall-technical-services-training-indianapolis-2/
LOCATION:Delta by Marriott Indianapolis Airport\, 5860 Fortune Circle West\, Indianapolis\, IN\, 46241\, United States
CATEGORIES:HVAC Training
ATTACH;FMTTYPE=image/png:https://duncansupply.com/wp-content/uploads/2022/08/Nu-Calgon_InsidePage_Jan2022.png
END:VEVENT
BEGIN:VEVENT
DTSTART;TZID=America/Indiana/Indianapolis:20211026T080000
DTEND;TZID=America/Indiana/Indianapolis:20211026T170000
DTSTAMP:20260420T032848
CREATED:20210902T114810Z
LAST-MODIFIED:20210902T114810Z
UID:4133-1635235200-1635267600@duncansupply.com
SUMMARY:American Standard Fall Technical Services Training - Fort Wayne
DESCRIPTION:*** OPEN TO AMERICAN STANDARD DEALERS ONLY ***\nTuesday\, October 26th\, 2021\n3:00 – 7:30 pm (Dinner at 5:00pm)\n$95 First Attendee\, $65 for Additional\nREGISTER ONLINE NOW or\nCLICK HERE to download the flyer
URL:https://duncansupply.com/event/american-standard-fall-technical-services-training-fort-wayne/
LOCATION:Branch Locations
CATEGORIES:HVAC Training
ATTACH;FMTTYPE=image/png:https://duncansupply.com/wp-content/uploads/2022/08/Nu-Calgon_InsidePage_Jan2022.png
END:VEVENT
BEGIN:VEVENT
DTSTART;TZID=America/Indiana/Indianapolis:20211021T150000
DTEND;TZID=America/Indiana/Indianapolis:20211021T193000
DTSTAMP:20260420T032848
CREATED:20210902T114645Z
LAST-MODIFIED:20210902T114645Z
UID:4131-1634828400-1634844600@duncansupply.com
SUMMARY:American Standard Fall Technical Services Training - Champaign
DESCRIPTION:*** OPEN TO AMERICAN STANDARD DEALERS ONLY ***\nThursday\, October 21st\, 2021\n3:00 – 7:30 pm (Dinner at 5:00pm)\n$95 First Attendee\, $65 for Additional\nREGISTER ONLINE NOW or\nCLICK HERE to download the flyer
URL:https://duncansupply.com/event/american-standard-fall-technical-services-training-champaign/
LOCATION:Holiday Inn Champaign Suites\, 101 Trade Center Drive\, Champaign\, IL\, 61820\, United States
CATEGORIES:HVAC Training
ATTACH;FMTTYPE=image/png:https://duncansupply.com/wp-content/uploads/2022/08/Nu-Calgon_InsidePage_Jan2022.png
END:VEVENT
BEGIN:VEVENT
DTSTART;TZID=America/Indiana/Indianapolis:20211019T150000
DTEND;TZID=America/Indiana/Indianapolis:20211019T193000
DTSTAMP:20260420T032848
CREATED:20210902T114445Z
LAST-MODIFIED:20210902T114445Z
UID:4129-1634655600-1634671800@duncansupply.com
SUMMARY:American Standard Fall Technical Services Training - Mishawaka
DESCRIPTION:*** OPEN TO AMERICAN STANDARD DEALERS ONLY ***\nTuesday\, October 19th\, 2021\n3:00 – 7:30 pm (Dinner at 5:00pm)\n$95 First Attendee\, $65 for Additional\nREGISTER ONLINE NOW or\nCLICK HERE to download the flyer
URL:https://duncansupply.com/event/american-standard-fall-technical-services-training-mishawaka/
LOCATION:Mishawaka Branch\, 56540 Twin Branch Dr\, Mishawaka\, IN\, 46545\, United States
CATEGORIES:HVAC Training
ATTACH;FMTTYPE=image/png:https://duncansupply.com/wp-content/uploads/2022/08/Nu-Calgon_InsidePage_Jan2022.png
END:VEVENT
BEGIN:VEVENT
DTSTART;TZID=America/Indiana/Indianapolis:20211014T150000
DTEND;TZID=America/Indiana/Indianapolis:20211014T193000
DTSTAMP:20260420T032848
CREATED:20210902T114148Z
LAST-MODIFIED:20210902T114148Z
UID:4127-1634223600-1634239800@duncansupply.com
SUMMARY:American Standard Fall Technical Services Training - Terre Haute
DESCRIPTION:*** OPEN TO AMERICAN STANDARD DEALERS ONLY ***\nThursday\, October 14th\, 2021\n3:00 – 7:30 pm (Dinner at 5:00pm)\n$95 First Attendee\, $65 for Additional\nREGISTER ONLINE NOW or\nCLICK HERE to download the flyer
URL:https://duncansupply.com/event/american-standard-fall-technical-service-training-terre-haute/
LOCATION:Holiday Inn Terre Haute\, 3300 US Hwy 41 South\, Terre Haute\, IN\, 47802\, United States
CATEGORIES:HVAC Training
ATTACH;FMTTYPE=image/png:https://duncansupply.com/wp-content/uploads/2022/08/Nu-Calgon_InsidePage_Jan2022.png
END:VEVENT
BEGIN:VEVENT
DTSTART;TZID=America/Indiana/Indianapolis:20211012T150000
DTEND;TZID=America/Indiana/Indianapolis:20211012T193000
DTSTAMP:20260420T032848
CREATED:20210902T113948Z
LAST-MODIFIED:20210902T113948Z
UID:4125-1634050800-1634067000@duncansupply.com
SUMMARY:American Standard Fall Technical Services Training - Lafayette
DESCRIPTION:*** OPEN TO AMERICAN STANDARD DEALERS ONLY ***\nTuesday\, October 12th\, 2021\n3:00 – 7:30 pm (Dinner at 5:00pm)\n$95 First Attendee\, $65 for Additional\nREGISTER ONLINE NOW or\nCLICK HERE to download the flyer
URL:https://duncansupply.com/event/american-standard-fall-technical-service-training-lafayette/
LOCATION:Double Tree by Hilton Lafayette\, 155 Progress Dr\, Lafayette\, IN\, 47905\, United States
CATEGORIES:HVAC Training
ATTACH;FMTTYPE=image/png:https://duncansupply.com/wp-content/uploads/2022/08/Nu-Calgon_InsidePage_Jan2022.png
END:VEVENT
BEGIN:VEVENT
DTSTART;TZID=America/Indiana/Indianapolis:20211007T150000
DTEND;TZID=America/Indiana/Indianapolis:20211007T193000
DTSTAMP:20260420T032848
CREATED:20210902T113743Z
LAST-MODIFIED:20210902T113743Z
UID:4123-1633618800-1633635000@duncansupply.com
SUMMARY:American Standard Fall Technical Services Training - Indianapolis
DESCRIPTION:*** OPEN TO AMERICAN STANDARD DEALERS ONLY ***\nThursday\, October 7th\, 2021\n3:00 – 7:30 pm (Dinner at 5:00pm)\n$95 First Attendee\, $65 for Additional\nREGISTER ONLINE NOW or\nCLICK HERE to download the flyer
URL:https://duncansupply.com/event/american-standard-fall-technical-services-training-indianapolis/
LOCATION:Delta by Marriott Indianapolis Airport\, 5860 Fortune Circle West\, Indianapolis\, IN\, 46241\, United States
CATEGORIES:HVAC Training
ATTACH;FMTTYPE=image/png:https://duncansupply.com/wp-content/uploads/2022/08/Nu-Calgon_InsidePage_Jan2022.png
END:VEVENT
BEGIN:VEVENT
DTSTART;TZID=America/Indiana/Indianapolis:20211005T150000
DTEND;TZID=America/Indiana/Indianapolis:20211005T193000
DTSTAMP:20260420T032848
CREATED:20210902T113435Z
LAST-MODIFIED:20210902T113435Z
UID:4121-1633446000-1633462200@duncansupply.com
SUMMARY:American Standard Fall Technical Services Training - Bloomington
DESCRIPTION:*** OPEN TO AMERICAN STANDARD DEALERS ONLY ***\nTuesday\, October 5th\, 2021\n3:00 – 7:30 pm (Dinner at 5:00pm)\n$95 First Attendee\, $65 for Additional\nREGISTER ONLINE NOW or\nCLICK HERE to download the flyer
URL:https://duncansupply.com/event/american-standard-fall-technical-services-training-bloomington/
LOCATION:CalgonFV
CATEGORIES:HVAC Training
ATTACH;FMTTYPE=image/png:https://duncansupply.com/wp-content/uploads/2022/08/Nu-Calgon_InsidePage_Jan2022.png
END:VEVENT
BEGIN:VEVENT
DTSTART;TZID=America/Chicago:20210928T070000
DTEND;TZID=America/Chicago:20210929T150000
DTSTAMP:20260420T032848
CREATED:20210902T112016Z
LAST-MODIFIED:20210902T112016Z
UID:4116-1632812400-1632927600@duncansupply.com
SUMMARY:No Pressure Selling Sales Training - Mahomet (IL)
DESCRIPTION:*** OPEN TO AMERICAN STANDARD DEALERS ONLY ***\nTuesday\, September 28th – Wednesday\, September 29th\n8:00 – 4:00 pm Central (Lunch at 12:30)\n$725.00 per person\nREGISTER ONLINE NOW or\nCLICK HERE to download the flyer
URL:https://duncansupply.com/event/no-pressure-selling-sales-training-mahomet-il/
LOCATION:Cornbelt Fire Protection District\, 506 E Main St\, Mahomet\, IL\, 61853\, United States
CATEGORIES:HVAC Training
ATTACH;FMTTYPE=image/png:https://duncansupply.com/wp-content/uploads/2022/08/Nu-Calgon_InsidePage_Jan2022.png
END:VEVENT
BEGIN:VEVENT
DTSTART;TZID=America/Indiana/Indianapolis:20210831T073000
DTEND;TZID=America/Indiana/Indianapolis:20210831T170000
DTSTAMP:20260420T032848
CREATED:20210514T151208Z
LAST-MODIFIED:20210514T151208Z
UID:3800-1630395000-1630429200@duncansupply.com
SUMMARY:American Standard Heat Exchanger - Delta by Marriott Indianapolis Airport
DESCRIPTION:  \n*** BECOME A HEAT EXCHANGER EXPERT***\nTuesday\, August 31st\, 2021\nSign-in: 7;30 AM – 8:00 AM \nClass: 8:00 AM – 5:00 PM (Lunch at 11:30 AM) \n  $850.00 per attendee Become A Heat Exchanger Expert 08.31.21 \nCLICK HERE to download flyer OR \n     CLICK HERE  to register online \n  \n 
URL:https://duncansupply.com/event/american-standard-heat-exchanger-indianapolis-crowne-plaza-airport/
LOCATION:Delta by Marriott Indianapolis Airport\, 5860 Fortune Circle West\, Indianapolis\, IN\, 46241\, United States
CATEGORIES:HVAC Training
END:VEVENT
BEGIN:VEVENT
DTSTART;TZID=America/Indiana/Indianapolis:20210526T083000
DTEND;TZID=America/Indiana/Indianapolis:20210526T163000
DTSTAMP:20260420T032848
CREATED:20210421T153619Z
LAST-MODIFIED:20210421T153619Z
UID:3707-1622017800-1622046600@duncansupply.com
SUMMARY:American Standard Variable Speed Outdoor Unit Training - Indianapolis
DESCRIPTION:*** OPEN TO AMERICAN STANDARD DEALERS ONLY ***\nWednesday\, May 26\, 2021\n8:30 am – 4:30 pm (Lunch at 12:30)\n$100.00 per technician\nProof of completion of Variable Speed Outdoor Products Technical (AS) 8-Hour Course is required to attend this training. \nCLICK HERE to download the flyer \nRegistration Deadline:  Friday\, May 20th
URL:https://duncansupply.com/event/variable-speed-training-indianapolis/
LOCATION:Indianapolis Home Office (Bldg 5)\, 101 W 9th St\, Indianapolis\, IN\, 46204\, United States
CATEGORIES:HVAC Training
ATTACH;FMTTYPE=:
END:VEVENT
BEGIN:VEVENT
DTSTART;TZID=America/Indiana/Indianapolis:20201103T083000
DTEND;TZID=America/Indiana/Indianapolis:20201106T143000
DTSTAMP:20260420T032848
CREATED:20201019T144957Z
LAST-MODIFIED:20201019T144957Z
UID:3426-1604392200-1604673000@duncansupply.com
SUMMARY:Virtual ASSET Training
DESCRIPTION:*** OPEN TO AMERICAN STANDARD DEALERS ONLY ***\nTuesday\, November 3rd – 6th\nThree Sessions Each Day:  \n8:30 – 10:00 AM / 10:30 – 12:00 PM / 1:00 – 2:30 PM\n$1\,595.00 per attendee\nCLICK HERE to download the flyer  OR  REGISTER ONLINE NOW! \nRegistration Deadline:  Friday\, November 6th
URL:https://duncansupply.com/event/asset/
LOCATION:IN
CATEGORIES:HVAC Training
END:VEVENT
END:VCALENDAR