BEGIN:VCALENDAR
VERSION:2.0
PRODID:-//Duncan Supply - ECPv6.15.15//NONSGML v1.0//EN
CALSCALE:GREGORIAN
METHOD:PUBLISH
X-WR-CALNAME:Duncan Supply
X-ORIGINAL-URL:https://duncansupply.com
X-WR-CALDESC:Events for Duncan Supply
REFRESH-INTERVAL;VALUE=DURATION:PT1H
X-Robots-Tag:noindex
X-PUBLISHED-TTL:PT1H
BEGIN:VTIMEZONE
TZID:UTC
BEGIN:STANDARD
TZOFFSETFROM:+0000
TZOFFSETTO:+0000
TZNAME:UTC
DTSTART:20170101T000000
END:STANDARD
END:VTIMEZONE
BEGIN:VEVENT
DTSTART;TZID=UTC:20180829T150000
DTEND;TZID=UTC:20180829T200000
DTSTAMP:20260421T044753
CREATED:20180809T142238Z
LAST-MODIFIED:20180809T142238Z
UID:1536-1535554800-1535572800@duncansupply.com
SUMMARY:American Standard Fall Marketing Meeting - Champaign
DESCRIPTION:American Standard Dealers Only \nDuncan Supply would like to invite you to the 2018 Fall Marketing Meetings.\nWe have a lot to talk about! \nChampaign: Wednesday\, August 29th from 3:00 PM – 8:00 PM Dinner at 5:00 PM\nHawthorn Suites (101 Trade Center Dr.\, Champaign\, 61820) \nCLICK HERE to Register
URL:https://duncansupply.com/event/fall-marketing-meeting-indianapolis-copy-4/
LOCATION:Hawthorn Suites Champaign\, 101 Trade Center Drive\, Champaign\, IN\, 61820\, United States
CATEGORIES:HVAC Training
ATTACH;FMTTYPE=:
END:VEVENT
BEGIN:VEVENT
DTSTART;TZID=UTC:20180829T083000
DTEND;TZID=UTC:20180829T133000
DTSTAMP:20260421T044753
CREATED:20180809T142144Z
LAST-MODIFIED:20180809T142144Z
UID:1534-1535531400-1535549400@duncansupply.com
SUMMARY:American Standard Fall Marketing Meeting - Terre Haute
DESCRIPTION:American Standard Dealers Only \nDuncan Supply would like to invite you to the 2018 Fall Marketing Meetings.\nWe have a lot to talk about! \nTerre Haute: Wednesday\, August 29th from 8:30 AM – 1:30 PM Lunch at 11:30 AM\nHoliday Inn Terre Haute (3300 US Hwy 41 S\, Terre Haute\, 47802) \nCLICK HERE to Register
URL:https://duncansupply.com/event/fall-marketing-meeting-indianapolis-copy-3/
LOCATION:Holiday Inn Terre Haute\, 3300 US Hwy 41 South\, Terre Haute\, IN\, 47802\, United States
CATEGORIES:HVAC Training
ATTACH;FMTTYPE=:
END:VEVENT
BEGIN:VEVENT
DTSTART;TZID=UTC:20180828T153000
DTEND;TZID=UTC:20180828T203000
DTSTAMP:20260421T044753
CREATED:20180809T142052Z
LAST-MODIFIED:20180809T142052Z
UID:1532-1535470200-1535488200@duncansupply.com
SUMMARY:American Standard Fall Marketing Meeting - Bloomington
DESCRIPTION:American Standard Dealers Only \nDuncan Supply would like to invite you to the 2018 Fall Marketing Meetings.\nWe have a lot to talk about! \nBloomington: Tuesday\, August 28th from 3:30 PM – 8:30 PM Dinner at 5:30 PM\nBloomington Branch (1204 N. Loesch Rd.\, Bloomington\, 47404) \nCLICK HERE to Register
URL:https://duncansupply.com/event/fall-marketing-meeting-indianapolis-copy-2/
LOCATION:Bloomington Branch\, 1204 N Loesch Rd\, Bloomington\, IN\, 47404\, United States
CATEGORIES:HVAC Training
ATTACH;FMTTYPE=:
END:VEVENT
BEGIN:VEVENT
DTSTART;TZID=UTC:20180828T083000
DTEND;TZID=UTC:20180828T133000
DTSTAMP:20260421T044753
CREATED:20180809T141952Z
LAST-MODIFIED:20180809T141952Z
UID:1530-1535445000-1535463000@duncansupply.com
SUMMARY:American Standard Fall Marketing Meeting - Indianapolis
DESCRIPTION:American Standard Dealers Only \nDuncan Supply would like to invite you to the 2018 Fall Marketing Meetings.\nWe have a lot to talk about! \nIndianapolis: Tuesday\, August 28th from 8:30 AM until 1:30 PM Lunch at 11:30 AM\nCrowne Plaza Airport (2501 S. High School Rd.\, Indianapolis\, 46241) \nCLICK HERE to Register
URL:https://duncansupply.com/event/fall-marketing-meeting-indianapolis-copy/
LOCATION:Intermatic-logo_HP
CATEGORIES:HVAC Training
ATTACH;FMTTYPE=:
END:VEVENT
BEGIN:VEVENT
DTSTART;TZID=UTC:20180801T080000
DTEND;TZID=UTC:20180801T130000
DTSTAMP:20260421T044753
CREATED:20180702T125428Z
LAST-MODIFIED:20180702T125428Z
UID:1428-1533110400-1533128400@duncansupply.com
SUMMARY:Canceled - PROKUP Properties of Air & Measurements - South Bend
DESCRIPTION:PROKUP Properties of Air & Measurements \nDate: Wednesday\, August 1st\, 2018 8am-1pm (Lunch at 12)\nLocation: Comfort Suites\, 60971 US 31 South\, South Bend\, IN 46614\nCost Per Attendee: $140.00 Per Attendee\nCLICK HERE to download the flyer \nTopics to be covered:\n• The elements of heat load on evaporator coils CFM versus mass weight and Wet Bulb Heat\nContent per pound of air.\n• The rated conditions of ARI and how indoor heat affects capacity of systems.\n• Measuring CFM using temperature rise Electric Heat Single Phase and 3 Phase Systems.\n• Measuring CFM using temperature rise Gas Furnaces.\n• Measuring CFM using Static Pressure Tips and Dual Port Manometers
URL:https://duncansupply.com/event/prokup-properties-of-air-measurements-south-bend/
LOCATION:Comfort Suites – South Bend\, 60971 US 31 South\, South Bend\, IN\, 46614\, United States
CATEGORIES:HVAC Training
END:VEVENT
BEGIN:VEVENT
DTSTART;TZID=UTC:20180527T080000
DTEND;TZID=UTC:20180528T170000
DTSTAMP:20260421T044753
CREATED:20180508T203623Z
LAST-MODIFIED:20180508T203623Z
UID:1384-1527408000-1527526800@duncansupply.com
SUMMARY:Closed for Holiday - Indianapolis Branch
DESCRIPTION:
URL:https://duncansupply.com/event/closed-for-holiday-indianapolis-branch/
LOCATION:Bloom
CATEGORIES:Counter Days,Food Service,HVAC Training,Miscellaneous Training,NATE Testing,Refrigeration Training
END:VEVENT
BEGIN:VEVENT
DTSTART;TZID=UTC:20180524T150000
DTEND;TZID=UTC:20180524T190000
DTSTAMP:20260421T044753
CREATED:20180511T161211Z
LAST-MODIFIED:20180511T161211Z
UID:1395-1527174000-1527188400@duncansupply.com
SUMMARY:Residential & Light Commercial Ductless Intro Training - Elkhart
DESCRIPTION:LG Residential & Light Commercial Ductless Introductory Training  \nTraining by Aaron Seale \n3pm – 7pm \nCost: $45 Per Person \n*Dinner Provided* \nCLICK HERE for the registration form. \nTOPICS TO BE COVERED \n\nUnderstanding LG inverters\nApplication considerations\nEquipment overview\nInstallation practices
URL:https://duncansupply.com/event/residential-light-commercial-ductless-intro-training-indianapolis-copy-copy/
CATEGORIES:HVAC Training,Miscellaneous Training,Refrigeration Training
ATTACH;FMTTYPE=:
END:VEVENT
BEGIN:VEVENT
DTSTART;TZID=UTC:20180522T150000
DTEND;TZID=UTC:20180522T190000
DTSTAMP:20260421T044753
CREATED:20180511T161112Z
LAST-MODIFIED:20180511T161112Z
UID:1393-1527001200-1527015600@duncansupply.com
SUMMARY:Residential & Light Commercial Ductless Intro Training - Bloomington
DESCRIPTION:LG Residential & Light Commercial Ductless Introductory Training  \nTraining by Aaron Seale \n3pm – 7pm \nCost: $45 Per Person \n*Dinner Provided* \nCLICK HERE for the registration form. \nTOPICS TO BE COVERED \n\nUnderstanding LG inverters\nApplication considerations\nEquipment overview\nInstallation practices
URL:https://duncansupply.com/event/residential-light-commercial-ductless-intro-training-indianapolis-copy/
LOCATION:Bloomington Branch\, 1204 N Loesch Rd\, Bloomington\, IN\, 47404\, United States
CATEGORIES:HVAC Training,Miscellaneous Training,Refrigeration Training
END:VEVENT
BEGIN:VEVENT
DTSTART;TZID=UTC:20180517T150000
DTEND;TZID=UTC:20180517T190000
DTSTAMP:20260421T044753
CREATED:20180511T161103Z
LAST-MODIFIED:20180511T161103Z
UID:1390-1526569200-1526583600@duncansupply.com
SUMMARY:Residential & Light Commercial Ductless Intro Training - Indianapolis
DESCRIPTION:LG Residential & Light Commercial Ductless Introductory Training  \nTraining by Aaron Seale \n3pm – 7pm \nCost: $45 Per Person \n*Dinner Provided* \nCLICK HERE for the registration form. \nTOPICS TO BE COVERED \n\nUnderstanding LG inverters\nApplication considerations\nEquipment overview\nInstallation practices
URL:https://duncansupply.com/event/residential-light-commercial-ductless-intro-training-indianapolis/
CATEGORIES:HVAC Training,Miscellaneous Training,Refrigeration Training
ATTACH;FMTTYPE=:
END:VEVENT
BEGIN:VEVENT
DTSTART;TZID=UTC:20180515T150000
DTEND;TZID=UTC:20180515T190000
DTSTAMP:20260421T044753
CREATED:20180924T150248Z
LAST-MODIFIED:20180924T150248Z
UID:1630-1526396400-1526410800@duncansupply.com
SUMMARY:American Standard Spring Technical Training - Indy
DESCRIPTION:Spring Technical Training \nNew Side Discharge 16 Seer Heat Pump \nHeat Pumps and Air Conditioners 14 SEER \nComfort Controls \nIndoor Air Quality \n  \nTime : 3:00pm – 7:00pm. Meal at 5pm \nCLICK HERE  for the registration form
URL:https://duncansupply.com/event/american-standard-spring-technical-training-fort-wayne-copy-copy-copy-copy-2-copy-2/
LOCATION:Intermatic-logo_HP
CATEGORIES:HVAC Training
END:VEVENT
BEGIN:VEVENT
DTSTART;TZID=UTC:20180515T150000
DTEND;TZID=UTC:20180515T190000
DTSTAMP:20260421T044753
CREATED:20180924T150213Z
LAST-MODIFIED:20180924T150213Z
UID:1629-1526396400-1526410800@duncansupply.com
SUMMARY:American Standard Spring Technical Training - Indy
DESCRIPTION:Spring Technical Training \nNew Side Discharge 16 Seer Heat Pump \nHeat Pumps and Air Conditioners 14 SEER \nComfort Controls \nIndoor Air Quality \n  \nTime : 3:00pm – 7:00pm. Meal at 5pm \nCLICK HERE  for the registration form
URL:https://duncansupply.com/event/american-standard-spring-technical-training-fort-wayne-copy-copy-copy-copy-2-copy/
LOCATION:Intermatic-logo_HP
CATEGORIES:HVAC Training
END:VEVENT
BEGIN:VEVENT
DTSTART;TZID=UTC:20180515T150000
DTEND;TZID=UTC:20180515T190000
DTSTAMP:20260421T044753
CREATED:20180511T162040Z
LAST-MODIFIED:20180511T162040Z
UID:1397-1526396400-1526410800@duncansupply.com
SUMMARY:Residential & Light Commercial Ductless Intro Training - Champaign (Canceled)
DESCRIPTION:***This class has been canceled – please see other dates*** \nLG Residential & Light Commercial Ductless Introductory Training  \nTraining by Aaron Seale \n3pm – 7pm \nCost: $45 Per Person \n*Dinner Provided* \nCLICK HERE for the registration form. \nTOPICS TO BE COVERED \n\nUnderstanding LG inverters\nApplication considerations\nEquipment overview\nInstallation practices
URL:https://duncansupply.com/event/residential-light-commercial-ductless-intro-training-indianapolis-copy-2/
LOCATION:Parkhill Applied Technology Center Rooms T106/T107\, 2400 W Bradley Ave\, Champaign\, IL\, 61821\, United States
CATEGORIES:HVAC Training,Miscellaneous Training,Refrigeration Training
ATTACH;FMTTYPE=:
END:VEVENT
BEGIN:VEVENT
DTSTART;TZID=UTC:20180515T150000
DTEND;TZID=UTC:20180515T190000
DTSTAMP:20260421T044753
CREATED:20180416T122411Z
LAST-MODIFIED:20180416T122411Z
UID:1357-1526396400-1526410800@duncansupply.com
SUMMARY:American Standard Spring Technical Training - Indy
DESCRIPTION:Spring Technical Training \nNew Side Discharge 16 Seer Heat Pump \nHeat Pumps and Air Conditioners 14 SEER \nComfort Controls \nIndoor Air Quality \n  \nTime : 3:00pm – 7:00pm. Meal at 5pm \nCLICK HERE  for the registration form
URL:https://duncansupply.com/event/american-standard-spring-technical-training-fort-wayne-copy-copy-copy-copy-2/
LOCATION:Intermatic-logo_HP
CATEGORIES:HVAC Training
END:VEVENT
BEGIN:VEVENT
DTSTART;TZID=UTC:20180510T150000
DTEND;TZID=UTC:20180510T190000
DTSTAMP:20260421T044753
CREATED:20180314T221152Z
LAST-MODIFIED:20180314T221152Z
UID:1315-1525964400-1525978800@duncansupply.com
SUMMARY:American Standard Spring Technical Training - Champaign
DESCRIPTION:Spring Technical Training \nNew Side Discharge 16 Seer Heat Pump \nHeat Pumps and Air Conditioners 14 SEER \nComfort Controls \nIndoor Air Quality \n  \nTime : 3:00pm – 7:00pm. Meal at 5pm \n CLICK HERE  for the registration form
URL:https://duncansupply.com/event/american-standard-spring-technical-training-fort-wayne-copy-copy-copy-copy-copy-copy/
LOCATION:Hawthorn Suites Champaign\, 101 Trade Center Drive\, Champaign\, IN\, 61820\, United States
CATEGORIES:HVAC Training
END:VEVENT
BEGIN:VEVENT
DTSTART;TZID=UTC:20180508T080000
DTEND;TZID=UTC:20180508T170000
DTSTAMP:20260421T044753
CREATED:20180124T154139Z
LAST-MODIFIED:20180124T154139Z
UID:1146-1525766400-1525798800@duncansupply.com
SUMMARY:AccuComfort Quick Wins - Indianapolis
DESCRIPTION:OPEN TO AMERICAN STANDARD DEALERS ONLY \nCLICK HERE to download the registration form \nCost: $350.00 per person\n*Includes breakfast & lunch\n\nReturn registration form to:\ntraining@duncansupply.com\nor by fax (317) 264-6689 \nTOPICS TO BE COVERED: \n\nBest practices for addressing multiple Comfort Concerns using variable speed products\nDevelop a long-term plan for using variable speed products to increase margin without increasing labor costs\nDiscover the market opportunity for precision comfort with today’s consumers\nUsing variable speed products as a follow-up opportunity to stay in touch with some of your best customers
URL:https://duncansupply.com/event/accucomfort-quick-wins-indianapolis/
CATEGORIES:HVAC Training
ATTACH;FMTTYPE=:
END:VEVENT
BEGIN:VEVENT
DTSTART;TZID=UTC:20180503T150000
DTEND;TZID=UTC:20180503T190000
DTSTAMP:20260421T044753
CREATED:20180314T221021Z
LAST-MODIFIED:20180314T221021Z
UID:1313-1525359600-1525374000@duncansupply.com
SUMMARY:American Standard Spring Technical Training - Terre Haute
DESCRIPTION:Spring Technical Training \nNew Side Discharge 16 Seer Heat Pump \nHeat Pumps and Air Conditioners 14 SEER \nComfort Controls \nIndoor Air Quality \n  \nTime : 3:00pm – 7:00pm. Meal at 5pm \n CLICK HERE  for the registration form
URL:https://duncansupply.com/event/american-standard-spring-technical-training-fort-wayne-copy-copy-copy-copy-copy/
LOCATION:Holiday Inn Terre Haute\, 3300 US Hwy 41 South\, Terre Haute\, IN\, 47802\, United States
CATEGORIES:HVAC Training
END:VEVENT
BEGIN:VEVENT
DTSTART;TZID=UTC:20180501T150000
DTEND;TZID=UTC:20180501T190000
DTSTAMP:20260421T044753
CREATED:20180314T220907Z
LAST-MODIFIED:20180314T220907Z
UID:1311-1525186800-1525201200@duncansupply.com
SUMMARY:American Standard Spring Technical Training - Lafayette
DESCRIPTION:Spring Technical Training \nNew Side Discharge 16 Seer Heat Pump \nHeat Pumps and Air Conditioners 14 SEER \nComfort Controls \nIndoor Air Quality \n  \nTime : 3:00pm – 7:00pm. Meal at 5pm \n CLICK HERE  for the registration form
URL:https://duncansupply.com/event/american-standard-spring-technical-training-fort-wayne-copy-copy-copy-copy/
LOCATION:Chemours-logo_new_HP
CATEGORIES:HVAC Training
END:VEVENT
BEGIN:VEVENT
DTSTART;TZID=UTC:20180426T150000
DTEND;TZID=UTC:20180426T190000
DTSTAMP:20260421T044753
CREATED:20180314T220728Z
LAST-MODIFIED:20180314T220728Z
UID:1309-1524754800-1524769200@duncansupply.com
SUMMARY:American Standard Spring Technical Training - Indy
DESCRIPTION:Spring Technical Training \nNew Side Discharge 16 Seer Heat Pump \nHeat Pumps and Air Conditioners 14 SEER \nComfort Controls \nIndoor Air Quality \n  \nTime : 3:00pm – 7:00pm. Meal at 5pm \n CLICK HERE  for the registration form
URL:https://duncansupply.com/event/american-standard-spring-technical-training-fort-wayne-copy-copy-copy/
LOCATION:Intermatic-logo_HP
CATEGORIES:HVAC Training
END:VEVENT
BEGIN:VEVENT
DTSTART;TZID=UTC:20180424T150000
DTEND;TZID=UTC:20180424T190000
DTSTAMP:20260421T044753
CREATED:20180323T171812Z
LAST-MODIFIED:20180323T171812Z
UID:1332-1524582000-1524596400@duncansupply.com
SUMMARY:LG Residential & Light Commercial Ductless Intro Training - Fort Wayne
DESCRIPTION:LG Training  \nResidential & Light Commercial Ductless Intro Training \nCLICK HERE for the registration flyer \nTuesday April 24th \n3:00pm – 7:00pm \n\nTopics to be covered: \n\nInstallation Practices\nBasic Technical Training\nApplication Condiserations\nEquipment Overview
URL:https://duncansupply.com/event/lg-residential-light-commercial-ductless-intro-training-fort-wayne/
LOCATION:Branch Locations
CATEGORIES:HVAC Training
END:VEVENT
BEGIN:VEVENT
DTSTART;TZID=UTC:20180424T150000
DTEND;TZID=UTC:20180424T190000
DTSTAMP:20260421T044753
CREATED:20180314T220621Z
LAST-MODIFIED:20180314T220621Z
UID:1307-1524582000-1524596400@duncansupply.com
SUMMARY:American Standard Spring Technical Training - Elkhart
DESCRIPTION:Spring Technical Training \nNew Side Discharge 16 Seer Heat Pump \nHeat Pumps and Air Conditioners 14 SEER \nComfort Controls \nIndoor Air Quality \n  \nTime : 3:00pm – 7:00pm. Meal at 5pm \n CLICK HERE  for the registration form
URL:https://duncansupply.com/event/american-standard-spring-technical-training-fort-wayne-copy-copy/
LOCATION:CPS-logo_HP
CATEGORIES:HVAC Training
END:VEVENT
BEGIN:VEVENT
DTSTART;TZID=UTC:20180419T150000
DTEND;TZID=UTC:20180419T190000
DTSTAMP:20260421T044753
CREATED:20180314T220412Z
LAST-MODIFIED:20180314T220412Z
UID:1299-1524150000-1524164400@duncansupply.com
SUMMARY:American Standard Spring Technical Training - Bloomington
DESCRIPTION:Spring Technical Training \nNew Side Discharge 16 Seer Heat Pump \nHeat Pumps and Air Conditioners 14 SEER \nComfort Controls \nIndoor Air Quality \n  \nTime : 3:00pm – 7:00pm. Meal at 5pm \n CLICK HERE  for the registration form
URL:https://duncansupply.com/event/american-standard-spring-technical-training-fort-wayne/
LOCATION:CalgonFV
CATEGORIES:HVAC Training
END:VEVENT
BEGIN:VEVENT
DTSTART;TZID=UTC:20180417T150000
DTEND;TZID=UTC:20180417T190000
DTSTAMP:20260421T044753
CREATED:20180314T220424Z
LAST-MODIFIED:20180314T220424Z
UID:1302-1523977200-1523991600@duncansupply.com
SUMMARY:American Standard Spring Technical Training - Fort Wayne
DESCRIPTION:Spring Technical Training \nNew Side Discharge 16 Seer Heat Pump \nHeat Pumps and Air Conditioners 14 SEER \nComfort Controls \nIndoor Air Quality \n  \nTime : 3:00pm – 7:00pm. Meal at 5pm \n CLICK HERE  for the registration form
URL:https://duncansupply.com/event/american-standard-spring-technical-training-fort-wayne-copy/
LOCATION:Don Hall’s Guest House\, 1313 W. Washington Center Rd.\, Fort Wayne\, IN\, 46818\, United States
CATEGORIES:HVAC Training
END:VEVENT
BEGIN:VEVENT
DTSTART;TZID=UTC:20180404T173000
DTEND;TZID=UTC:20180404T193000
DTSTAMP:20260421T044753
CREATED:20180202T175938Z
LAST-MODIFIED:20180202T175938Z
UID:1198-1522863000-1522870200@duncansupply.com
SUMMARY:Century Motors (ECM) - Indianapolis
DESCRIPTION:  \nCLICK HERE to download the registration form \nCost: $25.00 per person\n*Includes lunch\n\nReturn registration form to:\ntraining@duncansupply.com\nor by fax (317) 264-6689 \n  \nTOPICS TO BE COVERED \nIntroduction to ECM & History \nMotors & ECM Technology Overview \nIn-depth look at ECM \nHands-On Installation\, Wiring\, Field Testing and Programming
URL:https://duncansupply.com/event/century-motors-ecm-indianapolis/
CATEGORIES:HVAC Training
ATTACH;FMTTYPE=:
END:VEVENT
BEGIN:VEVENT
DTSTART;TZID=UTC:20180315T080000
DTEND;TZID=UTC:20180315T130000
DTSTAMP:20260421T044753
CREATED:20180207T145246Z
LAST-MODIFIED:20180207T145246Z
UID:1211-1521100800-1521118800@duncansupply.com
SUMMARY:Southwark Duct Design - Indianapolis
DESCRIPTION:Cost: $35 \n*Includes lunch \nCLICK HERE to download the registration form\n\nReturn registration form to:\ntraining@duncansupply.com\nor by fax (317) 264-6689 \n  \nTOPICS TO BE COVERED: \n\n\n\nAir flow measurements and terminology\nHeat gain/heat loss dynamics and calculations\nBasic residential design and air flow calculation\nSensible heat formula and CFM calculation\nSystem component pressure drop dynamics\nForced air pipe/duct and fittings review\nDuct sizing theory and velocity limits\nComplete instruction for the use of the sheet metal duct calculator\nSupply distribution system and return distribution system review and calculations\nDuct gauges and good installation practices\nResidential venting engineering and installation and filter size calculations\n\n  \nNOTE: Each Technician—this session will allow 4 hours towards NATE re-certification. \n 
URL:https://duncansupply.com/event/southwark-duct-design-indianapolis/
CATEGORIES:HVAC Training
END:VEVENT
BEGIN:VEVENT
DTSTART;TZID=UTC:20180314T173000
DTEND;TZID=UTC:20180314T193000
DTSTAMP:20260421T044753
CREATED:20180115T205139Z
LAST-MODIFIED:20180115T205139Z
UID:1097-1521048600-1521055800@duncansupply.com
SUMMARY:Sporlan Valve Training - Indianapolis
DESCRIPTION:CLICK HERE to download the registration form \nCost: $25.00 per person\n*Includes box meal\n\nReturn registration form to:\ntraining@duncansupply.com\nor by fax (317) 264-6689 \n  \nTOPICS TO BE COVERED \nCharges & Sizes \nTroubleshooting TEV Valves \nFilter Driers
URL:https://duncansupply.com/event/sporlan-valve-training-indianapolis/
CATEGORIES:HVAC Training,Miscellaneous Training,Refrigeration Training
ATTACH;FMTTYPE=:
END:VEVENT
BEGIN:VEVENT
DTSTART;TZID=UTC:20180314T080000
DTEND;TZID=UTC:20180314T130000
DTSTAMP:20260421T044753
CREATED:20180207T145133Z
LAST-MODIFIED:20180207T145133Z
UID:1208-1521014400-1521032400@duncansupply.com
SUMMARY:Southwark Duct Design - Terre Haute
DESCRIPTION:Cost: $35 \n*Includes lunch \nCLICK HERE to download the registration form\n\nReturn registration form to:\ntraining@duncansupply.com\nor by fax (317) 264-6689 \n  \nTOPICS TO BE COVERED: \n\n\n\nAir flow measurements and terminology\nHeat gain/heat loss dynamics and calculations\nBasic residential design and air flow calculation\nSensible heat formula and CFM calculation\nSystem component pressure drop dynamics\nForced air pipe/duct and fittings review\nDuct sizing theory and velocity limits\nComplete instruction for the use of the sheet metal duct calculator\nSupply distribution system and return distribution system review and calculations\nDuct gauges and good installation practices\nResidential venting engineering and installation and filter size calculations\n\n  \nNOTE: Each Technician—this session will allow 4 hours towards NATE re-certification. \n 
URL:https://duncansupply.com/event/southwark-duct-design-terre-haute/
LOCATION:Holiday Inn Terre Haute\, 3300 US Hwy 41 South\, Terre Haute\, IN\, 47802\, United States
CATEGORIES:HVAC Training
END:VEVENT
BEGIN:VEVENT
DTSTART;TZID=UTC:20180313T080000
DTEND;TZID=UTC:20180313T130000
DTSTAMP:20260421T044753
CREATED:20180207T144441Z
LAST-MODIFIED:20180207T144441Z
UID:1205-1520928000-1520946000@duncansupply.com
SUMMARY:Southwark Duct Design - Champaign
DESCRIPTION:Cost: $35 \n*Includes lunch \nCLICK HERE to download the registration form\n\nReturn registration form to:\ntraining@duncansupply.com\nor by fax (317) 264-6689 \n  \nTOPICS TO BE COVERED: \n\n\n\nAir flow measurements and terminology\nHeat gain/heat loss dynamics and calculations\nBasic residential design and air flow calculation\nSensible heat formula and CFM calculation\nSystem component pressure drop dynamics\nForced air pipe/duct and fittings review\nDuct sizing theory and velocity limits\nComplete instruction for the use of the sheet metal duct calculator\nSupply distribution system and return distribution system review and calculations\nDuct gauges and good installation practices\nResidential venting engineering and installation and filter size calculations\n\n  \nNOTE: Each Technician—this session will allow 4 hours towards NATE re-certification. \n 
URL:https://duncansupply.com/event/southwark-duct-design-champaign/
LOCATION:Hawthorn Suites Champaign\, 101 Trade Center Drive\, Champaign\, IN\, 61820\, United States
CATEGORIES:HVAC Training
END:VEVENT
BEGIN:VEVENT
DTSTART;TZID=UTC:20180312T080000
DTEND;TZID=UTC:20180312T130000
DTSTAMP:20260421T044753
CREATED:20180207T144215Z
LAST-MODIFIED:20180207T144215Z
UID:1201-1520841600-1520859600@duncansupply.com
SUMMARY:Southwark Duct Design - Kokomo
DESCRIPTION:Cost: $35 \n*Includes lunch \nCLICK HERE to download the registration form\n\nReturn registration form to:\ntraining@duncansupply.com\nor by fax (317) 264-6689 \n  \nTOPICS TO BE COVERED: \n\n\n\nAir flow measurements and terminology\nHeat gain/heat loss dynamics and calculations\nBasic residential design and air flow calculation\nSensible heat formula and CFM calculation\nSystem component pressure drop dynamics\nForced air pipe/duct and fittings review\nDuct sizing theory and velocity limits\nComplete instruction for the use of the sheet metal duct calculator\nSupply distribution system and return distribution system review and calculations\nDuct gauges and good installation practices\nResidential venting engineering and installation and filter size calculations\n\n  \nNOTE: Each Technician—this session will allow 4 hours towards NATE re-certification. \n 
URL:https://duncansupply.com/event/southwark-duct-design-kokomo/
LOCATION:Courtyard by Marriott Kokomo\, 411 Kentucky Drive\, Kokomo\, IN\, 46902\, United States
CATEGORIES:HVAC Training
END:VEVENT
BEGIN:VEVENT
DTSTART;TZID=UTC:20180301T080000
DTEND;TZID=UTC:20180302T150000
DTSTAMP:20260421T044753
CREATED:20180119T211742Z
LAST-MODIFIED:20180119T211742Z
UID:1120-1519891200-1520002800@duncansupply.com
SUMMARY:Top Gun Technician Excellence - Fort Wayne
DESCRIPTION:OPEN TO AMERICAN STANDARD DEALERS ONLY! \nCLICK HERE to download the registration form \nCost: $1050.00 per person\n*Includes breakfast & lunch both days\n\nReturn registration form to:\ntraining@duncansupply.com\nor by fax (317) 264-6689 \nTOPICS TO BE COVERED: \n\nUnderstand Impact of your role to the company health\nUnderstand The costs to run a profitable service department\nUnderstand The role of “today’s” Service Technician\nIdentify The traits of “today’s” Service Technician\nIdentify Steps to create long term-clients\nLearn Effective methods for reducing callbacks\nLearn How to increase your value to the company\nLearn How to increase your overall job satisfaction\nLearn Steps to maintain a positive client service attitude.\nLearn To communicate options with clients in “homeowner” speak\nBuild Professional image in the eyes of your clients\nCreate Happy clients\, drive positive referrals.
URL:https://duncansupply.com/event/adtek-duck-design-training-fort-wayne/
LOCATION:Branch Locations
CATEGORIES:HVAC Training
ATTACH;FMTTYPE=:
END:VEVENT
BEGIN:VEVENT
DTSTART;TZID=UTC:20180228T173000
DTEND;TZID=UTC:20180228T193000
DTSTAMP:20260421T044753
CREATED:20180115T195741Z
LAST-MODIFIED:20180115T195741Z
UID:1060-1519839000-1519846200@duncansupply.com
SUMMARY:Honeywell Ignition Control Training - Indianapolis
DESCRIPTION:CLICK HERE to download the registration form \nCost: $25.00 per person\n*Includes lunch\n\nReturn registration form to:\ntraining@duncansupply.com\nor by fax (317) 264-6689 \n3 hours towards NATE re-certification \n  \nTOPICS TO BE COVERED \nFlame Detection \nDirect Spark & Hot Surface Controls \nIntermittent Pilot Controls \nSmartValve™ Controls
URL:https://duncansupply.com/event/honeywell-ignition-control-training-indianapolis/
CATEGORIES:HVAC Training,Miscellaneous Training,Refrigeration Training
ATTACH;FMTTYPE=:
END:VEVENT
END:VCALENDAR