BEGIN:VCALENDAR
VERSION:2.0
PRODID:-//Duncan Supply - ECPv6.15.15//NONSGML v1.0//EN
CALSCALE:GREGORIAN
METHOD:PUBLISH
X-ORIGINAL-URL:https://duncansupply.com
X-WR-CALDESC:Events for Duncan Supply
REFRESH-INTERVAL;VALUE=DURATION:PT1H
X-Robots-Tag:noindex
X-PUBLISHED-TTL:PT1H
BEGIN:VTIMEZONE
TZID:UTC
BEGIN:STANDARD
TZOFFSETFROM:+0000
TZOFFSETTO:+0000
TZNAME:UTC
DTSTART:20250101T000000
END:STANDARD
END:VTIMEZONE
BEGIN:VEVENT
DTSTART;TZID=UTC:20260302T163000
DTEND;TZID=UTC:20260302T193000
DTSTAMP:20260423T110739
CREATED:20260116T145205Z
LAST-MODIFIED:20260116T145205Z
UID:8148-1772469000-1772479800@duncansupply.com
SUMMARY:Scotsman Service Schools - Indianapolis\, IN
DESCRIPTION:*** Scotsman Service Schools ***\nMonday\, March 2\, 2026 \nDuncan Supply – Indianapolis \n101 West 9th Street\, Indianapolis\, IN 47204 \nTime: 4:30 PM – 7:30 PM \n$50 per attendee – Dinner included \nRegistration Deadline: Friday\, February 20th\, 2026 \nREGISTER ONLINE NOW or CLICK HERE to download flyer
URL:https://duncansupply.com/event/scotsman-service-schools-indianapolis-in/
LOCATION:Indianapolis Home Office (Bldg 5)\, 101 W 9th St\, Indianapolis\, IN\, 46204\, United States
CATEGORIES:Miscellaneous Training,Refrigeration Training
ORGANIZER;CN="Duncan Supply Company":MAILTO:training@duncansupply.com
END:VEVENT
END:VCALENDAR