BEGIN:VCALENDAR
VERSION:2.0
PRODID:-//Duncan Supply - ECPv6.15.15//NONSGML v1.0//EN
CALSCALE:GREGORIAN
METHOD:PUBLISH
X-ORIGINAL-URL:https://duncansupply.com
X-WR-CALDESC:Events for Duncan Supply
REFRESH-INTERVAL;VALUE=DURATION:PT1H
X-Robots-Tag:noindex
X-PUBLISHED-TTL:PT1H
BEGIN:VTIMEZONE
TZID:UTC
BEGIN:STANDARD
TZOFFSETFROM:+0000
TZOFFSETTO:+0000
TZNAME:UTC
DTSTART:20220101T000000
END:STANDARD
END:VTIMEZONE
BEGIN:VTIMEZONE
TZID:America/Indiana/Indianapolis
BEGIN:DAYLIGHT
TZOFFSETFROM:-0500
TZOFFSETTO:-0400
TZNAME:EDT
DTSTART:20200308T070000
END:DAYLIGHT
BEGIN:STANDARD
TZOFFSETFROM:-0400
TZOFFSETTO:-0500
TZNAME:EST
DTSTART:20201101T060000
END:STANDARD
BEGIN:DAYLIGHT
TZOFFSETFROM:-0500
TZOFFSETTO:-0400
TZNAME:EDT
DTSTART:20210314T070000
END:DAYLIGHT
BEGIN:STANDARD
TZOFFSETFROM:-0400
TZOFFSETTO:-0500
TZNAME:EST
DTSTART:20211107T060000
END:STANDARD
BEGIN:DAYLIGHT
TZOFFSETFROM:-0500
TZOFFSETTO:-0400
TZNAME:EDT
DTSTART:20220313T070000
END:DAYLIGHT
BEGIN:STANDARD
TZOFFSETFROM:-0400
TZOFFSETTO:-0500
TZNAME:EST
DTSTART:20221106T060000
END:STANDARD
END:VTIMEZONE
BEGIN:VEVENT
DTSTART;TZID=UTC:20260414T160000
DTEND;TZID=UTC:20260414T190000
DTSTAMP:20260423T181151
CREATED:20260311T144436Z
LAST-MODIFIED:20260311T144436Z
UID:8345-1776182400-1776193200@duncansupply.com
SUMMARY:Intro to Mitsubishi Residential/Light Commercial - Terre Haute\, IN
DESCRIPTION:*** Introduction to Mitsubishi Residential/Light Commercial ***\nTuesday\, April 14\, 2026 \nDuncan Supply – Terre Haute \n1000 E. Ohio Street\, Terre Haute\, IN 47807 \nTime: 4:00 PM – 7:00 PM \nInstructor: Aaron Seale \nDinner will be served \n$52 per attendee – Limited to 20 participants** \nCLICK HERE to download flyer
URL:https://duncansupply.com/event/intro-to-mitsubishi-residential-light-commercial-terre-haute-in/
LOCATION:Terre Haute Branch\, 1000 E. Ohio St\, Terre Haute\, IN\, 47808\, United States
CATEGORIES:Miscellaneous Training
ORGANIZER;CN="Duncan Supply Company":MAILTO:training@duncansupply.com
END:VEVENT
BEGIN:VEVENT
DTSTART;TZID=UTC:20260326T150000
DTEND;TZID=UTC:20260326T173000
DTSTAMP:20260423T181151
CREATED:20260120T154920Z
LAST-MODIFIED:20260120T154935Z
UID:8181-1774537200-1774546200@duncansupply.com
SUMMARY:Appion Refrigerant Recovery\, A2L & System Evacuation Training - Virtual
DESCRIPTION:*** Appion Refrigerant Recovery\, A2L & System Evacuation Training ***\nThursday\, March 26th\, 2026 \nMicrosoft Teams Virtual Training \nProvide email address to receive training link \n3:00 PM – 5:30 PM \n  $50 per attendee \nRegistration Deadline: Friday\, March 20\, 2026 \nREGISTER ONLINE NOW or CLICK HERE to download flyer
URL:https://duncansupply.com/event/appion-refrigerant-recovery-a2l-system-evacuation-training-virtual/
LOCATION:Teams
CATEGORIES:Miscellaneous Training,Refrigeration Training
ORGANIZER;CN="Duncan Supply Company":MAILTO:training@duncansupply.com
END:VEVENT
BEGIN:VEVENT
DTSTART;TZID=UTC:20260326T150000
DTEND;TZID=UTC:20260326T173000
DTSTAMP:20260423T181151
CREATED:20260120T154627Z
LAST-MODIFIED:20260120T154743Z
UID:8177-1774537200-1774546200@duncansupply.com
SUMMARY:Appion Refrigerant Recovery\, A2L & System Evacuation Training - Indianapolis
DESCRIPTION:*** Appion Refrigerant Recovery\, A2L & System Evacuation Training ***\nThursday\, March 26th\, 2026 \nDSC Indianapolis \n101 W. 9th Street Indianapolis\, IN 46204 \n3:00 PM – 5:30 PM \n  $50 per attendee \nRegistration Deadline: Friday\, March 20\, 2026 \nREGISTER ONLINE NOW or CLICK HERE to download flyer
URL:https://duncansupply.com/event/appion-refrigerant-recovery-a2l-system-evacuation-training-indianapolis/
LOCATION:Indianapolis Home Office (Bldg 5)\, 101 W 9th St\, Indianapolis\, IN\, 46204\, United States
CATEGORIES:Miscellaneous Training,Refrigeration Training
ORGANIZER;CN="Duncan Supply Company":MAILTO:training@duncansupply.com
END:VEVENT
BEGIN:VEVENT
DTSTART;TZID=UTC:20260305T163000
DTEND;TZID=UTC:20260305T193000
DTSTAMP:20260423T181151
CREATED:20260116T145722Z
LAST-MODIFIED:20260116T145722Z
UID:8154-1772728200-1772739000@duncansupply.com
SUMMARY:Scotsman Service Schools - Fort Wayne\, IN
DESCRIPTION:*** Scotsman Service Schools ***\nThursday\, March 5\, 2026 \nDuncan Supply – Fort Wayne \n 3310 Congressional Pkwy\, Fort Wayne\, IN 47404 \nTime: 4:30 PM – 7:30 PM \n$50 per attendee – Dinner included \nRegistration Deadline: Friday\, February 20th\, 2026 \nREGISTER ONLINE NOW or CLICK HERE to download flyer
URL:https://duncansupply.com/event/scotsman-service-schools-fort-wayne-in/
LOCATION:Fort Wayne Distribution Center\, 3310 Congressional Pkwy\, Fort Wayne\, IN\, 46808\, United States
CATEGORIES:Miscellaneous Training,Refrigeration Training
ORGANIZER;CN="Duncan Supply Company":MAILTO:training@duncansupply.com
END:VEVENT
BEGIN:VEVENT
DTSTART;TZID=UTC:20260304T163000
DTEND;TZID=UTC:20260304T193000
DTSTAMP:20260423T181151
CREATED:20260116T145528Z
LAST-MODIFIED:20260116T145528Z
UID:8152-1772641800-1772652600@duncansupply.com
SUMMARY:Scotsman Service Schools - Kokomo\, IN
DESCRIPTION:*** Scotsman Service Schools ***\nWednesday\, March 4\, 2026 \nDuncan Supply – Kokomo \n5101 Cartwright Dr.\, Kokomo\, IN 46902 \nTime: 4:30 PM – 7:30 PM \n$50 per attendee – Dinner included \nRegistration Deadline: Friday\, February 20th\, 2026 \nREGISTER ONLINE NOW or CLICK HERE to download flyer
URL:https://duncansupply.com/event/scotsman-service-schools-kokomo-in/
LOCATION:Holiday Inn Express Suites – Kokomo\, 5101 Cartwright Dr.\, Kokomo\, IN\, 46902\, United States
CATEGORIES:Miscellaneous Training,Refrigeration Training
ORGANIZER;CN="Duncan Supply Company":MAILTO:training@duncansupply.com
END:VEVENT
BEGIN:VEVENT
DTSTART;TZID=UTC:20260303T163000
DTEND;TZID=UTC:20260303T193000
DTSTAMP:20260423T181151
CREATED:20260116T145314Z
LAST-MODIFIED:20260116T145314Z
UID:8150-1772555400-1772566200@duncansupply.com
SUMMARY:Scotsman Service Schools - Bloomington\, IN
DESCRIPTION:*** Scotsman Service Schools ***\nTuesday\, March 3\, 2026 \nDuncan Supply – Bloomington \n1204 N. Loesch Road Bloomington\, IN \nTime: 4:30 PM – 7:30 PM \n$50 per attendee – Dinner included \nRegistration Deadline: Friday\, February 20th\, 2026 \nREGISTER ONLINE NOW or CLICK HERE to download flyer
URL:https://duncansupply.com/event/scotsman-service-schools-bloomington-in/
LOCATION:Bloomington Branch\, 1204 N Loesch Rd\, Bloomington\, IN\, 47404\, United States
CATEGORIES:Miscellaneous Training,Refrigeration Training
ORGANIZER;CN="Duncan Supply Company":MAILTO:training@duncansupply.com
END:VEVENT
BEGIN:VEVENT
DTSTART;TZID=UTC:20260302T163000
DTEND;TZID=UTC:20260302T193000
DTSTAMP:20260423T181151
CREATED:20260116T145205Z
LAST-MODIFIED:20260116T145205Z
UID:8148-1772469000-1772479800@duncansupply.com
SUMMARY:Scotsman Service Schools - Indianapolis\, IN
DESCRIPTION:*** Scotsman Service Schools ***\nMonday\, March 2\, 2026 \nDuncan Supply – Indianapolis \n101 West 9th Street\, Indianapolis\, IN 47204 \nTime: 4:30 PM – 7:30 PM \n$50 per attendee – Dinner included \nRegistration Deadline: Friday\, February 20th\, 2026 \nREGISTER ONLINE NOW or CLICK HERE to download flyer
URL:https://duncansupply.com/event/scotsman-service-schools-indianapolis-in/
LOCATION:Indianapolis Home Office (Bldg 5)\, 101 W 9th St\, Indianapolis\, IN\, 46204\, United States
CATEGORIES:Miscellaneous Training,Refrigeration Training
ORGANIZER;CN="Duncan Supply Company":MAILTO:training@duncansupply.com
END:VEVENT
BEGIN:VEVENT
DTSTART;TZID=UTC:20250611T110000
DTEND;TZID=UTC:20250611T140000
DTSTAMP:20260423T181151
CREATED:20250508T152403Z
LAST-MODIFIED:20250508T160852Z
UID:7791-1749639600-1749650400@duncansupply.com
SUMMARY:Bohn A2L Lunch & Learn - Virtual
DESCRIPTION:*** Bohn A2L Lunch & Learn ***\nWednesday\, June 11\, 2025\nMeeting Locations\nvia Microsoft Teams \nProvide Email Address for\nMicrosoft Teams Meeting Link\n(Virtual meeting starts at 12 pm)\nDSC Indianapolis– 101 West 9th Street\, IN 47204 \nDSC Cincinnati – 7753 Union Centre Blvd\, Ste 100 West Chester\, OH 45011 \nSchedule:\n11:00AM – 1:00PM  \nLunch Served \n11:00AM- 11:30AM \nintelliGen TM Controller Introduction & Review \n12:00PM – 2:00PM \nA2L Refrigeration Equipment Introduction \nREGISTER ONLINE NOW or CLICK HERE to download flyer \nRegistration deadline: Friday\, June 6\, 2025
URL:https://duncansupply.com/event/bohn-a2l-lunch-learn-zoom/
LOCATION:ZOOM
CATEGORIES:Miscellaneous Training,Refrigeration Training
ORGANIZER;CN="Duncan Supply Company":MAILTO:training@duncansupply.com
END:VEVENT
BEGIN:VEVENT
DTSTART;TZID=UTC:20250611T110000
DTEND;TZID=UTC:20250611T140000
DTSTAMP:20260423T181151
CREATED:20250508T152300Z
LAST-MODIFIED:20250508T160730Z
UID:7789-1749639600-1749650400@duncansupply.com
SUMMARY:Bohn A2L Lunch & Learn - Cincinnati\, OH
DESCRIPTION:*** Bohn A2L Lunch & Learn ***\nWednesday\, June 11\, 2025\nMeeting Locations\nDSC Cincinnati – 7753 Union Centre Blvd\, Ste 100 West Chester\, OH 45011 \nDSC Indianapolis– 101 West 9th Street\, IN 47204 \nvia Microsoft Teams \nSchedule:\n11:00AM – 1:00PM  \nLunch Served \n11:00AM- 11:30AM \nintelliGen TM Controller Introduction & Review \n12:00PM – 2:00PM \nA2L Refrigeration Equipment Introduction \nREGISTER ONLINE NOW or CLICK HERE to download flyer \nRegistration deadline: Friday\, June 6\, 2025
URL:https://duncansupply.com/event/bohn-a2l-lunch-learn-cincinnati-oh/
LOCATION:Cincinnati Distribution Center\, 7753 Union Centre Blvd\, Ste 100 West Chester\, OH 45011
CATEGORIES:Miscellaneous Training,Refrigeration Training
ORGANIZER;CN="Duncan Supply Company":MAILTO:training@duncansupply.com
END:VEVENT
BEGIN:VEVENT
DTSTART;TZID=UTC:20250611T110000
DTEND;TZID=UTC:20250611T140000
DTSTAMP:20260423T181151
CREATED:20250508T152034Z
LAST-MODIFIED:20250508T160709Z
UID:7786-1749639600-1749650400@duncansupply.com
SUMMARY:Bohn A2L Lunch & Learn - Indianapolis\, IN
DESCRIPTION:*** Bohn A2L Lunch & Learn ***\nWednesday\, June 11\, 2025\nMeeting Locations\nDSC Indianapolis– 101 West 9th Street\, IN 47204 \nDSC Cincinnati – 7753 Union Centre Blvd\, Ste 100 West Chester\, OH 45011 \nvia Microsoft Teams \nSchedule:\n11:00AM – 1:00PM  \nLunch Served \n11:00AM- 11:30AM \nintelliGen TM Controller Introduction & Review \n12:00PM – 2:00PM \nA2L Refrigeration Equipment Introduction \nREGISTER ONLINE NOW or CLICK HERE to download flyer \nRegistration deadline: Friday\, June 6\, 2025
URL:https://duncansupply.com/event/bohn-a2l-lunch-learn-indianapolis-in/
LOCATION:Indianapolis Home Office (Bldg 5)\, 101 W 9th St\, Indianapolis\, IN\, 46204\, United States
CATEGORIES:Miscellaneous Training,Refrigeration Training
ORGANIZER;CN="Duncan Supply Company":MAILTO:training@duncansupply.com
END:VEVENT
BEGIN:VEVENT
DTSTART;TZID=UTC:20250515T120000
DTEND;TZID=UTC:20250515T153000
DTSTAMP:20260423T181151
CREATED:20250314T140507Z
LAST-MODIFIED:20250321T132026Z
UID:7696-1747310400-1747323000@duncansupply.com
SUMMARY:Everpure Technical Training - Everpure Solutions
DESCRIPTION:*** Everpure Water Filter 101 & Reverse Osmosis Technical Training ***\nThursday\, May 15\, 2025\n1040 Muirfield Drive\, Hanover Park\, IL 60133\nTime: 12:00 PM – 3:30 PM  \n  $25 per attendee \nLunch will be served \nREGISTER ONLINE NOW or CLICK HERE to download flyer \nRegistration deadline: Friday\, May 9\, 2025
URL:https://duncansupply.com/event/everpure-technical-training-everpure-solutions/
LOCATION:Pentair Filtration Solutions\, 1040 Muirfield Dr\, Hanover Park\, IL\, 60133\, United States
CATEGORIES:Miscellaneous Training,Refrigeration Training
ORGANIZER;CN="Duncan Supply Company":MAILTO:training@duncansupply.com
END:VEVENT
BEGIN:VEVENT
DTSTART;TZID=UTC:20250513T150000
DTEND;TZID=UTC:20250513T190000
DTSTAMP:20260423T181151
CREATED:20250314T135912Z
LAST-MODIFIED:20250314T140114Z
UID:7692-1747148400-1747162800@duncansupply.com
SUMMARY:Everpure Technical Training - Indianapolis\, IN
DESCRIPTION:*** Everpure Water Filter 101 & Reverse Osmosis Technical Training ***\nTuesday\, May 13\, 2025\nDSC Indianapolis– 101 West 9th Street\, IN 47204 \nTime: 3:00 PM – 7:00 PM  \n  $25 per attendee \nDinner will be served \nREGISTER ONLINE NOW or CLICK HERE to download flyer \nRegistration deadline: Friday\, May 9\, 2025
URL:https://duncansupply.com/event/everpure-technical-training-indianapolis-in/
LOCATION:Indianapolis Home Office (Bldg 5)\, 101 W 9th St\, Indianapolis\, IN\, 46204\, United States
CATEGORIES:Miscellaneous Training,Refrigeration Training
ORGANIZER;CN="Duncan Supply Company":MAILTO:training@duncansupply.com
END:VEVENT
BEGIN:VEVENT
DTSTART;TZID=UTC:20250402T173000
DTEND;TZID=UTC:20250402T190000
DTSTAMP:20260423T181151
CREATED:20250227T143505Z
LAST-MODIFIED:20250227T143505Z
UID:7608-1743615000-1743620400@duncansupply.com
SUMMARY:ECM Motors Training - Virtual
DESCRIPTION:*** ECM Motors Training ***\nWednesday\, April 2nd\, 2025\nVia ZOOM \nTime: 5:30 PM – 7:00 PM  \n  $25 per attendee \nRegistration Deadline: Tuesday\, March 25\, 2025 \nREGISTER ONLINE NOW or CLICK HERE to download flyer
URL:https://duncansupply.com/event/ecm-motors-training-virtual/
LOCATION:ZOOM
CATEGORIES:Miscellaneous Training
ORGANIZER;CN="Duncan Supply Company":MAILTO:training@duncansupply.com
END:VEVENT
BEGIN:VEVENT
DTSTART;TZID=UTC:20250402T173000
DTEND;TZID=UTC:20250402T190000
DTSTAMP:20260423T181151
CREATED:20250227T143410Z
LAST-MODIFIED:20250227T143410Z
UID:7604-1743615000-1743620400@duncansupply.com
SUMMARY:ECM Motors Training - Indianapolis
DESCRIPTION:*** ECM Motors Training ***\nWednesday\, April 2nd\, 2025\nDSC Indianapolis – 101 W. 9th Street Indianapolis\, IN 46204 \nTime: 5:30 PM – 7:00 PM  \n  $25 per attendee \nRegistration Deadline: Tuesday\, March 25\, 2025 \nREGISTER ONLINE NOW or CLICK HERE to download flyer
URL:https://duncansupply.com/event/ecm-motors-training-indianapolis/
LOCATION:Indianapolis Home Office (Bldg 5)\, 101 W 9th St\, Indianapolis\, IN\, 46204\, United States
CATEGORIES:Miscellaneous Training
ORGANIZER;CN="Duncan Supply Company":MAILTO:training@duncansupply.com
END:VEVENT
BEGIN:VEVENT
DTSTART;TZID=UTC:20250327T173000
DTEND;TZID=UTC:20250327T190000
DTSTAMP:20260423T181151
CREATED:20250304T140706Z
LAST-MODIFIED:20250304T140706Z
UID:7625-1743096600-1743102000@duncansupply.com
SUMMARY:Nu-Calgon Chemical Training - Virtual
DESCRIPTION:*** Nu-Calgon Chemical Training ***\nThursday\, March 27\, 2025\nVia ZOOM \nTime: 5:30 PM – 7:00 PM  \n  $25 per attendee \nRegistration Deadline: Friday\, March 21\, 2025 \nREGISTER ONLINE NOW or CLICK HERE to download flyer
URL:https://duncansupply.com/event/nu-calgon-chemical-training-virtual/
LOCATION:ZOOM
CATEGORIES:Miscellaneous Training,Refrigeration Training
ORGANIZER;CN="Duncan Supply Company":MAILTO:training@duncansupply.com
END:VEVENT
BEGIN:VEVENT
DTSTART;TZID=UTC:20250327T173000
DTEND;TZID=UTC:20250327T190000
DTSTAMP:20260423T181152
CREATED:20250304T140133Z
LAST-MODIFIED:20250304T140532Z
UID:7620-1743096600-1743102000@duncansupply.com
SUMMARY:Nu-Calgon Chemical Training - Indianapolis
DESCRIPTION:*** Nu-Calgon Chemical Training ***\nThursday\, March 27\, 2025\nDSC Indianapolis– 101 West 9th Street\, IN 47204 \nTime: 5:30 PM – 7:00 PM  \n  $25 per attendee \nRegistration Deadline: Friday\, March 21\, 2025 \nREGISTER ONLINE NOW or CLICK HERE to download flyer
URL:https://duncansupply.com/event/nu-calgon-chemical-training-indianapolis/
LOCATION:Indianapolis Home Office (Bldg 5)\, 101 W 9th St\, Indianapolis\, IN\, 46204\, United States
CATEGORIES:Miscellaneous Training,Refrigeration Training
ORGANIZER;CN="Duncan Supply Company":MAILTO:training@duncansupply.com
END:VEVENT
BEGIN:VEVENT
DTSTART;TZID=UTC:20250327T163000
DTEND;TZID=UTC:20250327T193000
DTSTAMP:20260423T181152
CREATED:20250121T165008Z
LAST-MODIFIED:20250206T170431Z
UID:7471-1743093000-1743103800@duncansupply.com
SUMMARY:Prodigy Elite Technical Training - Champaign\, IL
DESCRIPTION:*** Prodigy Elite Technical Training & Meridian Dispenser Introduction Class ***\nThursday\, March 27\, 2025\nPapa Del’s Pizza Factory – 1201 S. Neil Street\, IL 61820 \nTime: 4:30 PM – 7:30 PM  \n  $50 per attendee \nDinner will be served \nREGISTER ONLINE NOW or CLICK HERE to download flyer
URL:https://duncansupply.com/event/prodigy-elite-technical-training-champaign/
LOCATION:Papa Del’s Pizza Factory\, 1201 S. Neil Street\, Champaign\, IL\, 61820\, United States
CATEGORIES:Miscellaneous Training,Refrigeration Training
ORGANIZER;CN="Duncan Supply Company":MAILTO:training@duncansupply.com
END:VEVENT
BEGIN:VEVENT
DTSTART;TZID=UTC:20250326T163000
DTEND;TZID=UTC:20250326T193000
DTSTAMP:20260423T181152
CREATED:20250121T164815Z
LAST-MODIFIED:20250206T170438Z
UID:7469-1743006600-1743017400@duncansupply.com
SUMMARY:Prodigy Elite Technical Training - Terre Haute\, IN
DESCRIPTION:*** Prodigy Elite Technical Training & Meridian Dispenser Introduction Class ***\nWednesday\, March 26\, 2025\nDSC Terre Haute– 1000 East Ohio Street\, IN 47807 \nTime: 4:30 PM – 7:30 PM  \n  $50 per attendee \nDinner will be served \nREGISTER ONLINE NOW or CLICK HERE to download flyer
URL:https://duncansupply.com/event/prodigy-elite-technical-training-terre-haute/
LOCATION:Terre Haute Branch\, 1000 E. Ohio St\, Terre Haute\, IN\, 47808\, United States
CATEGORIES:Miscellaneous Training,Refrigeration Training
ORGANIZER;CN="Duncan Supply Company":MAILTO:training@duncansupply.com
END:VEVENT
BEGIN:VEVENT
DTSTART;TZID=UTC:20250325T163000
DTEND;TZID=UTC:20250325T193000
DTSTAMP:20260423T181152
CREATED:20250121T164659Z
LAST-MODIFIED:20250206T170445Z
UID:7467-1742920200-1742931000@duncansupply.com
SUMMARY:Prodigy Elite Technical Training - Indianapolis\, IN
DESCRIPTION:*** Prodigy Elite Technical Training & Meridian Dispenser Introduction Class ***\nTuesday\, March 25\, 2025\nDSC Indianapolis– 101 West 9th Street\, IN 47204 \nTime: 4:30 PM – 7:30 PM  \n  $50 per attendee \nDinner will be served \nREGISTER ONLINE NOW or CLICK HERE to download flyer
URL:https://duncansupply.com/event/prodigy-elite-technical-training-indianapolis/
LOCATION:Indianapolis Home Office (Bldg 5)\, 101 W 9th St\, Indianapolis\, IN\, 46204\, United States
CATEGORIES:Miscellaneous Training,Refrigeration Training
ORGANIZER;CN="Duncan Supply Company":MAILTO:training@duncansupply.com
END:VEVENT
BEGIN:VEVENT
DTSTART;TZID=UTC:20250324T163000
DTEND;TZID=UTC:20250324T193000
DTSTAMP:20260423T181152
CREATED:20250121T164539Z
LAST-MODIFIED:20250206T170453Z
UID:7465-1742833800-1742844600@duncansupply.com
SUMMARY:Prodigy Elite Technical Training - Mishawaka\, IN
DESCRIPTION:*** Prodigy Elite Technical Training & Meridian Dispenser Introduction Class ***\nMonday\, March 24\, 2025\nDSC Mishawaka – 56540 Twin Branch Dr\, IN 46545 \nTime: 4:30 PM – 7:30 PM  \n  $50 per attendee \nDinner will be served \nREGISTER ONLINE NOW or CLICK HERE to download flyer
URL:https://duncansupply.com/event/prodigy-elite-technical-training-mishawaka/
LOCATION:Mishawaka Branch\, 56540 Twin Branch Dr\, Mishawaka\, IN\, 46545\, United States
CATEGORIES:Miscellaneous Training,Refrigeration Training
ORGANIZER;CN="Duncan Supply Company":MAILTO:training@duncansupply.com
END:VEVENT
BEGIN:VEVENT
DTSTART;TZID=UTC:20240228T080000
DTEND;TZID=UTC:20240228T120000
DTSTAMP:20260423T181152
CREATED:20240129T151913Z
LAST-MODIFIED:20240129T151913Z
UID:6837-1709107200-1709121600@duncansupply.com
SUMMARY:KE2 Thermsolutions Technical Training
DESCRIPTION:*** KE2 Thermsolutions Technical Training ***\nWednesday\, February 28\, 2024 – Indianapolis\nTime: 8:00 AM – 12:00 PM  \n  $25.00 per attendee  \nCLICK HERE to download flyer OR \n   CLICK HERE to register online
URL:https://duncansupply.com/event/ke2-thermsolutions-technical-training/
LOCATION:Indianapolis Home Office (Bldg 5)\, 101 W 9th St\, Indianapolis\, IN\, 46204\, United States
CATEGORIES:Miscellaneous Training
ORGANIZER;CN="Duncan Supply Company":MAILTO:training@duncansupply.com
END:VEVENT
BEGIN:VEVENT
DTSTART;TZID=UTC:20230321T170000
DTEND;TZID=UTC:20230321T180000
DTSTAMP:20260423T181152
CREATED:20230305T015146Z
LAST-MODIFIED:20230305T015146Z
UID:6305-1679418000-1679421600@duncansupply.com
SUMMARY:Air Scrubber Dine & Learn - Fort Wayne
DESCRIPTION:
URL:https://duncansupply.com/event/air-scrubber-dine-learn-fort-wayne/
LOCATION:Fort Wayne Distribution Center\, 3310 Congressional Pkwy\, Fort Wayne\, IN\, 46808\, United States
CATEGORIES:HVAC Training,Miscellaneous Training,Refrigeration Training
ORGANIZER;CN="Duncan Supply Company":MAILTO:training@duncansupply.com
END:VEVENT
BEGIN:VEVENT
DTSTART;TZID=UTC:20230321T110000
DTEND;TZID=UTC:20230321T120000
DTSTAMP:20260423T181152
CREATED:20230202T145339Z
LAST-MODIFIED:20230202T145339Z
UID:6213-1679396400-1679400000@duncansupply.com
SUMMARY:Tetco & Thermopride Lunch & Learn – Indianapolis
DESCRIPTION:
URL:https://duncansupply.com/event/tetco-thermopride-lunch-learn-indianapolis/
LOCATION:Indianapolis Home Office (Bldg 5)\, 101 W 9th St\, Indianapolis\, IN\, 46204\, United States
CATEGORIES:HVAC Training,Miscellaneous Training
ORGANIZER;CN="Duncan Supply Company":MAILTO:training@duncansupply.com
END:VEVENT
BEGIN:VEVENT
DTSTART;TZID=UTC:20230315T110000
DTEND;TZID=UTC:20230315T120000
DTSTAMP:20260423T181152
CREATED:20230130T165107Z
LAST-MODIFIED:20230130T165107Z
UID:6157-1678878000-1678881600@duncansupply.com
SUMMARY:Tetco & Thermopride Lunch & Learn – Champaign
DESCRIPTION:
URL:https://duncansupply.com/event/tetco-thermopride-lunch-learn-champaign/
LOCATION:Champaign Branch\, 44 East Logan St\, Champaign\, IL\, 61820\, United States
CATEGORIES:HVAC Training,Miscellaneous Training
ORGANIZER;CN="Duncan Supply Company":MAILTO:training@duncansupply.com
END:VEVENT
BEGIN:VEVENT
DTSTART;TZID=UTC:20230301T110000
DTEND;TZID=UTC:20230301T120000
DTSTAMP:20260423T181152
CREATED:20230202T145549Z
LAST-MODIFIED:20230202T145549Z
UID:6215-1677668400-1677672000@duncansupply.com
SUMMARY:Tetco & Thermopride Lunch & Learn – Mishawaka
DESCRIPTION:
URL:https://duncansupply.com/event/tetco-thermopride-lunch-learn-mishawaka/
LOCATION:Mishawaka Branch\, 56540 Twin Branch Dr\, Mishawaka\, IN\, 46545\, United States
CATEGORIES:HVAC Training,Miscellaneous Training
ORGANIZER;CN="Duncan Supply Company":MAILTO:training@duncansupply.com
END:VEVENT
BEGIN:VEVENT
DTSTART;TZID=America/Indiana/Indianapolis:20211209T150000
DTEND;TZID=America/Indiana/Indianapolis:20211209T163000
DTSTAMP:20260423T181152
CREATED:20211118T100826Z
LAST-MODIFIED:20211118T100826Z
UID:4259-1639062000-1639067400@duncansupply.com
SUMMARY:KE2 Thermsolutions Technical Training - Champaign
DESCRIPTION:*** KE2 Thermsolutions Technical Training***\nDecember 9th\, 2021 – Champaign\nClass: 3:00 PM – 4:30 PM  \n  $25.00 per attendee  \nCLICK HERE to download flyer OR \n     CLICK HERE  to register online \n 
URL:https://duncansupply.com/event/ke2-thermsolutions-technical-training-champaign-copy/
LOCATION:Champaign Branch\, 44 East Logan St\, Champaign\, IL\, 61820\, United States
CATEGORIES:Food Service,Miscellaneous Training,Refrigeration Training
END:VEVENT
BEGIN:VEVENT
DTSTART;TZID=America/Indiana/Indianapolis:20211208T150000
DTEND;TZID=America/Indiana/Indianapolis:20211208T163000
DTSTAMP:20260423T181152
CREATED:20211029T091104Z
LAST-MODIFIED:20211029T091104Z
UID:4249-1638975600-1638981000@duncansupply.com
SUMMARY:KE2 Thermsolutions Technical Training - Terre Haute
DESCRIPTION:*** KE2 Thermsolutions Technical Training***\nDecember 8th\, 2021 – Terre Haute\nClass: 3:00 PM – 4:30 PM  \n  $25.00 per attendee  \nCLICK HERE to download flyer OR \n     CLICK HERE  to register online \n 
URL:https://duncansupply.com/event/ke2-thermsolutions-technical-training-terre-haute/
LOCATION:Terre Haute Branch\, 1000 E. Ohio St\, Terre Haute\, IN\, 47808\, United States
CATEGORIES:Food Service,Miscellaneous Training,Refrigeration Training
END:VEVENT
BEGIN:VEVENT
DTSTART;TZID=America/Indiana/Indianapolis:20211207T150000
DTEND;TZID=America/Indiana/Indianapolis:20211207T163000
DTSTAMP:20260423T181152
CREATED:20211028T153850Z
LAST-MODIFIED:20211028T153850Z
UID:4224-1638889200-1638894600@duncansupply.com
SUMMARY:KE2 Thermsolutions Technical Training - Bloomington
DESCRIPTION:*** KE2 Thermsolutions Technical Training***\nDecember 7th\, 2021 – Bloomington\nClass: 3:00 PM – 4:30 PM  \n  $25.00 per attendee  \nCLICK HERE to download flyer OR \n     CLICK HERE  to register online \n 
URL:https://duncansupply.com/event/ke2-thermsolutions-technical-training-bloomington/
LOCATION:Bloomington Branch\, 1204 N Loesch Rd\, Bloomington\, IN\, 47404\, United States
CATEGORIES:Food Service,Miscellaneous Training,Refrigeration Training
END:VEVENT
BEGIN:VEVENT
DTSTART;TZID=America/Indiana/Indianapolis:20211206T173000
DTEND;TZID=America/Indiana/Indianapolis:20211206T190000
DTSTAMP:20260423T181152
CREATED:20211118T101847Z
LAST-MODIFIED:20211118T101847Z
UID:4264-1638811800-1638817200@duncansupply.com
SUMMARY:KE2 Thermsolutions Technical Training - Indianapolis
DESCRIPTION:*** KE2 Thermsolutions Technical Training***\nDecember 6th\, 2021 – Indianapolis\nClass: 5:30 PM – 7:00 PM  \n  $25.00 per attendee  \nCLICK HERE to download flyer OR \n     CLICK HERE  to register online \n 
URL:https://duncansupply.com/event/ke2-thermsolutions-technical-training-indianapolis/
LOCATION:Indianapolis Home Office (Bldg 5)\, 101 W 9th St\, Indianapolis\, IN\, 46204\, United States
CATEGORIES:Food Service,HVAC Training,Miscellaneous Training,Refrigeration Training
END:VEVENT
BEGIN:VEVENT
DTSTART;TZID=America/Indiana/Indianapolis:20211118T160000
DTEND;TZID=America/Indiana/Indianapolis:20211118T173000
DTSTAMP:20260423T181152
CREATED:20211029T085823Z
LAST-MODIFIED:20211029T085823Z
UID:4241-1637251200-1637256600@duncansupply.com
SUMMARY:KE2 Thermsolutions Technical Training - Ft. Wayne
DESCRIPTION:*** KE2 Thermsolutions Technical Training***\nNovember 18th\, 2021 – Ft. Wayne\nClass: 4:00 PM – 5:30 PM  \n  $25.00 per attendee  \nCLICK HERE to download flyer OR \n     CLICK HERE  to register online
URL:https://duncansupply.com/event/ke2-thermsolutions-technical-training-ft-wayne/
LOCATION:Branch Locations
CATEGORIES:Food Service,Miscellaneous Training,Refrigeration Training
END:VEVENT
END:VCALENDAR