BEGIN:VCALENDAR
VERSION:2.0
PRODID:-//Duncan Supply - ECPv6.15.15//NONSGML v1.0//EN
CALSCALE:GREGORIAN
METHOD:PUBLISH
X-WR-CALNAME:Duncan Supply
X-ORIGINAL-URL:https://duncansupply.com
X-WR-CALDESC:Events for Duncan Supply
REFRESH-INTERVAL;VALUE=DURATION:PT1H
X-Robots-Tag:noindex
X-PUBLISHED-TTL:PT1H
BEGIN:VTIMEZONE
TZID:UTC
BEGIN:STANDARD
TZOFFSETFROM:+0000
TZOFFSETTO:+0000
TZNAME:UTC
DTSTART:20220101T000000
END:STANDARD
END:VTIMEZONE
BEGIN:VEVENT
DTSTART;TZID=UTC:20231003T170000
DTEND;TZID=UTC:20231003T193000
DTSTAMP:20260421T110850
CREATED:20230629T184455Z
LAST-MODIFIED:20230629T184455Z
UID:6542-1696352400-1696361400@duncansupply.com
SUMMARY:Intermediate Refrigeration Training - Ft. Wayne
DESCRIPTION:*** Intermediate Refrigeration Training***\n October 3\, 4\, 5\, 10 & 11\, 2023 – Ft. Wayne\nTime: 5:00 PM – 7:30 PM  \n  $725.00 for first attendee \n  $700.00 for additional attendees \nCLICK HERE to download flyer OR \n   CLICK HERE to register online
URL:https://duncansupply.com/event/intermediate-refrigeration-training-ft-wayne/
LOCATION:Fort Wayne Distribution Center\, 3310 Congressional Pkwy\, Fort Wayne\, IN\, 46808\, United States
CATEGORIES:Refrigeration Training
ORGANIZER;CN="Duncan Supply Company":MAILTO:training@duncansupply.com
END:VEVENT
BEGIN:VEVENT
DTSTART;TZID=UTC:20231004T170000
DTEND;TZID=UTC:20231004T193000
DTSTAMP:20260421T110850
CREATED:20230629T184645Z
LAST-MODIFIED:20230629T184645Z
UID:6546-1696438800-1696447800@duncansupply.com
SUMMARY:Intermediate Refrigeration Training - Ft. Wayne
DESCRIPTION:*** Intermediate Refrigeration Training***\n October 3\, 4\, 5\, 10 & 11\, 2023 – Ft. Wayne\nTime: 5:00 PM – 7:30 PM  \n  $725.00 for first attendee \n  $700.00 for additional attendees \nCLICK HERE to download flyer OR \n   CLICK HERE to register online
URL:https://duncansupply.com/event/intermediate-refrigeration-training-ft-wayne-2/
LOCATION:Fort Wayne Distribution Center\, 3310 Congressional Pkwy\, Fort Wayne\, IN\, 46808\, United States
CATEGORIES:Refrigeration Training
ORGANIZER;CN="Duncan Supply Company":MAILTO:training@duncansupply.com
END:VEVENT
BEGIN:VEVENT
DTSTART;TZID=UTC:20231005T170000
DTEND;TZID=UTC:20231005T193000
DTSTAMP:20260421T110850
CREATED:20230629T184711Z
LAST-MODIFIED:20230629T184711Z
UID:6548-1696525200-1696534200@duncansupply.com
SUMMARY:Intermediate Refrigeration Training - Ft. Wayne
DESCRIPTION:*** Intermediate Refrigeration Training***\n October 3\, 4\, 5\, 10 & 11\, 2023 – Ft. Wayne\nTime: 5:00 PM – 7:30 PM  \n  $725.00 for first attendee \n  $700.00 for additional attendees \nCLICK HERE to download flyer OR \n   CLICK HERE to register online
URL:https://duncansupply.com/event/intermediate-refrigeration-training-ft-wayne-3/
LOCATION:Fort Wayne Distribution Center\, 3310 Congressional Pkwy\, Fort Wayne\, IN\, 46808\, United States
CATEGORIES:Refrigeration Training
ORGANIZER;CN="Duncan Supply Company":MAILTO:training@duncansupply.com
END:VEVENT
BEGIN:VEVENT
DTSTART;TZID=UTC:20231010T170000
DTEND;TZID=UTC:20231010T193000
DTSTAMP:20260421T110850
CREATED:20230629T184810Z
LAST-MODIFIED:20230629T184810Z
UID:6550-1696957200-1696966200@duncansupply.com
SUMMARY:Intermediate Refrigeration Training - Ft. Wayne
DESCRIPTION:*** Intermediate Refrigeration Training***\n October 3\, 4\, 5\, 10 & 11\, 2023 – Ft. Wayne\nTime: 5:00 PM – 7:30 PM  \n  $725.00 for first attendee \n  $700.00 for additional attendees \nCLICK HERE to download flyer OR \n   CLICK HERE to register online
URL:https://duncansupply.com/event/intermediate-refrigeration-training-ft-wayne-4/
LOCATION:Fort Wayne Distribution Center\, 3310 Congressional Pkwy\, Fort Wayne\, IN\, 46808\, United States
CATEGORIES:Refrigeration Training
ORGANIZER;CN="Duncan Supply Company":MAILTO:training@duncansupply.com
END:VEVENT
BEGIN:VEVENT
DTSTART;TZID=UTC:20231011T170000
DTEND;TZID=UTC:20231011T193000
DTSTAMP:20260421T110850
CREATED:20230629T184848Z
LAST-MODIFIED:20230629T184848Z
UID:6552-1697043600-1697052600@duncansupply.com
SUMMARY:Intermediate Refrigeration Training - Ft. Wayne
DESCRIPTION:*** Intermediate Refrigeration Training***\n October 3\, 4\, 5\, 10 & 11\, 2023 – Ft. Wayne\nTime: 5:00 PM – 7:30 PM  \n  $725.00 for first attendee \n  $700.00 for additional attendees \nCLICK HERE to download flyer OR \n   CLICK HERE to register online
URL:https://duncansupply.com/event/intermediate-refrigeration-training-ft-wayne-5/
LOCATION:Fort Wayne Distribution Center\, 3310 Congressional Pkwy\, Fort Wayne\, IN\, 46808\, United States
CATEGORIES:Refrigeration Training
ORGANIZER;CN="Duncan Supply Company":MAILTO:training@duncansupply.com
END:VEVENT
BEGIN:VEVENT
DTSTART;TZID=UTC:20231012T170000
DTEND;TZID=UTC:20231012T193000
DTSTAMP:20260421T110850
CREATED:20230629T181150Z
LAST-MODIFIED:20230629T185340Z
UID:6523-1697130000-1697139000@duncansupply.com
SUMMARY:Hydrocarbons in Commercial Refrigeration - Ft. Wayne
DESCRIPTION:*** Hydrocarbons in Commercial Refrigeration Training***\nThursday\, October 12\, 2023 – Ft. Wayne\nTime: 5:00 PM – 7:30 PM  \n  $150.00 for first attendee \n  $140.00 for additional attendees \nCLICK HERE to download flyer OR \n   CLICK HERE to register online
URL:https://duncansupply.com/event/hydrocarbons-in-commercial-refrigeration-ft-wayne/
LOCATION:Fort Wayne Distribution Center\, 3310 Congressional Pkwy\, Fort Wayne\, IN\, 46808\, United States
CATEGORIES:Refrigeration Training
ORGANIZER;CN="Duncan Supply Company":MAILTO:training@duncansupply.com
END:VEVENT
BEGIN:VEVENT
DTSTART;TZID=UTC:20231017T160000
DTEND;TZID=UTC:20231017T193000
DTSTAMP:20260421T110850
CREATED:20230629T151824Z
LAST-MODIFIED:20230629T190159Z
UID:6519-1697558400-1697571000@duncansupply.com
SUMMARY:A2L Refrigerant Training - Greensburg
DESCRIPTION:*** A2L Refrigerant Training***\nOctober 17\, 2023 – Greensburg\nTime: 4:00 PM – 7:30 PM  \n  $150.00 for first attendee \n  $140.00 for additional attendees \nCLICK HERE to download flyer OR \n   CLICK HERE to register online
URL:https://duncansupply.com/event/a2l-refrigerant-training-greensburg/
LOCATION:Greensburg Branch\, 1575 N Commerce East Dr\, Greensburg\, 47240\, United States
CATEGORIES:HVAC Training,Refrigeration Training
ORGANIZER;CN="Duncan Supply Company":MAILTO:training@duncansupply.com
END:VEVENT
BEGIN:VEVENT
DTSTART;TZID=UTC:20231019T160000
DTEND;TZID=UTC:20231019T183000
DTSTAMP:20260421T110850
CREATED:20230629T181712Z
LAST-MODIFIED:20230629T190233Z
UID:6525-1697731200-1697740200@duncansupply.com
SUMMARY:Hydrocarbons in Commercial Refrigeration - Indianapolis
DESCRIPTION:*** Hydrocarbons in Commercial Refrigeration Training***\nThursday\, October 19\, 2023 – Indianapolis\nTime: 4:00 PM – 6:30 PM  \n  $150.00 for first attendee \n  $140.00 for additional attendees \nCLICK HERE to download flyer OR \n   CLICK HERE to register online
URL:https://duncansupply.com/event/hydrocarbons-in-commercial-refrigeration-indianapolis/
LOCATION:Indianapolis Home Office\, 910 N Illinois St\, Indianapolis\, IN\, 46204\, United States
CATEGORIES:Refrigeration Training
ORGANIZER;CN="Duncan Supply Company":MAILTO:training@duncansupply.com
END:VEVENT
BEGIN:VEVENT
DTSTART;TZID=UTC:20231019T160000
DTEND;TZID=UTC:20231019T183000
DTSTAMP:20260421T110850
CREATED:20230629T182712Z
LAST-MODIFIED:20230629T182712Z
UID:6527-1697731200-1697740200@duncansupply.com
SUMMARY:Hydrocarbons in Commercial Refrigeration - Virtual Training
DESCRIPTION:*** Hydrocarbons in Commercial Refrigeration Training***\nThursday\, October 19\, 2023 – Virtual\nTime: 4:00 PM – 6:30 PM  \n  $150.00 for first attendee \n  $140.00 for additional attendees \nCLICK HERE to download flyer OR \n   CLICK HERE to register online
URL:https://duncansupply.com/event/hydrocarbons-in-commercial-refrigeration-virtual-training/
LOCATION:ZOOM
CATEGORIES:Refrigeration Training
ORGANIZER;CN="Duncan Supply Company":MAILTO:training@duncansupply.com
END:VEVENT
BEGIN:VEVENT
DTSTART;TZID=UTC:20231024T160000
DTEND;TZID=UTC:20231024T183000
DTSTAMP:20260421T110850
CREATED:20230629T140604Z
LAST-MODIFIED:20230629T141220Z
UID:6491-1698163200-1698172200@duncansupply.com
SUMMARY:Basic Air Conditioning and Refrigeration Training - Indianapolis
DESCRIPTION:*** Basic Air Conditioning and Refrigeration Training***\nOctober 24\, 25 & 26\, 2023 – Indianapolis\nTime: 4:00 PM – 6:30 PM  \n  $540.00 for first attendee \n  $525.00 for additional attendees \nCLICK HERE to download flyer OR \n   CLICK HERE to register online
URL:https://duncansupply.com/event/basic-air-conditioning-and-refrigeration-training/
LOCATION:Indianapolis Home Office (Bldg 5)\, 101 W 9th St\, Indianapolis\, IN\, 46204\, United States
CATEGORIES:HVAC Training,Refrigeration Training
ORGANIZER;CN="Duncan Supply Company":MAILTO:training@duncansupply.com
END:VEVENT
BEGIN:VEVENT
DTSTART;TZID=UTC:20231024T160000
DTEND;TZID=UTC:20231024T183000
DTSTAMP:20260421T110850
CREATED:20230629T141355Z
LAST-MODIFIED:20230629T141600Z
UID:6514-1698163200-1698172200@duncansupply.com
SUMMARY:Basic Air Conditioning and Refrigeration Training - Virtual
DESCRIPTION:*** Basic Air Conditioning and Refrigeration Training***\nOctober 24\, 25 & 26\, 2023 – Virtual\nTime: 4:00 PM – 6:30 PM  \n  $540.00 for first attendee \n  $525.00 for additional attendees \nCLICK HERE to download flyer OR \n   CLICK HERE to register online
URL:https://duncansupply.com/event/basic-air-conditioning-and-refrigeration-training-virtual-3/
LOCATION:ZOOM
CATEGORIES:HVAC Training,Refrigeration Training
ORGANIZER;CN="Duncan Supply Company":MAILTO:training@duncansupply.com
END:VEVENT
BEGIN:VEVENT
DTSTART;TZID=UTC:20231025T160000
DTEND;TZID=UTC:20231025T183000
DTSTAMP:20260421T110850
CREATED:20230629T140902Z
LAST-MODIFIED:20230629T141206Z
UID:6503-1698249600-1698258600@duncansupply.com
SUMMARY:Basic Air Conditioning and Refrigeration Training - Indianapolis
DESCRIPTION:*** Basic Air Conditioning and Refrigeration Training***\nOctober 24\, 25 & 26\, 2023 – Indianapolis\nTime: 4:00 PM – 6:30 PM  \n  $540.00 for first attendee \n  $525.00 for additional attendees \nCLICK HERE to download flyer OR \n   CLICK HERE to register online
URL:https://duncansupply.com/event/basic-air-conditioning-and-refrigeration-training-2/
LOCATION:Indianapolis Home Office (Bldg 5)\, 101 W 9th St\, Indianapolis\, IN\, 46204\, United States
CATEGORIES:HVAC Training,Refrigeration Training
ORGANIZER;CN="Duncan Supply Company":MAILTO:training@duncansupply.com
END:VEVENT
BEGIN:VEVENT
DTSTART;TZID=UTC:20231025T160000
DTEND;TZID=UTC:20231025T183000
DTSTAMP:20260421T110850
CREATED:20230629T141329Z
LAST-MODIFIED:20230629T141537Z
UID:6512-1698249600-1698258600@duncansupply.com
SUMMARY:Basic Air Conditioning and Refrigeration Training - Virtual
DESCRIPTION:*** Basic Air Conditioning and Refrigeration Training***\nOctober 24\, 25 & 26\, 2023 – Virtual\nTime: 4:00 PM – 6:30 PM  \n  $540.00 for first attendee \n  $525.00 for additional attendees \nCLICK HERE to download flyer OR \n   CLICK HERE to register online
URL:https://duncansupply.com/event/basic-air-conditioning-and-refrigeration-training-virtual-2/
LOCATION:ZOOM
CATEGORIES:HVAC Training,Refrigeration Training
ORGANIZER;CN="Duncan Supply Company":MAILTO:training@duncansupply.com
END:VEVENT
BEGIN:VEVENT
DTSTART;TZID=UTC:20231026T160000
DTEND;TZID=UTC:20231026T183000
DTSTAMP:20260421T110850
CREATED:20230629T140924Z
LAST-MODIFIED:20230629T141152Z
UID:6505-1698336000-1698345000@duncansupply.com
SUMMARY:Basic Air Conditioning and Refrigeration Training - Indianapolis
DESCRIPTION:*** Basic Air Conditioning and Refrigeration Training***\nOctober 24\, 25 & 26\, 2023 – Indianapolis\nTime: 4:00 PM – 6:30 PM  \n  $540.00 for first attendee \n  $525.00 for additional attendees \nCLICK HERE to download flyer OR \n   CLICK HERE to register online
URL:https://duncansupply.com/event/basic-air-conditioning-and-refrigeration-training-3/
LOCATION:Indianapolis Home Office (Bldg 5)\, 101 W 9th St\, Indianapolis\, IN\, 46204\, United States
CATEGORIES:HVAC Training,Refrigeration Training
ORGANIZER;CN="Duncan Supply Company":MAILTO:training@duncansupply.com
END:VEVENT
BEGIN:VEVENT
DTSTART;TZID=UTC:20231026T160000
DTEND;TZID=UTC:20231026T183000
DTSTAMP:20260421T110850
CREATED:20230629T141302Z
LAST-MODIFIED:20230629T141516Z
UID:6510-1698336000-1698345000@duncansupply.com
SUMMARY:Basic Air Conditioning and Refrigeration Training - Virtual
DESCRIPTION:*** Basic Air Conditioning and Refrigeration Training***\nOctober 24\, 25 & 26\, 2023 – Virtual\nTime: 4:00 PM – 6:30 PM  \n  $540.00 for first attendee \n  $525.00 for additional attendees \nCLICK HERE to download flyer OR \n   CLICK HERE to register online
URL:https://duncansupply.com/event/basic-air-conditioning-and-refrigeration-training-virtual/
LOCATION:ZOOM
CATEGORIES:HVAC Training,Refrigeration Training
ORGANIZER;CN="Duncan Supply Company":MAILTO:training@duncansupply.com
END:VEVENT
END:VCALENDAR