BEGIN:VCALENDAR
VERSION:2.0
PRODID:-//Duncan Supply - ECPv6.15.15//NONSGML v1.0//EN
CALSCALE:GREGORIAN
METHOD:PUBLISH
X-WR-CALNAME:Duncan Supply
X-ORIGINAL-URL:https://duncansupply.com
X-WR-CALDESC:Events for Duncan Supply
REFRESH-INTERVAL;VALUE=DURATION:PT1H
X-Robots-Tag:noindex
X-PUBLISHED-TTL:PT1H
BEGIN:VTIMEZONE
TZID:UTC
BEGIN:STANDARD
TZOFFSETFROM:+0000
TZOFFSETTO:+0000
TZNAME:UTC
DTSTART:20220101T000000
END:STANDARD
END:VTIMEZONE
BEGIN:VEVENT
DTSTART;TZID=UTC:20231101T170000
DTEND;TZID=UTC:20231101T193000
DTSTAMP:20260421T093153
CREATED:20230629T183857Z
LAST-MODIFIED:20230629T183857Z
UID:6532-1698858000-1698867000@duncansupply.com
SUMMARY:Intermediate Refrigeration Training - Bloomington
DESCRIPTION:*** Intermediate Refrigeration Training***\n November 1\, 2\, 7\, 8 & 9\, 2023 – Bloomington\nTime: 5:00 PM – 7:30 PM  \n  $725.00 for first attendee \n  $700.00 for additional attendees \nCLICK HERE to download flyer OR \n   CLICK HERE to register online
URL:https://duncansupply.com/event/intermediate-refrigeration-training-bloomington/
LOCATION:Bloomington Branch\, 1204 N Loesch Rd\, Bloomington\, IN\, 47404\, United States
CATEGORIES:Refrigeration Training
ORGANIZER;CN="Duncan Supply Company":MAILTO:training@duncansupply.com
END:VEVENT
BEGIN:VEVENT
DTSTART;TZID=UTC:20231102T170000
DTEND;TZID=UTC:20231102T193000
DTSTAMP:20260421T093153
CREATED:20230629T183935Z
LAST-MODIFIED:20230629T183935Z
UID:6534-1698944400-1698953400@duncansupply.com
SUMMARY:Intermediate Refrigeration Training - Bloomington
DESCRIPTION:*** Intermediate Refrigeration Training***\n November 1\, 2\, 7\, 8 & 9\, 2023 – Bloomington\nTime: 5:00 PM – 7:30 PM  \n  $725.00 for first attendee \n  $700.00 for additional attendees \nCLICK HERE to download flyer OR \n   CLICK HERE to register online
URL:https://duncansupply.com/event/intermediate-refrigeration-training-bloomington-2/
LOCATION:Bloomington Branch\, 1204 N Loesch Rd\, Bloomington\, IN\, 47404\, United States
CATEGORIES:Refrigeration Training
ORGANIZER;CN="Duncan Supply Company":MAILTO:training@duncansupply.com
END:VEVENT
BEGIN:VEVENT
DTSTART;TZID=UTC:20231107T170000
DTEND;TZID=UTC:20231107T193000
DTSTAMP:20260421T093153
CREATED:20230629T183959Z
LAST-MODIFIED:20230629T183959Z
UID:6536-1699376400-1699385400@duncansupply.com
SUMMARY:Intermediate Refrigeration Training - Bloomington
DESCRIPTION:*** Intermediate Refrigeration Training***\n November 1\, 2\, 7\, 8 & 9\, 2023 – Bloomington\nTime: 5:00 PM – 7:30 PM  \n  $725.00 for first attendee \n  $700.00 for additional attendees \nCLICK HERE to download flyer OR \n   CLICK HERE to register online
URL:https://duncansupply.com/event/intermediate-refrigeration-training-bloomington-3/
LOCATION:Bloomington Branch\, 1204 N Loesch Rd\, Bloomington\, IN\, 47404\, United States
CATEGORIES:Refrigeration Training
ORGANIZER;CN="Duncan Supply Company":MAILTO:training@duncansupply.com
END:VEVENT
BEGIN:VEVENT
DTSTART;TZID=UTC:20231108T170000
DTEND;TZID=UTC:20231108T193000
DTSTAMP:20260421T093153
CREATED:20230629T184024Z
LAST-MODIFIED:20230629T184024Z
UID:6538-1699462800-1699471800@duncansupply.com
SUMMARY:Intermediate Refrigeration Training - Bloomington
DESCRIPTION:*** Intermediate Refrigeration Training***\n November 1\, 2\, 7\, 8 & 9\, 2023 – Bloomington\nTime: 5:00 PM – 7:30 PM  \n  $725.00 for first attendee \n  $700.00 for additional attendees \nCLICK HERE to download flyer OR \n   CLICK HERE to register online
URL:https://duncansupply.com/event/intermediate-refrigeration-training-bloomington-4/
LOCATION:Bloomington Branch\, 1204 N Loesch Rd\, Bloomington\, IN\, 47404\, United States
CATEGORIES:Refrigeration Training
ORGANIZER;CN="Duncan Supply Company":MAILTO:training@duncansupply.com
END:VEVENT
BEGIN:VEVENT
DTSTART;TZID=UTC:20231109T170000
DTEND;TZID=UTC:20231109T193000
DTSTAMP:20260421T093153
CREATED:20230629T184047Z
LAST-MODIFIED:20230629T184047Z
UID:6540-1699549200-1699558200@duncansupply.com
SUMMARY:Intermediate Refrigeration Training - Bloomington
DESCRIPTION:*** Intermediate Refrigeration Training***\n November 1\, 2\, 7\, 8 & 9\, 2023 – Bloomington\nTime: 5:00 PM – 7:30 PM  \n  $725.00 for first attendee \n  $700.00 for additional attendees \nCLICK HERE to download flyer OR \n   CLICK HERE to register online
URL:https://duncansupply.com/event/intermediate-refrigeration-training-bloomington-5/
LOCATION:Bloomington Branch\, 1204 N Loesch Rd\, Bloomington\, IN\, 47404\, United States
CATEGORIES:Refrigeration Training
ORGANIZER;CN="Duncan Supply Company":MAILTO:training@duncansupply.com
END:VEVENT
BEGIN:VEVENT
DTSTART;TZID=UTC:20231116T170000
DTEND;TZID=UTC:20231116T193000
DTSTAMP:20260421T093153
CREATED:20230629T182951Z
LAST-MODIFIED:20230629T182951Z
UID:6530-1700154000-1700163000@duncansupply.com
SUMMARY:Hydrocarbons in Commercial Refrigeration - Mishawaka
DESCRIPTION:*** Hydrocarbons in Commercial Refrigeration Training***\nThursday\, November 16\, 2023 – Mishawaka\nTime: 5:00 PM – 7:30 PM  \n  $150.00 for first attendee \n  $140.00 for additional attendees \nCLICK HERE to download flyer OR \n   CLICK HERE to register online
URL:https://duncansupply.com/event/hydrocarbons-in-commercial-refrigeration-mishawaka/
LOCATION:Mishawaka Branch\, 56540 Twin Branch Dr\, Mishawaka\, IN\, 46545\, United States
CATEGORIES:Refrigeration Training
ORGANIZER;CN="Duncan Supply Company":MAILTO:training@duncansupply.com
END:VEVENT
END:VCALENDAR