BEGIN:VCALENDAR
VERSION:2.0
PRODID:-//Duncan Supply - ECPv6.15.15//NONSGML v1.0//EN
CALSCALE:GREGORIAN
METHOD:PUBLISH
X-ORIGINAL-URL:https://duncansupply.com
X-WR-CALDESC:Events for Duncan Supply
REFRESH-INTERVAL;VALUE=DURATION:PT1H
X-Robots-Tag:noindex
X-PUBLISHED-TTL:PT1H
BEGIN:VTIMEZONE
TZID:UTC
BEGIN:STANDARD
TZOFFSETFROM:+0000
TZOFFSETTO:+0000
TZNAME:UTC
DTSTART:20230101T000000
END:STANDARD
END:VTIMEZONE
BEGIN:VEVENT
DTSTART;TZID=UTC:20240304T163000
DTEND;TZID=UTC:20240304T193000
DTSTAMP:20260421T031837
CREATED:20240118T141745Z
LAST-MODIFIED:20240118T141745Z
UID:6788-1709569800-1709580600@duncansupply.com
SUMMARY:Scotsman Service School Course – Indianapolis
DESCRIPTION:*** Scotsman Service School Course ***\nMonday\, March 4th\, 2024 – Indianapolis\nTime: 4:30 PM – 7:30 PM  \n  $50.00 per attendee  \nCLICK HERE to download flyer OR \n   CLICK HERE to register online
URL:https://duncansupply.com/event/scotsman-service-school-course-indianapolis/
LOCATION:Indianapolis Home Office\, 910 N Illinois St\, Indianapolis\, IN\, 46204\, United States
CATEGORIES:Refrigeration Training
ORGANIZER;CN="Duncan Supply Company":MAILTO:training@duncansupply.com
END:VEVENT
BEGIN:VEVENT
DTSTART;TZID=UTC:20240305T163000
DTEND;TZID=UTC:20240305T193000
DTSTAMP:20260421T031837
CREATED:20240118T141946Z
LAST-MODIFIED:20240118T141946Z
UID:6794-1709656200-1709667000@duncansupply.com
SUMMARY:Scotsman Service School Course – Bloomington
DESCRIPTION:*** Scotsman Service School Course ***\nTuesday\, March 5th\, 2024 – Bloomington\nTime: 4:30 PM – 7:30 PM  \n  $50.00 per attendee  \nCLICK HERE to download flyer OR \n   CLICK HERE to register online
URL:https://duncansupply.com/event/scotsman-service-school-course-bloomington/
LOCATION:Bloomington Branch\, 1204 N Loesch Rd\, Bloomington\, IN\, 47404\, United States
CATEGORIES:Refrigeration Training
ORGANIZER;CN="Duncan Supply Company":MAILTO:training@duncansupply.com
END:VEVENT
BEGIN:VEVENT
DTSTART;TZID=UTC:20240306T163000
DTEND;TZID=UTC:20240306T193000
DTSTAMP:20260421T031837
CREATED:20240118T142107Z
LAST-MODIFIED:20240118T142107Z
UID:6797-1709742600-1709753400@duncansupply.com
SUMMARY:Scotsman Service School Course – Fort Wayne
DESCRIPTION:*** Scotsman Service School Course ***\nWednesday\, March 6th\, 2024 – Fort Wayne\nTime: 4:30 PM – 7:30 PM  \n  $50.00 per attendee  \nCLICK HERE to download flyer OR \n   CLICK HERE to register online
URL:https://duncansupply.com/event/scotsman-service-school-course-fort-wayne/
LOCATION:Fort Wayne Distribution Center\, 3310 Congressional Pkwy\, Fort Wayne\, IN\, 46808\, United States
CATEGORIES:Refrigeration Training
ORGANIZER;CN="Duncan Supply Company":MAILTO:training@duncansupply.com
END:VEVENT
BEGIN:VEVENT
DTSTART;TZID=UTC:20240307T163000
DTEND;TZID=UTC:20240307T193000
DTSTAMP:20260421T031837
CREATED:20240118T142226Z
LAST-MODIFIED:20240118T142226Z
UID:6799-1709829000-1709839800@duncansupply.com
SUMMARY:Scotsman Service School Course – Mishawaka
DESCRIPTION:*** Scotsman Service School Course ***\nThursday\, March 7th\, 2024 – Mishawaka\nTime: 4:30 PM – 7:30 PM  \n  $50.00 per attendee  \nCLICK HERE to download flyer OR \n   CLICK HERE to register online
URL:https://duncansupply.com/event/scotsman-service-school-course-mishawaka/
LOCATION:Mishawaka Branch\, 56540 Twin Branch Dr\, Mishawaka\, IN\, 46545\, United States
CATEGORIES:Refrigeration Training
ORGANIZER;CN="Duncan Supply Company":MAILTO:training@duncansupply.com
END:VEVENT
BEGIN:VEVENT
DTSTART;TZID=UTC:20240312T160000
DTEND;TZID=UTC:20240312T183000
DTSTAMP:20260421T031837
CREATED:20240129T154626Z
LAST-MODIFIED:20240129T154626Z
UID:6853-1710259200-1710268200@duncansupply.com
SUMMARY:Advanced Commercial/Industrial Refrigeration Training - Bloomington
DESCRIPTION:*** Advanced Commercial/Industrial Refrigeration Training ***\nTuesday\, March 12\, 2024 – Bloomington\n(Seven Day / 17.5 Hour Course) \nTime: 4:00 PM – 6:30 PM  \n  $750.00 per attendee  \nCLICK HERE to download flyer OR \n   CLICK HERE to register online
URL:https://duncansupply.com/event/advanced-commercial-industrial-refrigeration-training-bloomington/
LOCATION:Bloomington Branch\, 1204 N Loesch Rd\, Bloomington\, IN\, 47404\, United States
CATEGORIES:Refrigeration Training
ORGANIZER;CN="Duncan Supply Company":MAILTO:training@duncansupply.com
END:VEVENT
BEGIN:VEVENT
DTSTART;TZID=UTC:20240313T160000
DTEND;TZID=UTC:20240313T183000
DTSTAMP:20260421T031837
CREATED:20240129T154921Z
LAST-MODIFIED:20240129T154921Z
UID:6855-1710345600-1710354600@duncansupply.com
SUMMARY:Advanced Commercial/Industrial Refrigeration Training - Bloomington
DESCRIPTION:*** Advanced Commercial/Industrial Refrigeration Training ***\nWednesday\, March 13\, 2024 – Bloomington\n(Seven Day / 17.5 Hour Course) \nTime: 4:00 PM – 6:30 PM  \n  $750.00 per attendee  \nCLICK HERE to download flyer OR \n   CLICK HERE to register online
URL:https://duncansupply.com/event/advanced-commercial-industrial-refrigeration-training-bloomington-2/
LOCATION:Bloomington Branch\, 1204 N Loesch Rd\, Bloomington\, IN\, 47404\, United States
CATEGORIES:Refrigeration Training
ORGANIZER;CN="Duncan Supply Company":MAILTO:training@duncansupply.com
END:VEVENT
BEGIN:VEVENT
DTSTART;TZID=UTC:20240314T160000
DTEND;TZID=UTC:20240314T183000
DTSTAMP:20260421T031837
CREATED:20240129T155025Z
LAST-MODIFIED:20240129T155025Z
UID:6857-1710432000-1710441000@duncansupply.com
SUMMARY:Advanced Commercial/Industrial Refrigeration Training - Bloomington
DESCRIPTION:*** Advanced Commercial/Industrial Refrigeration Training ***\nThursday\, March 14\, 2024 – Bloomington\n(Seven Day / 17.5 Hour Course) \nTime: 4:00 PM – 6:30 PM  \n  $750.00 per attendee  \nCLICK HERE to download flyer OR \n   CLICK HERE to register online
URL:https://duncansupply.com/event/advanced-commercial-industrial-refrigeration-training-bloomington-3/
LOCATION:Bloomington Branch\, 1204 N Loesch Rd\, Bloomington\, IN\, 47404\, United States
CATEGORIES:Refrigeration Training
ORGANIZER;CN="Duncan Supply Company":MAILTO:training@duncansupply.com
END:VEVENT
BEGIN:VEVENT
DTSTART;TZID=UTC:20240319T160000
DTEND;TZID=UTC:20240319T183000
DTSTAMP:20260421T031837
CREATED:20240129T155135Z
LAST-MODIFIED:20240129T155135Z
UID:6859-1710864000-1710873000@duncansupply.com
SUMMARY:Advanced Commercial/Industrial Refrigeration Training - Bloomington
DESCRIPTION:*** Advanced Commercial/Industrial Refrigeration Training ***\nTuesday\, March 19\, 2024 – Bloomington\n(Seven Day / 17.5 Hour Course) \nTime: 4:00 PM – 6:30 PM  \n  $750.00 per attendee  \nCLICK HERE to download flyer OR \n   CLICK HERE to register online
URL:https://duncansupply.com/event/advanced-commercial-industrial-refrigeration-training-bloomington-4/
LOCATION:Bloomington Branch\, 1204 N Loesch Rd\, Bloomington\, IN\, 47404\, United States
CATEGORIES:Refrigeration Training
ORGANIZER;CN="Duncan Supply Company":MAILTO:training@duncansupply.com
END:VEVENT
BEGIN:VEVENT
DTSTART;TZID=UTC:20240320T160000
DTEND;TZID=UTC:20240320T183000
DTSTAMP:20260421T031837
CREATED:20240129T155228Z
LAST-MODIFIED:20240129T155228Z
UID:6861-1710950400-1710959400@duncansupply.com
SUMMARY:Advanced Commercial/Industrial Refrigeration Training - Bloomington
DESCRIPTION:*** Advanced Commercial/Industrial Refrigeration Training ***\nWednesday\, March 20\, 2024 – Bloomington\n(Seven Day / 17.5 Hour Course) \nTime: 4:00 PM – 6:30 PM  \n  $750.00 per attendee  \nCLICK HERE to download flyer OR \n   CLICK HERE to register online
URL:https://duncansupply.com/event/advanced-commercial-industrial-refrigeration-training-bloomington-5/
LOCATION:Bloomington Branch\, 1204 N Loesch Rd\, Bloomington\, IN\, 47404\, United States
CATEGORIES:Refrigeration Training
ORGANIZER;CN="Duncan Supply Company":MAILTO:training@duncansupply.com
END:VEVENT
BEGIN:VEVENT
DTSTART;TZID=UTC:20240321T160000
DTEND;TZID=UTC:20240321T183000
DTSTAMP:20260421T031837
CREATED:20240129T155259Z
LAST-MODIFIED:20240129T155259Z
UID:6863-1711036800-1711045800@duncansupply.com
SUMMARY:Advanced Commercial/Industrial Refrigeration Training - Bloomington
DESCRIPTION:*** Advanced Commercial/Industrial Refrigeration Training ***\nThursday\, March 21\, 2024 – Bloomington\n(Seven Day / 17.5 Hour Course) \nTime: 4:00 PM – 6:30 PM  \n  $750.00 per attendee  \nCLICK HERE to download flyer OR \n   CLICK HERE to register online
URL:https://duncansupply.com/event/advanced-commercial-industrial-refrigeration-training-bloomington-6/
LOCATION:Bloomington Branch\, 1204 N Loesch Rd\, Bloomington\, IN\, 47404\, United States
CATEGORIES:Refrigeration Training
ORGANIZER;CN="Duncan Supply Company":MAILTO:training@duncansupply.com
END:VEVENT
BEGIN:VEVENT
DTSTART;TZID=UTC:20240326T160000
DTEND;TZID=UTC:20240326T183000
DTSTAMP:20260421T031837
CREATED:20240129T155339Z
LAST-MODIFIED:20240129T155339Z
UID:6865-1711468800-1711477800@duncansupply.com
SUMMARY:Advanced Commercial/Industrial Refrigeration Training - Bloomington
DESCRIPTION:*** Advanced Commercial/Industrial Refrigeration Training ***\nTuesday\, March 26\, 2024 – Bloomington\n(Seven Day / 17.5 Hour Course) \nTime: 4:00 PM – 6:30 PM  \n  $750.00 per attendee  \nCLICK HERE to download flyer OR \n   CLICK HERE to register online
URL:https://duncansupply.com/event/advanced-commercial-industrial-refrigeration-training-bloomington-7/
LOCATION:Bloomington Branch\, 1204 N Loesch Rd\, Bloomington\, IN\, 47404\, United States
CATEGORIES:Refrigeration Training
ORGANIZER;CN="Duncan Supply Company":MAILTO:training@duncansupply.com
END:VEVENT
END:VCALENDAR