BEGIN:VCALENDAR
VERSION:2.0
PRODID:-//Duncan Supply - ECPv6.15.15//NONSGML v1.0//EN
CALSCALE:GREGORIAN
METHOD:PUBLISH
X-WR-CALNAME:Duncan Supply
X-ORIGINAL-URL:https://duncansupply.com
X-WR-CALDESC:Events for Duncan Supply
REFRESH-INTERVAL;VALUE=DURATION:PT1H
X-Robots-Tag:noindex
X-PUBLISHED-TTL:PT1H
BEGIN:VTIMEZONE
TZID:UTC
BEGIN:STANDARD
TZOFFSETFROM:+0000
TZOFFSETTO:+0000
TZNAME:UTC
DTSTART:20230101T000000
END:STANDARD
END:VTIMEZONE
BEGIN:VEVENT
DTSTART;TZID=UTC:20240402T170000
DTEND;TZID=UTC:20240402T193000
DTSTAMP:20260420T005812
CREATED:20240129T153423Z
LAST-MODIFIED:20240129T153502Z
UID:6846-1712077200-1712086200@duncansupply.com
SUMMARY:Basic A/C & Refrigeration Training - Lafayette
DESCRIPTION:*** Basic A/C & Refrigeration Training ***\nTuesday\, April 2\, 2024 – Lafayette\n(Three Day / 7.5 Hour Course) \nTime: 5:00 PM – 7:30 PM  \n  $540.00 per attendee  \nCLICK HERE to download flyer OR \n   CLICK HERE to register online
URL:https://duncansupply.com/event/basic-a-c-refrigeration-training-lafayette/
LOCATION:Lafayette Branch\, 510 Morland Dr\, Lafayette\, IN\, 47905\, United States
CATEGORIES:HVAC Training,Refrigeration Training
ORGANIZER;CN="Duncan Supply Company":MAILTO:training@duncansupply.com
END:VEVENT
BEGIN:VEVENT
DTSTART;TZID=UTC:20240403T170000
DTEND;TZID=UTC:20240403T193000
DTSTAMP:20260420T005812
CREATED:20240129T153615Z
LAST-MODIFIED:20240129T153615Z
UID:6848-1712163600-1712172600@duncansupply.com
SUMMARY:Basic A/C & Refrigeration Training - Lafayette
DESCRIPTION:*** Basic A/C & Refrigeration Training ***\nWednesday\, April 3\, 2024 – Lafayette\n(Three Day / 7.5 Hour Course) \nTime: 5:00 PM – 7:30 PM  \n  $540.00 per attendee  \nCLICK HERE to download flyer OR \n   CLICK HERE to register online
URL:https://duncansupply.com/event/basic-a-c-refrigeration-training-lafayette-2/
LOCATION:Lafayette Branch\, 510 Morland Dr\, Lafayette\, IN\, 47905\, United States
CATEGORIES:HVAC Training,Refrigeration Training
ORGANIZER;CN="Duncan Supply Company":MAILTO:training@duncansupply.com
END:VEVENT
BEGIN:VEVENT
DTSTART;TZID=UTC:20240404T170000
DTEND;TZID=UTC:20240404T193000
DTSTAMP:20260420T005812
CREATED:20240129T153705Z
LAST-MODIFIED:20240129T153705Z
UID:6850-1712250000-1712259000@duncansupply.com
SUMMARY:Basic A/C & Refrigeration Training - Lafayette
DESCRIPTION:*** Basic A/C & Refrigeration Training ***\nThursday\, April 4\, 2024 – Lafayette\n(Three Day / 7.5 Hour Course) \nTime: 5:00 PM – 7:30 PM  \n  $540.00 per attendee  \nCLICK HERE to download flyer OR \n   CLICK HERE to register online
URL:https://duncansupply.com/event/basic-a-c-refrigeration-training-lafayette-3/
LOCATION:Lafayette Branch\, 510 Morland Dr\, Lafayette\, IN\, 47905\, United States
CATEGORIES:HVAC Training,Refrigeration Training
ORGANIZER;CN="Duncan Supply Company":MAILTO:training@duncansupply.com
END:VEVENT
BEGIN:VEVENT
DTSTART;TZID=UTC:20240409T170000
DTEND;TZID=UTC:20240409T193000
DTSTAMP:20260420T005812
CREATED:20240129T152825Z
LAST-MODIFIED:20240129T152940Z
UID:6839-1712682000-1712691000@duncansupply.com
SUMMARY:Basic A/C & Refrigeration Training - Greensburg
DESCRIPTION:*** Basic A/C & Refrigeration Training ***\nTuesday\, April 9\, 2024 – Greensburg\n(Three Day / 7.5 Hour Course) \nTime: 5:00 PM – 7:30 PM  \n  $540.00 per attendee  \nCLICK HERE to download flyer OR \n   CLICK HERE to register online
URL:https://duncansupply.com/event/basic-a-c-refrigeration-training-greensburg/
LOCATION:Greensburg Branch\, 1575 N Commerce East Dr\, Greensburg\, 47240\, United States
CATEGORIES:HVAC Training,Refrigeration Training
ORGANIZER;CN="Duncan Supply Company":MAILTO:training@duncansupply.com
END:VEVENT
BEGIN:VEVENT
DTSTART;TZID=UTC:20240410T170000
DTEND;TZID=UTC:20240410T193000
DTSTAMP:20260420T005812
CREATED:20240129T153024Z
LAST-MODIFIED:20240129T153024Z
UID:6842-1712768400-1712777400@duncansupply.com
SUMMARY:Basic A/C & Refrigeration Training - Greensburg
DESCRIPTION:*** Basic A/C & Refrigeration Training ***\nWednesday\, April 10\, 2024 – Greensburg\n(Three Day / 7.5 Hour Course) \nTime: 5:00 PM – 7:30 PM  \n  $540.00 per attendee  \nCLICK HERE to download flyer OR \n   CLICK HERE to register online
URL:https://duncansupply.com/event/basic-a-c-refrigeration-training-greensburg-2/
LOCATION:Greensburg Branch\, 1575 N Commerce East Dr\, Greensburg\, 47240\, United States
CATEGORIES:HVAC Training,Refrigeration Training
ORGANIZER;CN="Duncan Supply Company":MAILTO:training@duncansupply.com
END:VEVENT
BEGIN:VEVENT
DTSTART;TZID=UTC:20240411T170000
DTEND;TZID=UTC:20240411T193000
DTSTAMP:20260420T005812
CREATED:20240129T153124Z
LAST-MODIFIED:20240129T153124Z
UID:6844-1712854800-1712863800@duncansupply.com
SUMMARY:Basic A/C & Refrigeration Training - Greensburg
DESCRIPTION:*** Basic A/C & Refrigeration Training ***\nThursday\, April 11\, 2024 – Greensburg\n(Three Day / 7.5 Hour Course) \nTime: 5:00 PM – 7:30 PM  \n  $540.00 per attendee  \nCLICK HERE to download flyer OR \n   CLICK HERE to register online
URL:https://duncansupply.com/event/basic-a-c-refrigeration-training-greensburg-3/
LOCATION:Greensburg Branch\, 1575 N Commerce East Dr\, Greensburg\, 47240\, United States
CATEGORIES:HVAC Training,Refrigeration Training
ORGANIZER;CN="Duncan Supply Company":MAILTO:training@duncansupply.com
END:VEVENT
BEGIN:VEVENT
DTSTART;TZID=UTC:20240416T170000
DTEND;TZID=UTC:20240416T200000
DTSTAMP:20260420T005812
CREATED:20240129T155831Z
LAST-MODIFIED:20240202T144144Z
UID:6867-1713286800-1713297600@duncansupply.com
SUMMARY:Intermediate Refrigeration Training - Champaign
DESCRIPTION:*** Intermediate Refrigeration Training ***\nTuesday\, April 16\, 2024 – Champaign\n(Four Evening / 12.5 Hour Course) \nTime: 5:00 PM – 8:00 PM  \n  $725.00 per attendee  \nCLICK HERE to download flyer OR \n   CLICK HERE to register online
URL:https://duncansupply.com/event/intermediate-refrigeration-training-champaign/
LOCATION:Courtyard by Marriott\, 1811 Moreland Blvd. Champaign\, IL 61822\, Champaign\, IL\, 61822\, United States
CATEGORIES:Refrigeration Training
ORGANIZER;CN="Duncan Supply Company":MAILTO:training@duncansupply.com
END:VEVENT
BEGIN:VEVENT
DTSTART;TZID=UTC:20240417T170000
DTEND;TZID=UTC:20240417T200000
DTSTAMP:20260420T005812
CREATED:20240202T144350Z
LAST-MODIFIED:20240202T144350Z
UID:6881-1713373200-1713384000@duncansupply.com
SUMMARY:Intermediate Refrigeration Training - Champaign
DESCRIPTION:*** Intermediate Refrigeration Training ***\nWednesday\, April 17\, 2024 – Champaign\n(Four Evening / 12.5 Hour Course) \nTime: 5:00 PM – 8:00 PM  \n  $725.00 per attendee  \nCLICK HERE to download flyer OR \n   CLICK HERE to register online
URL:https://duncansupply.com/event/intermediate-refrigeration-training-champaign-2/
LOCATION:Courtyard by Marriott\, 1811 Moreland Blvd. Champaign\, IL 61822\, Champaign\, IL\, 61822\, United States
CATEGORIES:Refrigeration Training
ORGANIZER;CN="Duncan Supply Company":MAILTO:training@duncansupply.com
END:VEVENT
BEGIN:VEVENT
DTSTART;TZID=UTC:20240418T170000
DTEND;TZID=UTC:20240418T200000
DTSTAMP:20260420T005812
CREATED:20240202T144427Z
LAST-MODIFIED:20240202T144427Z
UID:6883-1713459600-1713470400@duncansupply.com
SUMMARY:Intermediate Refrigeration Training - Champaign
DESCRIPTION:*** Intermediate Refrigeration Training ***\nThursday\, April 18\, 2024 – Champaign\n(Four Evening / 12.5 Hour Course) \nTime: 5:00 PM – 8:00 PM  \n  $725.00 per attendee  \nCLICK HERE to download flyer OR \n   CLICK HERE to register online
URL:https://duncansupply.com/event/intermediate-refrigeration-training-champaign-3/
LOCATION:Courtyard by Marriott\, 1811 Moreland Blvd. Champaign\, IL 61822\, Champaign\, IL\, 61822\, United States
CATEGORIES:Refrigeration Training
ORGANIZER;CN="Duncan Supply Company":MAILTO:training@duncansupply.com
END:VEVENT
BEGIN:VEVENT
DTSTART;TZID=UTC:20240419T090000
DTEND;TZID=UTC:20240419T110000
DTSTAMP:20260420T005812
CREATED:20240325T135810Z
LAST-MODIFIED:20240325T135855Z
UID:7034-1713517200-1713524400@duncansupply.com
SUMMARY:Appion Refrigerant Recovery\, A2L & System Evacuation Training - Cincinnati
DESCRIPTION:*** Appion Refrigerant Recovery\, A2L & System Evacuation Training ***\nApril 19\, 2024 – Cincinnati Distribution Center\nTime: 9:00 AM – 11:00 AM  \n  $50.00 per attendee \nCLICK HERE to download flyer OR \n   CLICK HERE to register online
URL:https://duncansupply.com/event/appion-refrigerant-recovery-a2l-system-evacuation-training-cincinnati/
LOCATION:Cincinnati Distribution Center\, 7753 Union Centre Blvd\, Ste 100 West Chester\, OH 45011
CATEGORIES:HVAC Training,Refrigeration Training
ORGANIZER;CN="Duncan Supply Company":MAILTO:training@duncansupply.com
END:VEVENT
BEGIN:VEVENT
DTSTART;TZID=UTC:20240423T170000
DTEND;TZID=UTC:20240423T200000
DTSTAMP:20260420T005812
CREATED:20240202T144507Z
LAST-MODIFIED:20240202T144507Z
UID:6885-1713891600-1713902400@duncansupply.com
SUMMARY:Intermediate Refrigeration Training - Champaign
DESCRIPTION:*** Intermediate Refrigeration Training ***\nTuesday\, April 23\, 2024 – Champaign\n(Four Evening / 12.5 Hour Course) \nTime: 5:00 PM – 8:00 PM  \n  $725.00 per attendee  \nCLICK HERE to download flyer OR \n   CLICK HERE to register online
URL:https://duncansupply.com/event/intermediate-refrigeration-training-champaign-4/
LOCATION:Courtyard by Marriott\, 1811 Moreland Blvd. Champaign\, IL 61822\, Champaign\, IL\, 61822\, United States
CATEGORIES:Refrigeration Training
ORGANIZER;CN="Duncan Supply Company":MAILTO:training@duncansupply.com
END:VEVENT
BEGIN:VEVENT
DTSTART;TZID=UTC:20240425T160000
DTEND;TZID=UTC:20240425T193000
DTSTAMP:20260420T005812
CREATED:20240129T145308Z
LAST-MODIFIED:20240129T145308Z
UID:6829-1714060800-1714073400@duncansupply.com
SUMMARY:A2L Training - Virtual
DESCRIPTION:*** A2L Training ***\nThursday\, April 25\, 2024 – Virtual\nTime: 4:00 PM – 7:30 PM  \n  $150.00 per attendee  \nCLICK HERE to download flyer OR \n   CLICK HERE to register online
URL:https://duncansupply.com/event/a2l-training-virtual/
LOCATION:ZOOM
CATEGORIES:Refrigeration Training
ORGANIZER;CN="Duncan Supply Company":MAILTO:training@duncansupply.com
END:VEVENT
BEGIN:VEVENT
DTSTART;TZID=UTC:20240430T090000
DTEND;TZID=UTC:20240430T123000
DTSTAMP:20260420T005812
CREATED:20230629T153014Z
LAST-MODIFIED:20240319T173935Z
UID:6521-1714467600-1714480200@duncansupply.com
SUMMARY:A2L Refrigerant Training - Indianapolis
DESCRIPTION:*** A2L Refrigerant Training***\nApril 30\, 2024 – Indianapolis\nTime: 9:00 AM – 12:30 PM  \n  $150.00 for first attendee \n  $140.00 for additional attendees \nCLICK HERE to download flyer OR \n  CLICK HERE to register online
URL:https://duncansupply.com/event/a2l-refrigerant-training-mishawaka/
LOCATION:Indianapolis Home Office (Bldg 5)\, 101 W 9th St\, Indianapolis\, IN\, 46204\, United States
CATEGORIES:HVAC Training,Refrigeration Training
ORGANIZER;CN="Duncan Supply Company":MAILTO:training@duncansupply.com
END:VEVENT
BEGIN:VEVENT
DTSTART;TZID=UTC:20240430T153000
DTEND;TZID=UTC:20240430T173000
DTSTAMP:20260420T005812
CREATED:20240129T150830Z
LAST-MODIFIED:20240129T150830Z
UID:6833-1714491000-1714498200@duncansupply.com
SUMMARY:Heatcraft Intelligen Refrigeration Controller Course - Indianapolis
DESCRIPTION:*** Heatcraft Intelligen Refrigeration Controller Course ***\nTuesday\, April 30\, 2024 – Indianapolis\nTime: 3:30 PM – 5:30 PM  \n  $35.00 per attendee  \nCLICK HERE to download flyer OR \n   CLICK HERE to register online
URL:https://duncansupply.com/event/heatcraft-intelligen-refrigeration-controller-course-indianapolis/
LOCATION:Indianapolis Home Office (Bldg 5)\, 101 W 9th St\, Indianapolis\, IN\, 46204\, United States
CATEGORIES:Refrigeration Training
ORGANIZER;CN="Duncan Supply Company":MAILTO:training@duncansupply.com
END:VEVENT
BEGIN:VEVENT
DTSTART;TZID=UTC:20240430T153000
DTEND;TZID=UTC:20240430T173000
DTSTAMP:20260420T005812
CREATED:20240129T151027Z
LAST-MODIFIED:20240129T151027Z
UID:6835-1714491000-1714498200@duncansupply.com
SUMMARY:Heatcraft Intelligen Refrigeration Controller Course - Virtual
DESCRIPTION:*** Heatcraft Intelligen Refrigeration Controller Course ***\nTuesday\, April 30\, 2024 – Virtual\nTime: 3:30 PM – 5:30 PM  \n  $35.00 per attendee  \nCLICK HERE to download flyer OR \n   CLICK HERE to register online
URL:https://duncansupply.com/event/heatcraft-intelligen-refrigeration-controller-course-virtual/
LOCATION:ZOOM
CATEGORIES:Refrigeration Training
ORGANIZER;CN="Duncan Supply Company":MAILTO:training@duncansupply.com
END:VEVENT
END:VCALENDAR