BEGIN:VCALENDAR
VERSION:2.0
PRODID:-//Duncan Supply - ECPv6.15.15//NONSGML v1.0//EN
CALSCALE:GREGORIAN
METHOD:PUBLISH
X-WR-CALNAME:Duncan Supply
X-ORIGINAL-URL:https://duncansupply.com
X-WR-CALDESC:Events for Duncan Supply
REFRESH-INTERVAL;VALUE=DURATION:PT1H
X-Robots-Tag:noindex
X-PUBLISHED-TTL:PT1H
BEGIN:VTIMEZONE
TZID:UTC
BEGIN:STANDARD
TZOFFSETFROM:+0000
TZOFFSETTO:+0000
TZNAME:UTC
DTSTART:20220101T000000
END:STANDARD
END:VTIMEZONE
BEGIN:VEVENT
DTSTART;TZID=UTC:20230502T153000
DTEND;TZID=UTC:20230502T180000
DTSTAMP:20260422T094754
CREATED:20230323T135940Z
LAST-MODIFIED:20230323T135940Z
UID:6373-1683041400-1683050400@duncansupply.com
SUMMARY:Heatcraft intelliGen Refrigeration Controller Course – Lafayette
DESCRIPTION:*** Heatcraft intelliGen Refrigeration Controller Course***\nTuesday\, May 2nd\, 2023 – Fort Wayne\nTime: 3:30 PM – 6:00 PM  \n  $25.00 per attendee  \nCLICK HERE to download flyer OR \n   CLICK HERE to register online
URL:https://duncansupply.com/event/heatcraft-intelligen-refrigeration-controller-course-lafayette/
LOCATION:Lafayette Branch\, 510 Morland Dr\, Lafayette\, IN\, 47905\, United States
CATEGORIES:HVAC Training,Refrigeration Training
ORGANIZER;CN="Duncan Supply Company":MAILTO:training@duncansupply.com
END:VEVENT
END:VCALENDAR