BEGIN:VCALENDAR
VERSION:2.0
PRODID:-//Duncan Supply - ECPv6.15.15//NONSGML v1.0//EN
CALSCALE:GREGORIAN
METHOD:PUBLISH
X-ORIGINAL-URL:https://duncansupply.com
X-WR-CALDESC:Events for Duncan Supply
REFRESH-INTERVAL;VALUE=DURATION:PT1H
X-Robots-Tag:noindex
X-PUBLISHED-TTL:PT1H
BEGIN:VTIMEZONE
TZID:UTC
BEGIN:STANDARD
TZOFFSETFROM:+0000
TZOFFSETTO:+0000
TZNAME:UTC
DTSTART:20220101T000000
END:STANDARD
END:VTIMEZONE
BEGIN:VEVENT
DTSTART;TZID=UTC:20231116T170000
DTEND;TZID=UTC:20231116T193000
DTSTAMP:20260421T111410
CREATED:20230629T182951Z
LAST-MODIFIED:20230629T182951Z
UID:6530-1700154000-1700163000@duncansupply.com
SUMMARY:Hydrocarbons in Commercial Refrigeration - Mishawaka
DESCRIPTION:*** Hydrocarbons in Commercial Refrigeration Training***\nThursday\, November 16\, 2023 – Mishawaka\nTime: 5:00 PM – 7:30 PM  \n  $150.00 for first attendee \n  $140.00 for additional attendees \nCLICK HERE to download flyer OR \n   CLICK HERE to register online
URL:https://duncansupply.com/event/hydrocarbons-in-commercial-refrigeration-mishawaka/
LOCATION:Mishawaka Branch\, 56540 Twin Branch Dr\, Mishawaka\, IN\, 46545\, United States
CATEGORIES:Refrigeration Training
ORGANIZER;CN="Duncan Supply Company":MAILTO:training@duncansupply.com
END:VEVENT
END:VCALENDAR