BEGIN:VCALENDAR
VERSION:2.0
PRODID:-//Duncan Supply - ECPv6.15.15//NONSGML v1.0//EN
CALSCALE:GREGORIAN
METHOD:PUBLISH
X-WR-CALNAME:Duncan Supply
X-ORIGINAL-URL:https://duncansupply.com
X-WR-CALDESC:Events for Duncan Supply
REFRESH-INTERVAL;VALUE=DURATION:PT1H
X-Robots-Tag:noindex
X-PUBLISHED-TTL:PT1H
BEGIN:VTIMEZONE
TZID:UTC
BEGIN:STANDARD
TZOFFSETFROM:+0000
TZOFFSETTO:+0000
TZNAME:UTC
DTSTART:20230101T000000
END:STANDARD
END:VTIMEZONE
BEGIN:VEVENT
DTSTART;TZID=UTC:20241003T090000
DTEND;TZID=UTC:20241003T113000
DTSTAMP:20260420T103831
CREATED:20240806T132459Z
LAST-MODIFIED:20240806T132459Z
UID:7265-1727946000-1727955000@duncansupply.com
SUMMARY:A2L Training - Cincinnati
DESCRIPTION:*** A2L Training ***\nThursday\, October 3\, 2024\nDSC Cincinnati – 7753 Union Centre Blvd. West Chester\, OH 45011 \nTime: 9:00 AM – 11:30 AM  \n  $25 per attendee \nDonuts will be served \nREGISTER ONLINE NOW or CLICK HERE to download flyer
URL:https://duncansupply.com/event/a2l-training-cincinnati/
LOCATION:Cincinnati Distribution Center\, 7753 Union Centre Blvd\, Ste 100 West Chester\, OH 45011
CATEGORIES:Refrigeration Training
ORGANIZER;CN="Duncan Supply Company":MAILTO:training@duncansupply.com
END:VEVENT
BEGIN:VEVENT
DTSTART;TZID=UTC:20241003T170000
DTEND;TZID=UTC:20241003T193000
DTSTAMP:20260420T103831
CREATED:20240806T133642Z
LAST-MODIFIED:20240806T133727Z
UID:7269-1727974800-1727983800@duncansupply.com
SUMMARY:A2L Training - Erlanger
DESCRIPTION:*** A2L Training ***\nThursday\, October 3\, 2024\nDSC Erlanger – 1606 Dolwick Dr. Erlanger\, KY 41018 \nTime: 5:00 PM – 7:30 PM  \n  $25 per attendee \nPizza will be served \nREGISTER ONLINE NOW or CLICK HERE to download flyer
URL:https://duncansupply.com/event/a2l-training-erlanger/
LOCATION:Erlanger Branch\, 1606 Dolwick Drive\, Erlanger\, KY\, 41018\, United States
CATEGORIES:Refrigeration Training
ORGANIZER;CN="Duncan Supply Company":MAILTO:training@duncansupply.com
END:VEVENT
END:VCALENDAR