BEGIN:VCALENDAR
VERSION:2.0
PRODID:-//Duncan Supply - ECPv6.15.15//NONSGML v1.0//EN
CALSCALE:GREGORIAN
METHOD:PUBLISH
X-ORIGINAL-URL:https://duncansupply.com
X-WR-CALDESC:Events for Duncan Supply
REFRESH-INTERVAL;VALUE=DURATION:PT1H
X-Robots-Tag:noindex
X-PUBLISHED-TTL:PT1H
BEGIN:VTIMEZONE
TZID:UTC
BEGIN:STANDARD
TZOFFSETFROM:+0000
TZOFFSETTO:+0000
TZNAME:UTC
DTSTART:20240101T000000
END:STANDARD
END:VTIMEZONE
BEGIN:VEVENT
DTSTART;TZID=UTC:20250611T110000
DTEND;TZID=UTC:20250611T140000
DTSTAMP:20260419T172627
CREATED:20250508T152034Z
LAST-MODIFIED:20250508T160709Z
UID:7786-1749639600-1749650400@duncansupply.com
SUMMARY:Bohn A2L Lunch & Learn - Indianapolis\, IN
DESCRIPTION:*** Bohn A2L Lunch & Learn ***\nWednesday\, June 11\, 2025\nMeeting Locations\nDSC Indianapolis– 101 West 9th Street\, IN 47204 \nDSC Cincinnati – 7753 Union Centre Blvd\, Ste 100 West Chester\, OH 45011 \nvia Microsoft Teams \nSchedule:\n11:00AM – 1:00PM  \nLunch Served \n11:00AM- 11:30AM \nintelliGen TM Controller Introduction & Review \n12:00PM – 2:00PM \nA2L Refrigeration Equipment Introduction \nREGISTER ONLINE NOW or CLICK HERE to download flyer \nRegistration deadline: Friday\, June 6\, 2025
URL:https://duncansupply.com/event/bohn-a2l-lunch-learn-indianapolis-in/
LOCATION:Indianapolis Home Office (Bldg 5)\, 101 W 9th St\, Indianapolis\, IN\, 46204\, United States
CATEGORIES:Miscellaneous Training,Refrigeration Training
ORGANIZER;CN="Duncan Supply Company":MAILTO:training@duncansupply.com
END:VEVENT
BEGIN:VEVENT
DTSTART;TZID=UTC:20250611T110000
DTEND;TZID=UTC:20250611T140000
DTSTAMP:20260419T172627
CREATED:20250508T152300Z
LAST-MODIFIED:20250508T160730Z
UID:7789-1749639600-1749650400@duncansupply.com
SUMMARY:Bohn A2L Lunch & Learn - Cincinnati\, OH
DESCRIPTION:*** Bohn A2L Lunch & Learn ***\nWednesday\, June 11\, 2025\nMeeting Locations\nDSC Cincinnati – 7753 Union Centre Blvd\, Ste 100 West Chester\, OH 45011 \nDSC Indianapolis– 101 West 9th Street\, IN 47204 \nvia Microsoft Teams \nSchedule:\n11:00AM – 1:00PM  \nLunch Served \n11:00AM- 11:30AM \nintelliGen TM Controller Introduction & Review \n12:00PM – 2:00PM \nA2L Refrigeration Equipment Introduction \nREGISTER ONLINE NOW or CLICK HERE to download flyer \nRegistration deadline: Friday\, June 6\, 2025
URL:https://duncansupply.com/event/bohn-a2l-lunch-learn-cincinnati-oh/
LOCATION:Cincinnati Distribution Center\, 7753 Union Centre Blvd\, Ste 100 West Chester\, OH 45011
CATEGORIES:Miscellaneous Training,Refrigeration Training
ORGANIZER;CN="Duncan Supply Company":MAILTO:training@duncansupply.com
END:VEVENT
BEGIN:VEVENT
DTSTART;TZID=UTC:20250611T110000
DTEND;TZID=UTC:20250611T140000
DTSTAMP:20260419T172627
CREATED:20250508T152403Z
LAST-MODIFIED:20250508T160852Z
UID:7791-1749639600-1749650400@duncansupply.com
SUMMARY:Bohn A2L Lunch & Learn - Virtual
DESCRIPTION:*** Bohn A2L Lunch & Learn ***\nWednesday\, June 11\, 2025\nMeeting Locations\nvia Microsoft Teams \nProvide Email Address for\nMicrosoft Teams Meeting Link\n(Virtual meeting starts at 12 pm)\nDSC Indianapolis– 101 West 9th Street\, IN 47204 \nDSC Cincinnati – 7753 Union Centre Blvd\, Ste 100 West Chester\, OH 45011 \nSchedule:\n11:00AM – 1:00PM  \nLunch Served \n11:00AM- 11:30AM \nintelliGen TM Controller Introduction & Review \n12:00PM – 2:00PM \nA2L Refrigeration Equipment Introduction \nREGISTER ONLINE NOW or CLICK HERE to download flyer \nRegistration deadline: Friday\, June 6\, 2025
URL:https://duncansupply.com/event/bohn-a2l-lunch-learn-zoom/
LOCATION:ZOOM
CATEGORIES:Miscellaneous Training,Refrigeration Training
ORGANIZER;CN="Duncan Supply Company":MAILTO:training@duncansupply.com
END:VEVENT
END:VCALENDAR