BEGIN:VCALENDAR
VERSION:2.0
PRODID:-//Duncan Supply - ECPv6.15.15//NONSGML v1.0//EN
CALSCALE:GREGORIAN
METHOD:PUBLISH
X-ORIGINAL-URL:https://duncansupply.com
X-WR-CALDESC:Events for Duncan Supply
REFRESH-INTERVAL;VALUE=DURATION:PT1H
X-Robots-Tag:noindex
X-PUBLISHED-TTL:PT1H
BEGIN:VTIMEZONE
TZID:America/Indiana/Indianapolis
BEGIN:DAYLIGHT
TZOFFSETFROM:-0500
TZOFFSETTO:-0400
TZNAME:EDT
DTSTART:20210314T070000
END:DAYLIGHT
BEGIN:STANDARD
TZOFFSETFROM:-0400
TZOFFSETTO:-0500
TZNAME:EST
DTSTART:20211107T060000
END:STANDARD
BEGIN:DAYLIGHT
TZOFFSETFROM:-0500
TZOFFSETTO:-0400
TZNAME:EDT
DTSTART:20220313T070000
END:DAYLIGHT
BEGIN:STANDARD
TZOFFSETFROM:-0400
TZOFFSETTO:-0500
TZNAME:EST
DTSTART:20221106T060000
END:STANDARD
BEGIN:DAYLIGHT
TZOFFSETFROM:-0500
TZOFFSETTO:-0400
TZNAME:EDT
DTSTART:20230312T070000
END:DAYLIGHT
BEGIN:STANDARD
TZOFFSETFROM:-0400
TZOFFSETTO:-0500
TZNAME:EST
DTSTART:20231105T060000
END:STANDARD
END:VTIMEZONE
BEGIN:VEVENT
DTSTART;TZID=America/Indiana/Indianapolis:20220511T110000
DTEND;TZID=America/Indiana/Indianapolis:20220511T140000
DTSTAMP:20260419T140150
CREATED:20220310T153736Z
LAST-MODIFIED:20220310T153736Z
UID:4549-1652266800-1652277600@duncansupply.com
SUMMARY:Nu-Cal Counter Day - Bloomington
DESCRIPTION:
URL:https://duncansupply.com/event/nu-cal-counter-day-bloomington/
LOCATION:Bloomington Branch\, 1204 N Loesch Rd\, Bloomington\, IN\, 47404\, United States
CATEGORIES:Counter Days
END:VEVENT
BEGIN:VEVENT
DTSTART;TZID=America/Indiana/Indianapolis:20220517T110000
DTEND;TZID=America/Indiana/Indianapolis:20220517T140000
DTSTAMP:20260419T140150
CREATED:20220314T081623Z
LAST-MODIFIED:20220314T081623Z
UID:4555-1652785200-1652796000@duncansupply.com
SUMMARY:Nu-Cal Counter Day - Terre Haute
DESCRIPTION:
URL:https://duncansupply.com/event/nu-cal-counter-day-th/
LOCATION:Terre Haute Branch\, 1000 E. Ohio St\, Terre Haute\, IN\, 47808\, United States
CATEGORIES:Counter Days
END:VEVENT
BEGIN:VEVENT
DTSTART;TZID=America/Indiana/Indianapolis:20220518T110000
DTEND;TZID=America/Indiana/Indianapolis:20220518T140000
DTSTAMP:20260419T140150
CREATED:20220310T153610Z
LAST-MODIFIED:20220310T153610Z
UID:4546-1652871600-1652882400@duncansupply.com
SUMMARY:Nu-Cal Counter Day - Fort Wayne
DESCRIPTION:
URL:https://duncansupply.com/event/nu-cal-counter-day-fort-wayne/
LOCATION:Branch Locations
CATEGORIES:Counter Days
END:VEVENT
BEGIN:VEVENT
DTSTART;TZID=America/Indiana/Indianapolis:20220525T100000
DTEND;TZID=America/Indiana/Indianapolis:20220525T140000
DTSTAMP:20260419T140150
CREATED:20220124T154955Z
LAST-MODIFIED:20220124T154955Z
UID:4342-1653472800-1653487200@duncansupply.com
SUMMARY:J/B Pump Clinic - Indianapolis
DESCRIPTION:
URL:https://duncansupply.com/event/j-b-pump-clinic-indianapolis-2/
LOCATION:Bloom
CATEGORIES:Counter Days
END:VEVENT
BEGIN:VEVENT
DTSTART;TZID=America/Indiana/Indianapolis:20220525T110000
DTEND;TZID=America/Indiana/Indianapolis:20220525T140000
DTSTAMP:20260419T140150
CREATED:20220311T111420Z
LAST-MODIFIED:20220311T111420Z
UID:4552-1653476400-1653487200@duncansupply.com
SUMMARY:Nu-Cal Counter Day - Mishawaka
DESCRIPTION:
URL:https://duncansupply.com/event/nu-cal-counter-day-mishawaka/
LOCATION:IN
CATEGORIES:Counter Days
END:VEVENT
BEGIN:VEVENT
DTSTART;TZID=America/Indiana/Indianapolis:20220526T100000
DTEND;TZID=America/Indiana/Indianapolis:20220526T140000
DTSTAMP:20260419T140150
CREATED:20220314T105002Z
LAST-MODIFIED:20220314T105002Z
UID:4563-1653559200-1653573600@duncansupply.com
SUMMARY:J/B Pump Clinic - Bloomington
DESCRIPTION:
URL:https://duncansupply.com/event/j-b-pump-clinic-bloomington/
LOCATION:Bloomington Branch\, 1204 N Loesch Rd\, Bloomington\, IN\, 47404\, United States
CATEGORIES:Counter Days
END:VEVENT
BEGIN:VEVENT
DTSTART;TZID=America/Indiana/Indianapolis:20220526T110000
DTEND;TZID=America/Indiana/Indianapolis:20220526T140000
DTSTAMP:20260419T140150
CREATED:20220314T100325Z
LAST-MODIFIED:20220314T100325Z
UID:4560-1653562800-1653573600@duncansupply.com
SUMMARY:Nu-Cal Counter Day - Muncie
DESCRIPTION:
URL:https://duncansupply.com/event/nu-cal-counter-day-muncie/
LOCATION:Muncie Branch\, 601 East 15th St\, Muncie\, IN\, 47302\, United States
CATEGORIES:Counter Days
END:VEVENT
END:VCALENDAR